Workbook
Name d_34K: DASH_HESAP!$I$2:$I$1001
Name d_34Y: DASH_HESAP!$J$2:$J$1001
Name d_Bos: DASH_HESAP!$M$2:$M$1001
Name d_Dahil: DASH_HESAP!$N$2:$N$1001
Name d_Duzey: DASH_HESAP!$C$2:$C$1001
Name d_Fak: DASH_HESAP!$D$2:$D$1001
Name d_FakKisa: DASH_HESAP!$R$2:$R$1001
Name d_Gecerli: DASH_HESAP!$A$2:$A$1001
Name d_GenK: DASH_HESAP!$G$2:$G$1001
Name d_GenY: DASH_HESAP!$H$2:$H$1001
Name d_KKTC: DASH_HESAP!$F$2:$F$1001
Name d_KKTCDahil: DASH_HESAP!$Q$2:$Q$1001
Name d_Kod: DASH_HESAP!$B$2:$B$1001
Name d_Prog: DASH_HESAP!$E$2:$E$1001
Name d_TamDolu: DASH_HESAP!$O$2:$O$1001
Name d_TopK: DASH_HESAP!$K$2:$K$1001
Name d_TopY: DASH_HESAP!$L$2:$L$1001
Name d_Yerlesmeyen: DASH_HESAP!$P$2:$P$1001
Name prm_Duzey: DASH_HESAP!$T$2
Name prm_Fak: DASH_HESAP!$T$3
Name prm_KKTC: DASH_HESAP!$T$5
Name prm_Prog: DASH_HESAP!$T$4

Sheet XLMind_DashMeta
A1: XLMind Dashboard | B1: {"Version":2,"DashboardId":"XLMind Dashboard","DashboardSheetName":"XLMind Dashboard","SourceSheetName":"Sayfa2","SourceRangeAddress":"$B$2:$N$156","TemplateId":"VIS-DASH-EXEC","ThemeId":"corporate-blue","SurfaceStyle":1,"HasHeader":true,"Sections":[2,4,5,11],"MappingColumns":[-1,0,7,6,5,9,10,-1],"SemanticProfiles":[{"ColumnIndex":0,"SemanticRole":2,"NumberFormatKind":0,"CurrencySymbol":"","MeasureSemantic":0,"SuggestedAggregation":0,"CanSum":false,"CanAverage":false,"CanMinMax":false,"CanTrend":false,"CanRank":true,"CanShare":true,"CanDelta":false,"Confidence":0.0,"IsUserOverridden":false},{"ColumnIndex":1,"SemanticRole":2,"NumberFormatKind":0,"CurrencySymbol":"","MeasureSemantic":0,"SuggestedAggregation":0,"CanSum":false,"CanAverage":false,"CanMinMax":false,"CanTrend":false,"CanRank":true,"CanShare":true,"CanDelta":false,"Confidence":0.0,"IsUserOverridden":false},{"ColumnIndex":2,"SemanticRole":2,"NumberFormatKind":0,"CurrencySymbol":"","MeasureSemantic":0,"SuggestedAggregation":0,"CanSum":false,"CanAverage":false,"CanMinMax":false,"CanTrend":false,"CanRank":true,"CanShare":true,"CanDelta":false,"Confidence":0.0,"IsUserOverridden":false},{"ColumnIndex":3,"SemanticRole":2,"NumberFormatKind":0,"CurrencySymbol":"","MeasureSemantic":0,"SuggestedAggregation":0,"CanSum":false,"CanAverage":false,"CanMinMax":false,"CanTrend":false,"CanRank":true,"CanShare":true,"CanDelta":false,"Confidence":0.0,"IsUserOverridden":false},{"ColumnIndex":4,"SemanticRole":2,"NumberFormatKind":0,"CurrencySymbol":"","MeasureSemantic":0,"SuggestedAggregation":0,"CanSum":false,"CanAverage":false,"CanMinMax":false,"CanTrend":false,"CanRank":true,"CanShare":true,"CanDelta":false,"Confidence":0.0,"IsUserOverridden":false},{"ColumnIndex":5,"SemanticRole":15,"NumberFormatKind":0,"CurrencySymbol":"","MeasureSemantic":1,"SuggestedAggregation":1,"CanSum":true,"CanAverage":true,"CanMinMax":true,"CanTrend":true,"CanRank":true,"CanShare":true,"CanDelta":true,"Confidence":0.5,"IsUserOverridden":false},{"ColumnIndex":6,"SemanticRole":15,"NumberFormatKind":0,"CurrencySymbol":"","MeasureSemantic":1,"SuggestedAggregation":1,"CanSum":true,"CanAverage":true,"CanMinMax":true,"CanTrend":true,"CanRank":true,"CanShare":true,"CanDelta":true,"Confidence":0.5,"IsUserOverridden":false},{"ColumnIndex":7,"SemanticRole":15,"NumberFormatKind":0,"CurrencySymbol":"","MeasureSemantic":12,"SuggestedAggregation":2,"CanSum":false,"CanAverage":true,"CanMinMax":true,"CanTrend":true,"CanRank":true,"CanShare":false,"CanDelta":true,"Confidence":0.85,"IsUserOverridden":false},{"ColumnIndex":8,"SemanticRole":15,"NumberFormatKind":0,"CurrencySymbol":"","MeasureSemantic":12,"SuggestedAggregation":2,"CanSum":false,"CanAverage":true,"CanMinMax":true,"CanTrend":true,"CanRank":true,"CanShare":false,"CanDelta":true,"Confidence":0.85,"IsUserOverridden":false},{"ColumnIndex":9,"SemanticRole":15,"NumberFormatKind":0,"CurrencySymbol":"","MeasureSemantic":1,"SuggestedAggregation":1,"CanSum":true,"CanAverage":true,"CanMinMax":true,"CanTrend":true,"CanRank":true,"CanShare":true,"CanDelta":true,"Confidence":0.5,"IsUserOverridden":false},{"ColumnIndex":10,"SemanticRole":15,"NumberFormatKind":0,"CurrencySymbol":"","MeasureSemantic":1,"SuggestedAggregation":1,"CanSum":true,"CanAverage":true,"CanMinMax":true,"CanTrend":true,"CanRank":true,"CanShare":true,"CanDelta":true,"Confidence":0.5,"IsUserOverridden":false},{"ColumnIndex":11,"SemanticRole":15,"NumberFormatKind":0,"CurrencySymbol":"","MeasureSemantic":12,"SuggestedAggregation":2,"CanSum":false,"CanAverage":true,"CanMinMax":true,"CanTrend":true,"CanRank":true,"CanShare":false,"CanDelta":true,"Confidence":0.85,"IsUserOverridden":false},{"ColumnIndex":12,"SemanticRole":15,"NumberFormatKind":0,"CurrencySymbol":"","MeasureSemantic":12,"SuggestedAggregation":2,"CanSum":false,"CanAverage":true,"CanMinMax":true,"CanTrend":true,"CanRank":true,"CanShare":false,"CanDelta":true,"Confidence":0.85,"IsUserOverridden":false}],"SheetTitle":"2026 YKS EK KONTENJAN İLE YERLEŞEN SONUÇLARININ ÖZETİ","GeneratedAt":"2026-09-28 21:17","FilterEnabled":true,"FilterColumnIndex":2,"FilterColumnName":"Fakülte/Yüksekokul Adı","FilterValueKind":0,"FilterIncludeAll":true,"FilterIncludeBlanks":true,"FilterDefaultValue":null,"FilterAllLabel":"Tümü","TriggerCellAddress":"B1","TriggerListRangeName":"XLMind_DashFilter","PrimaryShapeName":"XLMind_Dashboard_IMG","InsertWidthPt":620.0,"RendererType":"Picture","RefreshMode":"Auto"}

Sheet DATA
E1: Genel Ek Kontenjan | G1: 34 Yaş Üstü Kadın Ek Kontenjanı
A2: Program Kodu | B2: Eğitim Düzeyi | C2: Fakülte/Yüksekokul Adı | D2: Program Adı | E2: Kontenjan | F2: Yerleşen | G2: Kontenjan | H2: Yerleşen
A3: 102751021 | B3: ÖNLİSANS | C3: AYVACIK MESLEK YÜKSEKOKULU | D3: Bankacılık ve Sigortacılık | E3: 6 | F3: 6
A4: 102751269 | B4: ÖNLİSANS | C4: AYVACIK MESLEK YÜKSEKOKULU | D4: Geleneksel El Sanatları | E4: 4 | F4: 4
A5: 102750826 | B5: ÖNLİSANS | C5: AYVACIK MESLEK YÜKSEKOKULU | D5: İşletme Yönetimi | E5: 2 | F5: 2
A6: 102790173 | B6: ÖNLİSANS | C6: AYVACIK MESLEK YÜKSEKOKULU | D6: Turist Rehberliği | E6: 8 | F6: 3 | G6: 2 | H6: 2
A7: 102750156 | B7: ÖNLİSANS | C7: AYVACIK MESLEK YÜKSEKOKULU | D7: Turizm ve Otel İşletmeciliği | E7: 4 | F7: 4
A8: 102790172 | B8: ÖNLİSANS | C8: BAYRAMİÇ MESLEK YÜKSEKOKULU | D8: Çocuk Gelişimi | E8: 4 | F8: 4 | G8: 1 | H8: 1
A9: 102751339 | B9: ÖNLİSANS | C9: BAYRAMİÇ MESLEK YÜKSEKOKULU | D9: Halkla İlişkiler ve Tanıtım | E9: 10 | F9: 10
A10: 102790211 | B10: ÖNLİSANS | C10: BAYRAMİÇ MESLEK YÜKSEKOKULU | D10: Laboratuvar Teknolojisi | E10: 9 | F10: 9 | G10: 1 | H10: 1
A11: 102790212 | B11: ÖNLİSANS | C11: BAYRAMİÇ MESLEK YÜKSEKOKULU | D11: Ormancılık ve Orman Ürünleri | E11: 3 | F11: 2
A12: 102750208 | B12: ÖNLİSANS | C12: BİGA MESLEK YÜKSEKOKULU | D12: Elektrik | E12: 2 | F12: 2
A13: 102751375 | B13: ÖNLİSANS | C13: BİGA MESLEK YÜKSEKOKULU | D13: Elektrik Enerjisi Üretim, İletim ve Dağıtımı | E13: 1 | F13: 1 | G13: 1 | H13: 1
A14: 102751515 | B14: ÖNLİSANS | C14: BİGA MESLEK YÜKSEKOKULU | D14: Elektrik Enerjisi Üretim, İletim ve Dağıtımı (KKTC Uyruklu) | E14: 1 | F14: 0
A15: 102751012 | B15: ÖNLİSANS | C15: BİGA MESLEK YÜKSEKOKULU | D15: Gıda Teknolojisi | E15: 3 | F15: 3
A16: 102751003 | B16: ÖNLİSANS | C16: BİGA MESLEK YÜKSEKOKULU | D16: İşletme Yönetimi | E16: 4 | F16: 4
A17: 102750226 | B17: ÖNLİSANS | C17: BİGA MESLEK YÜKSEKOKULU | D17: Kooperatifçilik | E17: 10 | F17: 10
A18: 102750235 | B18: ÖNLİSANS | C18: BİGA MESLEK YÜKSEKOKULU | D18: Makine | E18: 2 | F18: 2
A19: 102790364 | B19: ÖNLİSANS | C19: BİGA MESLEK YÜKSEKOKULU | D19: Mobilya ve Dekorasyon | E19: 8 | F19: 8
A20: 102750747 | B20: ÖNLİSANS | C20: BİGA MESLEK YÜKSEKOKULU | D20: Muhasebe ve Vergi Uygulamaları | E20: 3 | F20: 3
A21: 102750808 | B21: ÖNLİSANS | C21: BİGA MESLEK YÜKSEKOKULU | D21: Otomotiv Teknolojisi | E21: 6 | F21: 1 | G21: 1 | H21: 1
A22: 102750271 | B22: ÖNLİSANS | C22: BİGA MESLEK YÜKSEKOKULU | D22: Pazarlama | E22: 4 | F22: 4
A23: 102750695 | B23: ÖNLİSANS | C23: BİGA MESLEK YÜKSEKOKULU | D23: Süt ve Ürünleri Teknolojisi | E23: 6 | F23: 6
A24: 102790539 | B24: ÖNLİSANS | C24: BİGA MESLEK YÜKSEKOKULU | D24: Yenilenebilir Enerji Teknikerliği | E24: 3 | F24: 3
A25: 102790218 | B25: ÖNLİSANS | C25: ÇAN MESLEK YÜKSEKOKULU | D25: Alternatif Enerji Kaynakları Teknolojisi | E25: 5 | F25: 5
A26: 102751303 | B26: ÖNLİSANS | C26: ÇAN MESLEK YÜKSEKOKULU | D26: Biyomedikal Cihaz Teknolojisi | E26: 2 | F26: 2 | G26: 1 | H26: 1
A27: 102751172 | B27: ÖNLİSANS | C27: ÇAN MESLEK YÜKSEKOKULU | D27: Elektrik Enerjisi Üretim, İletim ve Dağıtımı | E27: 4 | F27: 4 | G27: 1 | H27: 1
A28: 102751066 | B28: ÖNLİSANS | C28: ÇAN MESLEK YÜKSEKOKULU | D28: Elektronik Teknolojisi | E28: 5 | F28: 3 | G28: 1 | H28: 1
A29: 102751296 | B29: ÖNLİSANS | C29: ÇAN MESLEK YÜKSEKOKULU | D29: Enerji Tesisleri İşletmeciliği | E29: 5 | F29: 5 | G29: 1 | H29: 1
A30: 102790546 | B30: ÖNLİSANS | C30: ÇAN MESLEK YÜKSEKOKULU | D30: Karbon Yönetimi Teknikerliği | E30: 6 | F30: 6
A31: 102750332 | B31: ÖNLİSANS | C31: ÇAN MESLEK YÜKSEKOKULU | D31: Lojistik | E31: 11 | F31: 7 | G31: 1 | H31: 1
A32: 102790234 | B32: ÖNLİSANS | C32: ÇAN MESLEK YÜKSEKOKULU | D32: Madencilik Teknolojisi | E32: 4 | F32: 4 | G32: 1 | H32: 1
A33: 102750323 | B33: ÖNLİSANS | C33: ÇAN MESLEK YÜKSEKOKULU | D33: Mekatronik | E33: 7 | F33: 6 | G33: 2 | H33: 2
A34: 102751278 | B34: ÖNLİSANS | C34: ÇAN MESLEK YÜKSEKOKULU | D34: Mimari Dekoratif Sanatlar | E34: 20 | F34: 20
A35: 102751057 | B35: ÖNLİSANS | C35: ÇAN MESLEK YÜKSEKOKULU | D35: Muhasebe ve Vergi Uygulamaları | E35: 3 | F35: 3
A36: 102751551 | B36: ÖNLİSANS | C36: ÇAN MESLEK YÜKSEKOKULU | D36: Sondaj Teknolojisi | E36: 5 | F36: 5
A37: 102790308 | B37: ÖNLİSANS | C37: ÇANAKKALE SAĞLIK HİZMETLERİ MESLEK YÜKSEKOKULU | D37: Eczane Hizmetleri | E37: 1 | F37: 1
A38: 102790553 | B38: ÖNLİSANS | C38: ÇANAKKALE SAĞLIK HİZMETLERİ MESLEK YÜKSEKOKULU | D38: Eczane Hizmetleri (KKTC Uyruklu) | E38: 1 | F38: 0
A39: 102751321 | B39: ÖNLİSANS | C39: ÇANAKKALE SAĞLIK HİZMETLERİ MESLEK YÜKSEKOKULU | D39: Elektronörofizyoloji | E39: 2 | F39: 2
A40: 102750941 | B40: ÖNLİSANS | C40: ÇANAKKALE SAĞLIK HİZMETLERİ MESLEK YÜKSEKOKULU | D40: Tıbbi Laboratuvar Teknikleri | E40: 2 | F40: 2
...

Sheet DASHBOARD
B2: 2026 YKS-EK KONTENJAN YERLEŞEN SAYILARI DASHBOARD - ÇANAKKALE ONSEKİZ MART ÜNİVERSİTESİ
B3: 2026 YKS Ek Kontenjan — Kontenjan ve Yerleşen Sayıları | Kaynak: Sayfa2 (Genel Ek Kontenjan + 34 Yaş Üstü Kadın Ek Kontenjanı)
B5: FİLTRELER / SEÇİMLER
B6: EĞİTİM DÜZEYİ | E6: FAKÜLTE / YÜKSEKOKUL | K6: PROGRAM ADI | Q6: KKTC Uyruklu Kontenjanı
B7: Tümü | E7: Tümü | K7: Tümü | Q7: FALSE | R7: =IF(prm_KKTC,"Dahil ediliyor","Hariç tutuluyor") -> Hariç tutuluyor
B8: ="Aktif filtre: "&prm_Duzey&" › "&prm_Fak&" › "&prm_Prog&IF(SUM(d_Dahil)=0," ⚠ Bu seçim kombinasyonunda kayıt yok — alt filtreleri 'Tümü' yapın.","") -> Aktif filtre: Tümü › Tümü › Tümü
B10: TEMEL GÖSTERGELER (KPI)
B12: PROGRAM SAYISI | E12: BENZERSİZ PROGRAM ADI | H12: FAKÜLTE / YO / MYO SAYISI | K12: TOPLAM KONTENJAN | N12: TOPLAM YERLEŞEN | Q12: EK KONTENJAN DOLULUK ORANI
B13: =SUM(d_Dahil) -> 146 | E13: {=IF(SUM(d_Dahil)=0,0,ROWS(_xlfn.UNIQUE(_xlfn._xlws.FILTER(d_Prog,d_Dahil=1))))} -> 117 | H13: {=IF(SUM(d_Dahil)=0,0,ROWS(_xlfn.UNIQUE(_xlfn._xlws.FILTER(d_Fak,d_Dahil=1))))} -> 30 | K13: =SUMIFS(d_TopK,d_Dahil,1) -> 653 | N13: =SUMIFS(d_TopY,d_Dahil,1) -> 523 | Q13: =IFERROR(SUMIFS(d_TopY,d_Dahil,1)/SUMIFS(d_TopK,d_Dahil,1),0) -> 0.80091884
B14: ="Kayıt bazında · veride toplam "&SUM(d_Gecerli) -> Kayıt bazında · veride toplam 154 | E14: ="Farklı program adı" -> Farklı program adı | H14: ="Akademik birim" -> Akademik birim | K14: ="Genel + 34 Yaş Üstü Kadın" -> Genel + 34 Yaş Üstü Kadın | N14: ="Genel + 34 Yaş Üstü Kadın" -> Genel + 34 Yaş Üstü Kadın | Q14: ="Yerleşen / Kontenjan" -> Yerleşen / Kontenjan
B17: GENEL EK KONTENJAN | E17: 34 YAŞ ÜSTÜ KADIN KONTENJANI | H17: BOŞ KALAN KONTENJAN | K17: TAM DOLAN PROGRAM | N17: YERLEŞEN OLMAYAN PROGRAM | Q17: KKTC UYRUKLU PROGRAM
B18: =SUMIFS(d_GenK,d_Dahil,1) -> 602 | E18: =SUMIFS(d_34K,d_Dahil,1) -> 51 | H18: =SUMIFS(d_Bos,d_Dahil,1) -> 130 | K18: =SUM(d_TamDolu) -> 104 | N18: =SUM(d_Yerlesmeyen) -> 10 | Q18: =SUM(d_KKTCDahil) -> 0
B19: ="Yerleşen: "&SUMIFS(d_GenY,d_Dahil,1)&" (%"&FIXED(IFERROR(SUMIFS(d_GenY,d_Dahil,1)/SUMIFS(d_GenK,d_Dahil,1),0)*100,1)&")" -> Yerleşen: 475 (%78,9) | E19: ="Yerleşen: "&SUMIFS(d_34Y,d_Dahil,1)&" (%"&FIXED(IFERROR(SUMIFS(d_34Y,d_Dahil,1)/SUMIFS(d_34K,d_Dahil,1),0)*100,1)&")" -> Yerleşen: 48 (%94,1) | H19: ="Boş oran: %"&FIXED(IFERROR(SUMIFS(d_Bos,d_Dahil,1)/SUMIFS(d_TopK,d_Dahil,1),0)*100,1) -> Boş oran: %19,9 | K19: ="Yerleşen ≥ kontenjan" -> Yerleşen ≥ kontenjan | N19: ="Kontenjan var, yerleşen yok" -> Kontenjan var, yerleşen yok | Q19: =IF(prm_KKTC,"Dahil · veride toplam ","Hariç tutuluyor · veride ")&COUNTIF(d_KKTC,"EVET") -> Hariç tutuluyor · veride 8
B21: GRAFİKLER VE ANALİZLER
B65: ÖZET TABLO — FAKÜLTE / YÜKSEKOKUL BAZINDA (kontenjana göre sıralı)
B66: Fakülte / Yüksekokul | G66: Eğitim Düzeyi | I66: Program | K66: Kontenjan | M66: Yerleşen | O66: Boş | Q66: Doluluk
B67: {=_xlfn.ANCHORARRAY(DASH_HESAP!$Z$2)} -> ÇAN MESLEK YÜKSEKOKULU | G67: {=IF(_xlfn.ANCHORARRAY(B67)="","",INDEX(d_Duzey,MATCH(_xlfn.ANCHORARRAY(B67),d_Fak,0)))} -> ÖNLİSANS | J67: {=IF(_xlfn.ANCHORARRAY(B67)="","",COUNTIFS(d_Fak,_xlfn.ANCHORARRAY(B67),d_Dahil,1))} -> 12 | L67: {=IF(_xlfn.ANCHORARRAY(B67)="","",SUMIFS(d_TopK,d_Fak,_xlfn.ANCHORARRAY(B67),d_Dahil,1))} -> 85 | N67: {=IF(_xlfn.ANCHORARRAY(B67)="","",SUMIFS(d_TopY,d_Fak,_xlfn.ANCHORARRAY(B67),d_Dahil,1))} -> 78 | P67: {=IF(_xlfn.ANCHORARRAY(B67)="","",SUMIFS(d_Bos,d_Fak,_xlfn.ANCHORARRAY(B67),d_Dahil,1))} -> 7 | S67: {=IF(_xlfn.ANCHORARRAY(B67)="","",IFERROR(_xlfn.ANCHORARRAY(N67)/_xlfn.ANCHORARRAY(L67),0))} -> 0.91764706
B68: YENİCE MESLEK YÜKSEKOKULU | G68: ÖNLİSANS | J68: 7 | L68: 65 | N68: 49 | P68: 16 | S68: 0.75384615
B69: BİGA MESLEK YÜKSEKOKULU | G69: ÖNLİSANS | J69: 12 | L69: 54 | N69: 49 | P69: 5 | S69: 0.90740741
B70: ÇANAKKALE TEKNİK BİLİMLER MESLEK YÜKSEKOKULU | G70: ÖNLİSANS | J70: 14 | L70: 50 | N70: 32 | P70: 18 | S70: 0.64
B71: EZİNE GIDA İHTİSAS ORGANİZE SANAYİ BÖLGESİ MESLEK YÜKSEKOKULU | G71: ÖNLİSANS | J71: 9 | L71: 48 | N71: 48 | P71: 0 | S71: 1
B72: LAPSEKİ MESLEK YÜKSEKOKULU | G72: ÖNLİSANS | J72: 9 | L72: 44 | N72: 41 | P72: 3 | S72: 0.93181818
B73: EĞİTİM FAKÜLTESİ | G73: LİSANS | J73: 7 | L73: 29 | N73: 8 | P73: 21 | S73: 0.27586207
B74: BAYRAMİÇ MESLEK YÜKSEKOKULU | G74: ÖNLİSANS | J74: 4 | L74: 28 | N74: 27 | P74: 1 | S74: 0.96428571
B75: AYVACIK MESLEK YÜKSEKOKULU | G75: ÖNLİSANS | J75: 5 | L75: 26 | N75: 21 | P75: 5 | S75: 0.80769231
B76: GELİBOLU PİRİ REİS MESLEK YÜKSEKOKULU | G76: ÖNLİSANS | J76: 4 | L76: 25 | N76: 15 | P76: 10 | S76: 0.6
B77: GÖKÇEADA MESLEK YÜKSEKOKULU | G77: ÖNLİSANS | J77: 4 | L77: 25 | N77: 23 | P77: 2 | S77: 0.92
B78: BİGA İKTİSADİ VE İDARİ BİLİMLER FAKÜLTESİ | G78: LİSANS | J78: 7 | L78: 24 | N78: 23 | P78: 1 | S78: 0.95833333
B79: ÇANAKKALE SOSYAL BİLİMLER MESLEK YÜKSEKOKULU | G79: ÖNLİSANS | J79: 4 | L79: 24 | N79: 18 | P79: 6 | S79: 0.75
... B96: MİMARLIK VE TASARIM FAKÜLTESİ | G96: LİSANS | J96: 1 | L96: 1 | N96: 1 | P96: 0 | S96: 1
B99: PROGRAM DETAY LİSTESİ (seçili filtrelere göre)
B100: Program Adı | F100: Fakülte / Yüksekokul | K100: Eğitim Düzeyi | M100: KKTC | O100: Kontenjan | P100: Yerleşen | Q100: Boş | R100: Doluluk
B101: {=IF(_xlfn.ANCHORARRAY(DASH_HESAP!$AU$2)="","",INDEX(d_Prog,_xlfn.ANCHORARRAY(DASH_HESAP!$AU$2)))} -> Bankacılık ve Sigortacılık | F101: {=IF(_xlfn.ANCHORARRAY(DASH_HESAP!$AU$2)="","",INDEX(d_FakKisa,_xlfn.ANCHORARRAY(DASH_HESAP!$AU$2)))} -> AYVACIK MYO | K101: {=IF(_xlfn.ANCHORARRAY(DASH_HESAP!$AU$2)="","",INDEX(d_Duzey,_xlfn.ANCHORARRAY(DASH_HESAP!$AU$2)))} -> ÖNLİSANS | M101: {=IF(_xlfn.ANCHORARRAY(DASH_HESAP!$AU$2)="","",INDEX(d_KKTC,_xlfn.ANCHORARRAY(DASH_HESAP!$AU$2)))} -> HAYIR | O101: {=IF(_xlfn.ANCHORARRAY(DASH_HESAP!$AU$2)="","",INDEX(d_TopK,_xlfn.ANCHORARRAY(DASH_HESAP!$AU$2)))} -> 6 | P101: {=IF(_xlfn.ANCHORARRAY(DASH_HESAP!$AU$2)="","",INDEX(d_TopY,_xlfn.ANCHORARRAY(DASH_HESAP!$AU$2)))} -> 6 | Q101: {=IF(_xlfn.ANCHORARRAY(DASH_HESAP!$AU$2)="","",INDEX(d_Bos,_xlfn.ANCHORARRAY(DASH_HESAP!$AU$2)))} -> 0 | S101: {=IF(_xlfn.ANCHORARRAY(DASH_HESAP!$AU$2)="","",IFERROR(_xlfn.ANCHORARRAY(P101)/_xlfn.ANCHORARRAY(O101),0))} -> 1
B102: Geleneksel El Sanatları | F102: AYVACIK MYO | K102: ÖNLİSANS | M102: HAYIR | O102: 4 | P102: 4 | Q102: 0 | S102: 1
B103: İşletme Yönetimi | F103: AYVACIK MYO | K103: ÖNLİSANS | M103: HAYIR | O103: 2 | P103: 2 | Q103: 0 | S103: 1
B104: Turist Rehberliği | F104: AYVACIK MYO | K104: ÖNLİSANS | M104: HAYIR | O104: 10 | P104: 5 | Q104: 5 | S104: 0.5
B105: Turizm ve Otel İşletmeciliği | F105: AYVACIK MYO | K105: ÖNLİSANS | M105: HAYIR | O105: 4 | P105: 4 | Q105: 0 | S105: 1
B106: Çocuk Gelişimi | F106: BAYRAMİÇ MYO | K106: ÖNLİSANS | M106: HAYIR | O106: 5 | P106: 5 | Q106: 0 | S106: 1
B107: Halkla İlişkiler ve Tanıtım | F107: BAYRAMİÇ MYO | K107: ÖNLİSANS | M107: HAYIR | O107: 10 | P107: 10 | Q107: 0 | S107: 1
B108: Laboratuvar Teknolojisi | F108: BAYRAMİÇ MYO | K108: ÖNLİSANS | M108: HAYIR | O108: 10 | P108: 10 | Q108: 0 | S108: 1
...

Sheet DASH_HESAP
A1: Geçerli | B1: Program Kodu | C1: Eğitim Düzeyi | D1: Fakülte/Yüksekokul | E1: Program Adı | F1: KKTC_PROGRAMI | G1: Genel Kontenjan | H1: Genel Yerleşen | I1: 34+ Kadın Kontenjan | J1: 34+ Kadın Yerleşen | K1: Toplam Kontenjan | L1: Toplam Yerleşen | M1: Boş Kontenjan | N1: Dahil (Filtre) | O1: Tam Dolu | P1: Yerleşen Yok | Q1: KKTC Dahil | R1: Fakülte (Kısa) | S1: PARAMETRE | T1: DEĞER | V1: Tümü | W1: Tümü | X1: Tümü | Z1: Fakülte (sıralı) | AB1: Fakülte | AC1: Etiket | AD1: Kontenjan | AE1: Yerleşen | AG1: Eğitim Düzeyi | AH1: Kontenjan | AI1: Yerleşen | AK1: Kontenjan Türü | AL1: Kontenjan | AM1: Yerleşen | AO1: Program (sıralı) | AQ1: Program | AR1: Kontenjan | AS1: Yerleşen | AU1: Detay satır sırası
A2: =IF(AND(DATA!A3<>"",TRIM(DATA!D3)<>""),1,0) -> 1 | B2: =IF(A2=1,DATA!A3,"") -> 102751021 | C2: =IF(A2=1,TRIM(DATA!B3),"") -> ÖNLİSANS | D2: =IF(A2=1,TRIM(DATA!C3),"") -> AYVACIK MESLEK YÜKSEKOKULU | E2: =IF(A2=1,TRIM(DATA!D3),"") -> Bankacılık ve Sigortacılık | F2: =IF(A2=1,IF(ISNUMBER(SEARCH("KKTC Uyruklu",E2)),"EVET","HAYIR"),"") -> HAYIR | G2: =A2*N(DATA!E3) -> 6 | H2: =A2*N(DATA!F3) -> 6 | I2: =A2*N(DATA!G3) -> 0 | J2: =A2*N(DATA!H3) -> 0 | K2: =G2+I2 -> 6 | L2: =H2+J2 -> 6 | M2: =MAX(0,K2-L2) -> 0 | N2: =A2*IF(F2="EVET",--prm_KKTC,1)*OR(prm_Duzey="Tümü",C2=prm_Duzey)*OR(prm_Fak="Tümü",D2=prm_Fak)*OR(prm_Prog="Tümü",E2=prm_Prog) -> 1 | O2: =N2*(K2>0)*(L2>=K2) -> 1 | P2: =N2*(K2>0)*(L2=0) -> 0 | Q2: =N2*(F2="EVET") -> 0 | R2: =IF(D2="","",SUBSTITUTE(SUBSTITUTE(SUBSTITUTE(SUBSTITUTE(SUBSTITUTE(SUBSTITUTE(D2,"İKTİSADİ VE İDARİ BİLİMLER FAKÜLTESİ","İİBF"),"ORGANİZE SANAYİ BÖLGESİ","OSB"),"MESLEK YÜKSEKOKULU","MYO"),"UYGULAMALI BİLİMLER","UB"),"FAKÜLTESİ","FAK."),"YÜKSEKOKULU","YO")) -> AYVACIK MYO | S2: Eğitim Düzeyi | T2: =IF(DASHBOARD!B7="","Tümü",DASHBOARD!B7) -> Tümü | V2: {=_xlfn._xlws.SORT(_xlfn.UNIQUE(_xlfn._xlws.FILTER(d_Duzey,d_Gecerli=1,"")))} -> LİSANS | W2: {=_xlfn._xlws.SORT(_xlfn.UNIQUE(_xlfn._xlws.FILTER(d_Fak,(d_Gecerli=1)*((prm_Duzey="Tümü")+(d_Duzey=prm_Duzey)>0)*((d_KKTC="HAYIR")+prm_KKTC>0),"")))} -> AYVACIK MESLEK YÜKSEKOKULU | X2: {=_xlfn._xlws.SORT(_xlfn.UNIQUE(_xlfn._xlws.FILTER(d_Prog,(d_Gecerli=1)*((prm_Duzey="Tümü")+(d_Duzey=prm_Duzey)>0)*((prm_Fak="Tümü")+(d_Fak=prm_Fak)>0)*((d_KKTC="HAYIR")+prm_KKTC>0),"")))} -> Acil Yardım ve Afet Yönetimi | Z2: {=IF(SUM(d_Dahil)=0,"",_xlfn.LET(_xlpm.f,_xlfn.UNIQUE(_xlfn._xlws.FILTER(d_Fak,d_Dahil=1)),_xlpm.k,SUMIFS(d_TopK,d_Fak,_xlpm.f,d_Dahil,1),_xlfn.SORTBY(_xlpm.f,_xlpm.k,-1,_xlpm.f,1)))} -> ÇAN MESLEK YÜKSEKOKULU | AB2: {=IFERROR(""&INDEX(_xlfn.ANCHORARRAY($Z$2),ROWS(AB$2:AB2)),"")} -> ÇAN MESLEK YÜKSEKOKULU | AC2: =IF(AB2="","",SUBSTITUTE(SUBSTITUTE(SUBSTITUTE(SUBSTITUTE(SUBSTITUTE(SUBSTITUTE(AB2,"İKTİSADİ VE İDARİ BİLİMLER FAKÜLTESİ","İİBF"),"ORGANİZE SANAYİ BÖLGESİ","OSB"),"MESLEK YÜKSEKOKULU","MYO"),"UYGULAMALI BİLİMLER","UB"),"FAKÜLTESİ","FAK."),"YÜKSEKOKULU","YO")) -> ÇAN MYO | AD2: =IF(AB2="",0,SUMIFS(d_TopK,d_Fak,AB2,d_Dahil,1)) -> 85 | AE2: =IF(AB2="",0,SUMIFS(d_TopY,d_Fak,AB2,d_Dahil,1)) -> 78 | AG2: {=IFERROR(""&INDEX(_xlfn.ANCHORARRAY($V$2),ROWS(AG$2:AG2)),"")} -> LİSANS | AH2: =IF(AG2="",0,SUMIFS(d_TopK,d_Duzey,AG2,d_Dahil,1)) -> 152 | AI2: =IF(AG2="",0,SUMIFS(d_TopY,d_Duzey,AG2,d_Dahil,1)) -> 107 | AK2: Genel Ek Kontenjan | AL2: =SUMIFS(d_GenK,d_Dahil,1) -> 602 | AM2: =SUMIFS(d_GenY,d_Dahil,1) -> 475 | AO2: {=IF(SUM(d_Dahil)=0,"",_xlfn.LET(_xlpm.p,_xlfn.UNIQUE(_xlfn._xlws.FILTER(d_Prog,d_Dahil=1)),_xlpm.k,SUMIFS(d_TopK,d_Prog,_xlpm.p,d_Dahil,1),_xlfn.SORTBY(_xlpm.p,_xlpm.k,-1,_xlpm.p,1)))} -> Halkla İlişkiler ve Tanıtım | AQ2: {=IFERROR(""&INDEX(_xlfn.ANCHORARRAY($AO$2),ROWS(AQ$2:AQ2)),"")} -> Halkla İlişkiler ve Tanıtım | AR2: =IF(AQ2="",0,SUMIFS(d_TopK,d_Prog,AQ2,d_Dahil,1)) -> 36 | AS2: =IF(AQ2="",0,SUMIFS(d_TopY,d_Prog,AQ2,d_Dahil,1)) -> 35 | AU2: {=IF(SUM(d_Dahil)=0,"",_xlfn.LET(_xlpm.r,_xlfn._xlws.FILTER(_xlfn.SEQUENCE(ROWS(d_Dahil)),d_Dahil=1),_xlfn.SORTBY(_xlpm.r,INDEX(d_Fak,_xlpm.r),1,INDEX(d_Prog,_xlpm.r),1)))} -> 1
A3: =IF(AND(DATA!A4<>"",TRIM(DATA!D4)<>""),1,0) -> 1 | B3: =IF(A3=1,DATA!A4,"") -> 102751269 | C3: =IF(A3=1,TRIM(DATA!B4),"") -> ÖNLİSANS | D3: =IF(A3=1,TRIM(DATA!C4),"") -> AYVACIK MESLEK YÜKSEKOKULU | E3: =IF(A3=1,TRIM(DATA!D4),"") -> Geleneksel El Sanatları | F3: =IF(A3=1,IF(ISNUMBER(SEARCH("KKTC Uyruklu",E3)),"EVET","HAYIR"),"") -> HAYIR | G3: =A3*N(DATA!E4) -> 4 | H3: =A3*N(DATA!F4) -> 4 | I3: =A3*N(DATA!G4) -> 0 | J3: =A3*N(DATA!H4) -> 0 | K3: =G3+I3 -> 4 | L3: =H3+J3 -> 4 | M3: =MAX(0,K3-L3) -> 0 | N3: =A3*IF(F3="EVET",--prm_KKTC,1)*OR(prm_Duzey="Tümü",C3=prm_Duzey)*OR(prm_Fak="Tümü",D3=prm_Fak)*OR(prm_Prog="Tümü",E3=prm_Prog) -> 1 | O3: =N3*(K3>0)*(L3>=K3) -> 1 | P3: =N3*(K3>0)*(L3=0) -> 0 | Q3: =N3*(F3="EVET") -> 0 | R3: =IF(D3="","",SUBSTITUTE(SUBSTITUTE(SUBSTITUTE(SUBSTITUTE(SUBSTITUTE(SUBSTITUTE(D3,"İKTİSADİ VE İDARİ BİLİMLER FAKÜLTESİ","İİBF"),"ORGANİZE SANAYİ BÖLGESİ","OSB"),"MESLEK YÜKSEKOKULU","MYO"),"UYGULAMALI BİLİMLER","UB"),"FAKÜLTESİ","FAK."),"YÜKSEKOKULU","YO")) -> AYVACIK MYO | S3: Fakülte/Yüksekokul | T3: =IF(DASHBOARD!E7="","Tümü",DASHBOARD!E7) -> Tümü | V3: ÖNLİSANS | W3: BAYRAMİÇ MESLEK YÜKSEKOKULU | X3: Akıllı Tarım ve Gıda Yönetimi | Z3: YENİCE MESLEK YÜKSEKOKULU | AB3: {=IFERROR(""&INDEX(_xlfn.ANCHORARRAY($Z$2),ROWS(AB$2:AB3)),"")} -> YENİCE MESLEK YÜKSEKOKULU | AC3: =IF(AB3="","",SUBSTITUTE(SUBSTITUTE(SUBSTITUTE(SUBSTITUTE(SUBSTITUTE(SUBSTITUTE(AB3,"İKTİSADİ VE İDARİ BİLİMLER FAKÜLTESİ","İİBF"),"ORGANİZE SANAYİ BÖLGESİ","OSB"),"MESLEK YÜKSEKOKULU","MYO"),"UYGULAMALI BİLİMLER","UB"),"FAKÜLTESİ","FAK."),"YÜKSEKOKULU","YO")) -> YENİCE MYO | AD3: =IF(AB3="",0,SUMIFS(d_TopK,d_Fak,AB3,d_Dahil,1)) -> 65 | AE3: =IF(AB3="",0,SUMIFS(d_TopY,d_Fak,AB3,d_Dahil,1)) -> 49 | AG3: {=IFERROR(""&INDEX(_xlfn.ANCHORARRAY($V$2),ROWS(AG$2:AG3)),"")} -> ÖNLİSANS | AH3: =IF(AG3="",0,SUMIFS(d_TopK,d_Duzey,AG3,d_Dahil,1)) -> 501 | AI3: =IF(AG3="",0,SUMIFS(d_TopY,d_Duzey,AG3,d_Dahil,1)) -> 416 | AK3: 34 Yaş Üstü Kadın Ek Kontenjanı | AL3: =SUMIFS(d_34K,d_Dahil,1) -> 51 | AM3: =SUMIFS(d_34Y,d_Dahil,1) -> 48 | AO3: Mimari Dekoratif Sanatlar | AQ3: {=IFERROR(""&INDEX(_xlfn.ANCHORARRAY($AO$2),ROWS(AQ$2:AQ3)),"")} -> Mimari Dekoratif Sanatlar | AR3: =IF(AQ3="",0,SUMIFS(d_TopK,d_Prog,AQ3,d_Dahil,1)) -> 32 | AS3: =IF(AQ3="",0,SUMIFS(d_TopY,d_Prog,AQ3,d_Dahil,1)) -> 32 | AU3: 2
A4: =IF(AND(DATA!A5<>"",TRIM(DATA!D5)<>""),1,0) -> 1 | B4: =IF(A4=1,DATA!A5,"") -> 102750826 | C4: =IF(A4=1,TRIM(DATA!B5),"") -> ÖNLİSANS | D4: =IF(A4=1,TRIM(DATA!C5),"") -> AYVACIK MESLEK YÜKSEKOKULU | E4: =IF(A4=1,TRIM(DATA!D5),"") -> İşletme Yönetimi | F4: =IF(A4=1,IF(ISNUMBER(SEARCH("KKTC Uyruklu",E4)),"EVET","HAYIR"),"") -> HAYIR | G4: =A4*N(DATA!E5) -> 2 | H4: =A4*N(DATA!F5) -> 2 | I4: =A4*N(DATA!G5) -> 0 | J4: =A4*N(DATA!H5) -> 0 | K4: =G4+I4 -> 2 | L4: =H4+J4 -> 2 | M4: =MAX(0,K4-L4) -> 0 | N4: =A4*IF(F4="EVET",--prm_KKTC,1)*OR(prm_Duzey="Tümü",C4=prm_Duzey)*OR(prm_Fak="Tümü",D4=prm_Fak)*OR(prm_Prog="Tümü",E4=prm_Prog) -> 1 | O4: =N4*(K4>0)*(L4>=K4) -> 1 | P4: =N4*(K4>0)*(L4=0) -> 0 | Q4: =N4*(F4="EVET") -> 0 | R4: =IF(D4="","",SUBSTITUTE(SUBSTITUTE(SUBSTITUTE(SUBSTITUTE(SUBSTITUTE(SUBSTITUTE(D4,"İKTİSADİ VE İDARİ BİLİMLER FAKÜLTESİ","İİBF"),"ORGANİZE SANAYİ BÖLGESİ","OSB"),"MESLEK YÜKSEKOKULU","MYO"),"UYGULAMALI BİLİMLER","UB"),"FAKÜLTESİ","FAK."),"YÜKSEKOKULU","YO")) -> AYVACIK MYO | S4: Program Adı | T4: =IF(DASHBOARD!K7="","Tümü",DASHBOARD!K7) -> Tümü | W4: BİGA İKTİSADİ VE İDARİ BİLİMLER FAKÜLTESİ | X4: Alternatif Enerji Kaynakları Teknolojisi | Z4: BİGA MESLEK YÜKSEKOKULU | AB4: {=IFERROR(""&INDEX(_xlfn.ANCHORARRAY($Z$2),ROWS(AB$2:AB4)),"")} -> BİGA MESLEK YÜKSEKOKULU | AC4: =IF(AB4="","",SUBSTITUTE(SUBSTITUTE(SUBSTITUTE(SUBSTITUTE(SUBSTITUTE(SUBSTITUTE(AB4,"İKTİSADİ VE İDARİ BİLİMLER FAKÜLTESİ","İİBF"),"ORGANİZE SANAYİ BÖLGESİ","OSB"),"MESLEK YÜKSEKOKULU","MYO"),"UYGULAMALI BİLİMLER","UB"),"FAKÜLTESİ","FAK."),"YÜKSEKOKULU","YO")) -> BİGA MYO | AD4: =IF(AB4="",0,SUMIFS(d_TopK,d_Fak,AB4,d_Dahil,1)) -> 54 | AE4: =IF(AB4="",0,SUMIFS(d_TopY,d_Fak,AB4,d_Dahil,1)) -> 49 | AG4: {=IFERROR(""&INDEX(_xlfn.ANCHORARRAY($V$2),ROWS(AG$2:AG4)),"")} | AH4: =IF(AG4="",0,SUMIFS(d_TopK,d_Duzey,AG4,d_Dahil,1)) -> 0 | AI4: =IF(AG4="",0,SUMIFS(d_TopY,d_Duzey,AG4,d_Dahil,1)) -> 0 | AO4: Lojistik | AQ4: {=IFERROR(""&INDEX(_xlfn.ANCHORARRAY($AO$2),ROWS(AQ$2:AQ4)),"")} -> Lojistik | AR4: =IF(AQ4="",0,SUMIFS(d_TopK,d_Prog,AQ4,d_Dahil,1)) -> 29 | AS4: =IF(AQ4="",0,SUMIFS(d_TopY,d_Prog,AQ4,d_Dahil,1)) -> 25 | AU4: 3
A5: =IF(AND(DATA!A6<>"",TRIM(DATA!D6)<>""),1,0) -> 1 | B5: =IF(A5=1,DATA!A6,"") -> 102790173 | C5: =IF(A5=1,TRIM(DATA!B6),"") -> ÖNLİSANS | D5: =IF(A5=1,TRIM(DATA!C6),"") -> AYVACIK MESLEK YÜKSEKOKULU | E5: =IF(A5=1,TRIM(DATA!D6),"") -> Turist Rehberliği | F5: =IF(A5=1,IF(ISNUMBER(SEARCH("KKTC Uyruklu",E5)),"EVET","HAYIR"),"") -> HAYIR | G5: =A5*N(DATA!E6) -> 8 | H5: =A5*N(DATA!F6) -> 3 | I5: =A5*N(DATA!G6) -> 2 | J5: =A5*N(DATA!H6) -> 2 | K5: =G5+I5 -> 10 | L5: =H5+J5 -> 5 | M5: =MAX(0,K5-L5) -> 5 | N5: =A5*IF(F5="EVET",--prm_KKTC,1)*OR(prm_Duzey="Tümü",C5=prm_Duzey)*OR(prm_Fak="Tümü",D5=prm_Fak)*OR(prm_Prog="Tümü",E5=prm_Prog) -> 1 | O5: =N5*(K5>0)*(L5>=K5) -> 0 | P5: =N5*(K5>0)*(L5=0) -> 0 | Q5: =N5*(F5="EVET") -> 0 | R5: =IF(D5="","",SUBSTITUTE(SUBSTITUTE(SUBSTITUTE(SUBSTITUTE(SUBSTITUTE(SUBSTITUTE(D5,"İKTİSADİ VE İDARİ BİLİMLER FAKÜLTESİ","İİBF"),"ORGANİZE SANAYİ BÖLGESİ","OSB"),"MESLEK YÜKSEKOKULU","MYO"),"UYGULAMALI BİLİMLER","UB"),"FAKÜLTESİ","FAK."),"YÜKSEKOKULU","YO")) -> AYVACIK MYO | S5: KKTC Dahil? | T5: =IF(ISLOGICAL(DASHBOARD!Q7),DASHBOARD!Q7,UPPER(DASHBOARD!Q7)="EVET") -> FALSE | W5: BİGA MESLEK YÜKSEKOKULU | X5: Arkeoloji | Z5: ÇANAKKALE TEKNİK BİLİMLER MESLEK YÜKSEKOKULU | AB5: {=IFERROR(""&INDEX(_xlfn.ANCHORARRAY($Z$2),ROWS(AB$2:AB5)),"")} -> ÇANAKKALE TEKNİK BİLİMLER MESLEK YÜKSEKOKULU | AC5: =IF(AB5="","",SUBSTITUTE(SUBSTITUTE(SUBSTITUTE(SUBSTITUTE(SUBSTITUTE(SUBSTITUTE(AB5,"İKTİSADİ VE İDARİ BİLİMLER FAKÜLTESİ","İİBF"),"ORGANİZE SANAYİ BÖLGESİ","OSB"),"MESLEK YÜKSEKOKULU","MYO"),"UYGULAMALI BİLİMLER","UB"),"FAKÜLTESİ","FAK."),"YÜKSEKOKULU","YO")) -> ÇANAKKALE TEKNİK BİLİMLER MYO | AD5: =IF(AB5="",0,SUMIFS(d_TopK,d_Fak,AB5,d_Dahil,1)) -> 50 | AE5: =IF(AB5="",0,SUMIFS(d_TopY,d_Fak,AB5,d_Dahil,1)) -> 32 | AO5: İşletme Yönetimi | AQ5: {=IFERROR(""&INDEX(_xlfn.ANCHORARRAY($AO$2),ROWS(AQ$2:AQ5)),"")} -> İşletme Yönetimi | AR5: =IF(AQ5="",0,SUMIFS(d_TopK,d_Prog,AQ5,d_Dahil,1)) -> 26 | AS5: =IF(AQ5="",0,SUMIFS(d_TopY,d_Prog,AQ5,d_Dahil,1)) -> 26 | AU5: 4
A6: =IF(AND(DATA!A7<>"",TRIM(DATA!D7)<>""),1,0) -> 1 | B6: =IF(A6=1,DATA!A7,"") -> 102750156 | C6: =IF(A6=1,TRIM(DATA!B7),"") -> ÖNLİSANS | D6: =IF(A6=1,TRIM(DATA!C7),"") -> AYVACIK MESLEK YÜKSEKOKULU | E6: =IF(A6=1,TRIM(DATA!D7),"") -> Turizm ve Otel İşletmeciliği | F6: =IF(A6=1,IF(ISNUMBER(SEARCH("KKTC Uyruklu",E6)),"EVET","HAYIR"),"") -> HAYIR | G6: =A6*N(DATA!E7) -> 4 | H6: =A6*N(DATA!F7) -> 4 | I6: =A6*N(DATA!G7) -> 0 | J6: =A6*N(DATA!H7) -> 0 | K6: =G6+I6 -> 4 | L6: =H6+J6 -> 4 | M6: =MAX(0,K6-L6) -> 0 | N6: =A6*IF(F6="EVET",--prm_KKTC,1)*OR(prm_Duzey="Tümü",C6=prm_Duzey)*OR(prm_Fak="Tümü",D6=prm_Fak)*OR(prm_Prog="Tümü",E6=prm_Prog) -> 1 | O6: =N6*(K6>0)*(L6>=K6) -> 1 | P6: =N6*(K6>0)*(L6=0) -> 0 | Q6: =N6*(F6="EVET") -> 0 | R6: =IF(D6="","",SUBSTITUTE(SUBSTITUTE(SUBSTITUTE(SUBSTITUTE(SUBSTITUTE(SUBSTITUTE(D6,"İKTİSADİ VE İDARİ BİLİMLER FAKÜLTESİ","İİBF"),"ORGANİZE SANAYİ BÖLGESİ","OSB"),"MESLEK YÜKSEKOKULU","MYO"),"UYGULAMALI BİLİMLER","UB"),"FAKÜLTESİ","FAK."),"YÜKSEKOKULU","YO")) -> AYVACIK MYO | W6: BİGA UYGULAMALI BİLİMLER FAKÜLTESİ | X6: Balıkçılık Teknolojisi | Z6: EZİNE GIDA İHTİSAS ORGANİZE SANAYİ BÖLGESİ MESLEK YÜKSEKOKULU | AB6: {=IFERROR(""&INDEX(_xlfn.ANCHORARRAY($Z$2),ROWS(AB$2:AB6)),"")} -> EZİNE GIDA İHTİSAS ORGANİZE SANAYİ BÖLGESİ MESLEK YÜKSEKOKULU | AC6: =IF(AB6="","",SUBSTITUTE(SUBSTITUTE(SUBSTITUTE(SUBSTITUTE(SUBSTITUTE(SUBSTITUTE(AB6,"İKTİSADİ VE İDARİ BİLİMLER FAKÜLTESİ","İİBF"),"ORGANİZE SANAYİ BÖLGESİ","OSB"),"MESLEK YÜKSEKOKULU","MYO"),"UYGULAMALI BİLİMLER","UB"),"FAKÜLTESİ","FAK."),"YÜKSEKOKULU","YO")) -> EZİNE GIDA İHTİSAS OSB MYO | AD6: =IF(AB6="",0,SUMIFS(d_TopK,d_Fak,AB6,d_Dahil,1)) -> 48 | AE6: =IF(AB6="",0,SUMIFS(d_TopY,d_Fak,AB6,d_Dahil,1)) -> 48 | AO6: Bankacılık ve Sigortacılık | AQ6: {=IFERROR(""&INDEX(_xlfn.ANCHORARRAY($AO$2),ROWS(AQ$2:AQ6)),"")} -> Bankacılık ve Sigortacılık | AR6: =IF(AQ6="",0,SUMIFS(d_TopK,d_Prog,AQ6,d_Dahil,1)) -> 18 | AS6: =IF(AQ6="",0,SUMIFS(d_TopY,d_Prog,AQ6,d_Dahil,1)) -> 15 | AU6: 5
A7: =IF(AND(DATA!A8<>"",TRIM(DATA!D8)<>""),1,0) -> 1 | B7: =IF(A7=1,DATA!A8,"") -> 102790172 | C7: =IF(A7=1,TRIM(DATA!B8),"") -> ÖNLİSANS | D7: =IF(A7=1,TRIM(DATA!C8),"") -> BAYRAMİÇ MESLEK YÜKSEKOKULU | E7: =IF(A7=1,TRIM(DATA!D8),"") -> Çocuk Gelişimi | F7: =IF(A7=1,IF(ISNUMBER(SEARCH("KKTC Uyruklu",E7)),"EVET","HAYIR"),"") -> HAYIR | G7: =A7*N(DATA!E8) -> 4 | H7: =A7*N(DATA!F8) -> 4 | I7: =A7*N(DATA!G8) -> 1 | J7: =A7*N(DATA!H8) -> 1 | K7: =G7+I7 -> 5 | L7: =H7+J7 -> 5 | M7: =MAX(0,K7-L7) -> 0 | N7: =A7*IF(F7="EVET",--prm_KKTC,1)*OR(prm_Duzey="Tümü",C7=prm_Duzey)*OR(prm_Fak="Tümü",D7=prm_Fak)*OR(prm_Prog="Tümü",E7=prm_Prog) -> 1 | O7: =N7*(K7>0)*(L7>=K7) -> 1 | P7: =N7*(K7>0)*(L7=0) -> 0 | Q7: =N7*(F7="EVET") -> 0 | R7: =IF(D7="","",SUBSTITUTE(SUBSTITUTE(SUBSTITUTE(SUBSTITUTE(SUBSTITUTE(SUBSTITUTE(D7,"İKTİSADİ VE İDARİ BİLİMLER FAKÜLTESİ","İİBF"),"ORGANİZE SANAYİ BÖLGESİ","OSB"),"MESLEK YÜKSEKOKULU","MYO"),"UYGULAMALI BİLİMLER","UB"),"FAKÜLTESİ","FAK."),"YÜKSEKOKULU","YO")) -> BAYRAMİÇ MYO | S7: NOTLAR | W7: ÇAN MESLEK YÜKSEKOKULU | X7: Bankacılık ve Sigortacılık | Z7: LAPSEKİ MESLEK YÜKSEKOKULU | AB7: {=IFERROR(""&INDEX(_xlfn.ANCHORARRAY($Z$2),ROWS(AB$2:AB7)),"")} -> LAPSEKİ MESLEK YÜKSEKOKULU | AC7: =IF(AB7="","",SUBSTITUTE(SUBSTITUTE(SUBSTITUTE(SUBSTITUTE(SUBSTITUTE(SUBSTITUTE(AB7,"İKTİSADİ VE İDARİ BİLİMLER FAKÜLTESİ","İİBF"),"ORGANİZE SANAYİ BÖLGESİ","OSB"),"MESLEK YÜKSEKOKULU","MYO"),"UYGULAMALI BİLİMLER","UB"),"FAKÜLTESİ","FAK."),"YÜKSEKOKULU","YO")) -> LAPSEKİ MYO | AD7: =IF(AB7="",0,SUMIFS(d_TopK,d_Fak,AB7,d_Dahil,1)) -> 44 | AE7: =IF(AB7="",0,SUMIFS(d_TopY,d_Fak,AB7,d_Dahil,1)) -> 41 | AO7: Dış Ticaret | AQ7: {=IFERROR(""&INDEX(_xlfn.ANCHORARRAY($AO$2),ROWS(AQ$2:AQ7)),"")} -> Dış Ticaret | AR7: =IF(AQ7="",0,SUMIFS(d_TopK,d_Prog,AQ7,d_Dahil,1)) -> 18 | AS7: =IF(AQ7="",0,SUMIFS(d_TopY,d_Prog,AQ7,d_Dahil,1)) -> 17 | AU7: 6
A8: =IF(AND(DATA!A9<>"",TRIM(DATA!D9)<>""),1,0) -> 1 | B8: =IF(A8=1,DATA!A9,"") -> 102751339 | C8: =IF(A8=1,TRIM(DATA!B9),"") -> ÖNLİSANS | D8: =IF(A8=1,TRIM(DATA!C9),"") -> BAYRAMİÇ MESLEK YÜKSEKOKULU | E8: =IF(A8=1,TRIM(DATA!D9),"") -> Halkla İlişkiler ve Tanıtım | F8: =IF(A8=1,IF(ISNUMBER(SEARCH("KKTC Uyruklu",E8)),"EVET","HAYIR"),"") -> HAYIR | G8: =A8*N(DATA!E9) -> 10 | H8: =A8*N(DATA!F9) -> 10 | I8: =A8*N(DATA!G9) -> 0 | J8: =A8*N(DATA!H9) -> 0 | K8: =G8+I8 -> 10 | L8: =H8+J8 -> 10 | M8: =MAX(0,K8-L8) -> 0 | N8: =A8*IF(F8="EVET",--prm_KKTC,1)*OR(prm_Duzey="Tümü",C8=prm_Duzey)*OR(prm_Fak="Tümü",D8=prm_Fak)*OR(prm_Prog="Tümü",E8=prm_Prog) -> 1 | O8: =N8*(K8>0)*(L8>=K8) -> 1 | P8: =N8*(K8>0)*(L8=0) -> 0 | Q8: =N8*(F8="EVET") -> 0 | R8: =IF(D8="","",SUBSTITUTE(SUBSTITUTE(SUBSTITUTE(SUBSTITUTE(SUBSTITUTE(SUBSTITUTE(D8,"İKTİSADİ VE İDARİ BİLİMLER FAKÜLTESİ","İİBF"),"ORGANİZE SANAYİ BÖLGESİ","OSB"),"MESLEK YÜKSEKOKULU","MYO"),"UYGULAMALI BİLİMLER","UB"),"FAKÜLTESİ","FAK."),"YÜKSEKOKULU","YO")) -> BAYRAMİÇ MYO | S8: Bu sayfa DASHBOARD hesaplamaları içindir; Sayfa2 ham verisi değiştirilmez. | W8: ÇAN UYGULAMALI BİLİMLER FAKÜLTESİ | X8: Bilgisayar Mühendisliği | Z8: EĞİTİM FAKÜLTESİ | AB8: {=IFERROR(""&INDEX(_xlfn.ANCHORARRAY($Z$2),ROWS(AB$2:AB8)),"")} -> EĞİTİM FAKÜLTESİ | AC8: =IF(AB8="","",SUBSTITUTE(SUBSTITUTE(SUBSTITUTE(SUBSTITUTE(SUBSTITUTE(SUBSTITUTE(AB8,"İKTİSADİ VE İDARİ BİLİMLER FAKÜLTESİ","İİBF"),"ORGANİZE SANAYİ BÖLGESİ","OSB"),"MESLEK YÜKSEKOKULU","MYO"),"UYGULAMALI BİLİMLER","UB"),"FAKÜLTESİ","FAK."),"YÜKSEKOKULU","YO")) -> EĞİTİM FAK. | AD8: =IF(AB8="",0,SUMIFS(d_TopK,d_Fak,AB8,d_Dahil,1)) -> 29 | AE8: =IF(AB8="",0,SUMIFS(d_TopY,d_Fak,AB8,d_Dahil,1)) -> 8 | AO8: Kimya Öğretmenliği | AQ8: {=IFERROR(""&INDEX(_xlfn.ANCHORARRAY($AO$2),ROWS(AQ$2:AQ8)),"")} -> Kimya Öğretmenliği | AR8: =IF(AQ8="",0,SUMIFS(d_TopK,d_Prog,AQ8,d_Dahil,1)) -> 16 | AS8: =IF(AQ8="",0,SUMIFS(d_TopY,d_Prog,AQ8,d_Dahil,1)) -> 3 | AU8: 7
A9: =IF(AND(DATA!A10<>"",TRIM(DATA!D10)<>""),1,0) -> 1 | B9: =IF(A9=1,DATA!A10,"") -> 102790211 | C9: =IF(A9=1,TRIM(DATA!B10),"") -> ÖNLİSANS | D9: =IF(A9=1,TRIM(DATA!C10),"") -> BAYRAMİÇ MESLEK YÜKSEKOKULU | E9: =IF(A9=1,TRIM(DATA!D10),"") -> Laboratuvar Teknolojisi | F9: =IF(A9=1,IF(ISNUMBER(SEARCH("KKTC Uyruklu",E9)),"EVET","HAYIR"),"") -> HAYIR | G9: =A9*N(DATA!E10) -> 9 | H9: =A9*N(DATA!F10) -> 9 | I9: =A9*N(DATA!G10) -> 1 | J9: =A9*N(DATA!H10) -> 1 | K9: =G9+I9 -> 10 | L9: =H9+J9 -> 10 | M9: =MAX(0,K9-L9) -> 0 | N9: =A9*IF(F9="EVET",--prm_KKTC,1)*OR(prm_Duzey="Tümü",C9=prm_Duzey)*OR(prm_Fak="Tümü",D9=prm_Fak)*OR(prm_Prog="Tümü",E9=prm_Prog) -> 1 | O9: =N9*(K9>0)*(L9>=K9) -> 1 | P9: =N9*(K9>0)*(L9=0) -> 0 | Q9: =N9*(F9="EVET") -> 0 | R9: =IF(D9="","",SUBSTITUTE(SUBSTITUTE(SUBSTITUTE(SUBSTITUTE(SUBSTITUTE(SUBSTITUTE(D9,"İKTİSADİ VE İDARİ BİLİMLER FAKÜLTESİ","İİBF"),"ORGANİZE SANAYİ BÖLGESİ","OSB"),"MESLEK YÜKSEKOKULU","MYO"),"UYGULAMALI BİLİMLER","UB"),"FAKÜLTESİ","FAK."),"YÜKSEKOKULU","YO")) -> BAYRAMİÇ MYO | S9: Satır 2-1001 → Sayfa2 satır 3-1002 (Program Kodu boş olan satırlar, ör. toplam satırı, hariç). | W9: ÇANAKKALE SAĞLIK HİZMETLERİ MESLEK YÜKSEKOKULU | X9: Bilgisayar Programcılığı | Z9: BAYRAMİÇ MESLEK YÜKSEKOKULU | AB9: {=IFERROR(""&INDEX(_xlfn.ANCHORARRAY($Z$2),ROWS(AB$2:AB9)),"")} -> BAYRAMİÇ MESLEK YÜKSEKOKULU | AC9: =IF(AB9="","",SUBSTITUTE(SUBSTITUTE(SUBSTITUTE(SUBSTITUTE(SUBSTITUTE(SUBSTITUTE(AB9,"İKTİSADİ VE İDARİ BİLİMLER FAKÜLTESİ","İİBF"),"ORGANİZE SANAYİ BÖLGESİ","OSB"),"MESLEK YÜKSEKOKULU","MYO"),"UYGULAMALI BİLİMLER","UB"),"FAKÜLTESİ","FAK."),"YÜKSEKOKULU","YO")) -> BAYRAMİÇ MYO | AD9: =IF(AB9="",0,SUMIFS(d_TopK,d_Fak,AB9,d_Dahil,1)) -> 28 | AE9: =IF(AB9="",0,SUMIFS(d_TopY,d_Fak,AB9,d_Dahil,1)) -> 27 | AO9: Moda Tasarımı | AQ9: {=IFERROR(""&INDEX(_xlfn.ANCHORARRAY($AO$2),ROWS(AQ$2:AQ9)),"")} -> Moda Tasarımı | AR9: =IF(AQ9="",0,SUMIFS(d_TopK,d_Prog,AQ9,d_Dahil,1)) -> 16 | AS9: =IF(AQ9="",0,SUMIFS(d_TopY,d_Prog,AQ9,d_Dahil,1)) -> 4 | AU9: 8
A10: =IF(AND(DATA!A11<>"",TRIM(DATA!D11)<>""),1,0) -> 1 | B10: =IF(A10=1,DATA!A11,"") -> 102790212 | C10: =IF(A10=1,TRIM(DATA!B11),"") -> ÖNLİSANS | D10: =IF(A10=1,TRIM(DATA!C11),"") -> BAYRAMİÇ MESLEK YÜKSEKOKULU | E10: =IF(A10=1,TRIM(DATA!D11),"") -> Ormancılık ve Orman Ürünleri | F10: =IF(A10=1,IF(ISNUMBER(SEARCH("KKTC Uyruklu",E10)),"EVET","HAYIR"),"") -> HAYIR | G10: =A10*N(DATA!E11) -> 3 | H10: =A10*N(DATA!F11) -> 2 | I10: =A10*N(DATA!G11) -> 0 | J10: =A10*N(DATA!H11) -> 0 | K10: =G10+I10 -> 3 | L10: =H10+J10 -> 2 | M10: =MAX(0,K10-L10) -> 1 | N10: =A10*IF(F10="EVET",--prm_KKTC,1)*OR(prm_Duzey="Tümü",C10=prm_Duzey)*OR(prm_Fak="Tümü",D10=prm_Fak)*OR(prm_Prog="Tümü",E10=prm_Prog) -> 1 | O10: =N10*(K10>0)*(L10>=K10) -> 0 | P10: =N10*(K10>0)*(L10=0) -> 0 | Q10: =N10*(F10="EVET") -> 0 | R10: =IF(D10="","",SUBSTITUTE(SUBSTITUTE(SUBSTITUTE(SUBSTITUTE(SUBSTITUTE(SUBSTITUTE(D10,"İKTİSADİ VE İDARİ BİLİMLER FAKÜLTESİ","İİBF"),"ORGANİZE SANAYİ BÖLGESİ","OSB"),"MESLEK YÜKSEKOKULU","MYO"),"UYGULAMALI BİLİMLER","UB"),"FAKÜLTESİ","FAK."),"YÜKSEKOKULU","YO")) -> BAYRAMİÇ MYO | S10: KKTC_PROGRAMI: Program Adı içinde 'KKTC Uyruklu' geçiyorsa EVET (SEARCH ile, kısmi eşleşme). | W10: ÇANAKKALE SOSYAL BİLİMLER MESLEK YÜKSEKOKULU | X10: Bitki Koruma | Z10: AYVACIK MESLEK YÜKSEKOKULU | AB10: {=IFERROR(""&INDEX(_xlfn.ANCHORARRAY($Z$2),ROWS(AB$2:AB10)),"")} -> AYVACIK MESLEK YÜKSEKOKULU | AC10: =IF(AB10="","",SUBSTITUTE(SUBSTITUTE(SUBSTITUTE(SUBSTITUTE(SUBSTITUTE(SUBSTITUTE(AB10,"İKTİSADİ VE İDARİ BİLİMLER FAKÜLTESİ","İİBF"),"ORGANİZE SANAYİ BÖLGESİ","OSB"),"MESLEK YÜKSEKOKULU","MYO"),"UYGULAMALI BİLİMLER","UB"),"FAKÜLTESİ","FAK."),"YÜKSEKOKULU","YO")) -> AYVACIK MYO | AD10: =IF(AB10="",0,SUMIFS(d_TopK,d_Fak,AB10,d_Dahil,1)) -> 26 | AE10: =IF(AB10="",0,SUMIFS(d_TopY,d_Fak,AB10,d_Dahil,1)) -> 21 | AO10: Laboratuvar Teknolojisi | AQ10: {=IFERROR(""&INDEX(_xlfn.ANCHORARRAY($AO$2),ROWS(AQ$2:AQ10)),"")} -> Laboratuvar Teknolojisi | AR10: =IF(AQ10="",0,SUMIFS(d_TopK,d_Prog,AQ10,d_Dahil,1)) -> 13 | AS10: =IF(AQ10="",0,SUMIFS(d_TopY,d_Prog,AQ10,d_Dahil,1)) -> 13 | AU10: 9
A11: =IF(AND(DATA!A12<>"",TRIM(DATA!D12)<>""),1,0) -> 1 | B11: =IF(A11=1,DATA!A12,"") -> 102750208 | C11: =IF(A11=1,TRIM(DATA!B12),"") -> ÖNLİSANS | D11: =IF(A11=1,TRIM(DATA!C12),"") -> BİGA MESLEK YÜKSEKOKULU | E11: =IF(A11=1,TRIM(DATA!D12),"") -> Elektrik | F11: =IF(A11=1,IF(ISNUMBER(SEARCH("KKTC Uyruklu",E11)),"EVET","HAYIR"),"") -> HAYIR | G11: =A11*N(DATA!E12) -> 2 | H11: =A11*N(DATA!F12) -> 2 | I11: =A11*N(DATA!G12) -> 0 | J11: =A11*N(DATA!H12) -> 0 | K11: =G11+I11 -> 2 | L11: =H11+J11 -> 2 | M11: =MAX(0,K11-L11) -> 0 | N11: =A11*IF(F11="EVET",--prm_KKTC,1)*OR(prm_Duzey="Tümü",C11=prm_Duzey)*OR(prm_Fak="Tümü",D11=prm_Fak)*OR(prm_Prog="Tümü",E11=prm_Prog) -> 1 | O11: =N11*(K11>0)*(L11>=K11) -> 1 | P11: =N11*(K11>0)*(L11=0) -> 0 | Q11: =N11*(F11="EVET") -> 0 | R11: =IF(D11="","",SUBSTITUTE(SUBSTITUTE(SUBSTITUTE(SUBSTITUTE(SUBSTITUTE(SUBSTITUTE(D11,"İKTİSADİ VE İDARİ BİLİMLER FAKÜLTESİ","İİBF"),"ORGANİZE SANAYİ BÖLGESİ","OSB"),"MESLEK YÜKSEKOKULU","MYO"),"UYGULAMALI BİLİMLER","UB"),"FAKÜLTESİ","FAK."),"YÜKSEKOKULU","YO")) -> BİGA MYO | S11: 34 Yaş Üstü Kadın kontenjan hücreleri boşsa 0 kabul edilir (kontenjan yok). | W11: ÇANAKKALE TEKNİK BİLİMLER MESLEK YÜKSEKOKULU | X11: Biyokimya | Z11: GELİBOLU PİRİ REİS MESLEK YÜKSEKOKULU | AB11: {=IFERROR(""&INDEX(_xlfn.ANCHORARRAY($Z$2),ROWS(AB$2:AB11)),"")} -> GELİBOLU PİRİ REİS MESLEK YÜKSEKOKULU | AC11: =IF(AB11="","",SUBSTITUTE(SUBSTITUTE(SUBSTITUTE(SUBSTITUTE(SUBSTITUTE(SUBSTITUTE(AB11,"İKTİSADİ VE İDARİ BİLİMLER FAKÜLTESİ","İİBF"),"ORGANİZE SANAYİ BÖLGESİ","OSB"),"MESLEK YÜKSEKOKULU","MYO"),"UYGULAMALI BİLİMLER","UB"),"FAKÜLTESİ","FAK."),"YÜKSEKOKULU","YO")) -> GELİBOLU PİRİ REİS MYO | AD11: =IF(AB11="",0,SUMIFS(d_TopK,d_Fak,AB11,d_Dahil,1)) -> 25 | AE11: =IF(AB11="",0,SUMIFS(d_TopY,d_Fak,AB11,d_Dahil,1)) -> 15 | AO11: Turizm ve Otel İşletmeciliği | AQ11: {=IFERROR(""&INDEX(_xlfn.ANCHORARRAY($AO$2),ROWS(AQ$2:AQ11)),"")} -> Turizm ve Otel İşletmeciliği | AR11: =IF(AQ11="",0,SUMIFS(d_TopK,d_Prog,AQ11,d_Dahil,1)) -> 13 | AS11: =IF(AQ11="",0,SUMIFS(d_TopY,d_Prog,AQ11,d_Dahil,1)) -> 9 | AU11: 94
A12: =IF(AND(DATA!A13<>"",TRIM(DATA!D13)<>""),1,0) -> 1 | B12: =IF(A12=1,DATA!A13,"") -> 102751375 | C12: =IF(A12=1,TRIM(DATA!B13),"") -> ÖNLİSANS | D12: =IF(A12=1,TRIM(DATA!C13),"") -> BİGA MESLEK YÜKSEKOKULU | E12: =IF(A12=1,TRIM(DATA!D13),"") -> Elektrik Enerjisi Üretim, İletim ve Dağıtımı | F12: =IF(A12=1,IF(ISNUMBER(SEARCH("KKTC Uyruklu",E12)),"EVET","HAYIR"),"") -> HAYIR | G12: =A12*N(DATA!E13) -> 1 | H12: =A12*N(DATA!F13) -> 1 | I12: =A12*N(DATA!G13) -> 1 | J12: =A12*N(DATA!H13) -> 1 | K12: =G12+I12 -> 2 | L12: =H12+J12 -> 2 | M12: =MAX(0,K12-L12) -> 0 | N12: =A12*IF(F12="EVET",--prm_KKTC,1)*OR(prm_Duzey="Tümü",C12=prm_Duzey)*OR(prm_Fak="Tümü",D12=prm_Fak)*OR(prm_Prog="Tümü",E12=prm_Prog) -> 1 | O12: =N12*(K12>0)*(L12>=K12) -> 1 | P12: =N12*(K12>0)*(L12=0) -> 0 | Q12: =N12*(F12="EVET") -> 0 | R12: =IF(D12="","",SUBSTITUTE(SUBSTITUTE(SUBSTITUTE(SUBSTITUTE(SUBSTITUTE(SUBSTITUTE(D12,"İKTİSADİ VE İDARİ BİLİMLER FAKÜLTESİ","İİBF"),"ORGANİZE SANAYİ BÖLGESİ","OSB"),"MESLEK YÜKSEKOKULU","MYO"),"UYGULAMALI BİLİMLER","UB"),"FAKÜLTESİ","FAK."),"YÜKSEKOKULU","YO")) -> BİGA MYO | S12: Dahil (Filtre)=1 → DASHBOARD filtreleri + KKTC seçimi ile hesaplamaya giren kayıt. | W12: ÇANAKKALE UYGULAMALI BİLİMLER FAKÜLTESİ | X12: Biyomedikal Cihaz Teknolojisi | Z12: GÖKÇEADA MESLEK YÜKSEKOKULU | AB12: {=IFERROR(""&INDEX(_xlfn.ANCHORARRAY($Z$2),ROWS(AB$2:AB12)),"")} -> GÖKÇEADA MESLEK YÜKSEKOKULU | AC12: =IF(AB12="","",SUBSTITUTE(SUBSTITUTE(SUBSTITUTE(SUBSTITUTE(SUBSTITUTE(SUBSTITUTE(AB12,"İKTİSADİ VE İDARİ BİLİMLER FAKÜLTESİ","İİBF"),"ORGANİZE SANAYİ BÖLGESİ","OSB"),"MESLEK YÜKSEKOKULU","MYO"),"UYGULAMALI BİLİMLER","UB"),"FAKÜLTESİ","FAK."),"YÜKSEKOKULU","YO")) -> GÖKÇEADA MYO | AD12: =IF(AB12="",0,SUMIFS(d_TopK,d_Fak,AB12,d_Dahil,1)) -> 25 | AE12: =IF(AB12="",0,SUMIFS(d_TopY,d_Fak,AB12,d_Dahil,1)) -> 23 | AO12: Turizm ve Seyahat Hizmetleri | AU12: 95
A13: =IF(AND(DATA!A14<>"",TRIM(DATA!D14)<>""),1,0) -> 1 | B13: =IF(A13=1,DATA!A14,"") -> 102751515 | C13: =IF(A13=1,TRIM(DATA!B14),"") -> ÖNLİSANS | D13: =IF(A13=1,TRIM(DATA!C14),"") -> BİGA MESLEK YÜKSEKOKULU | E13: =IF(A13=1,TRIM(DATA!D14),"") -> Elektrik Enerjisi Üretim, İletim ve Dağıtımı (KKTC Uyruklu) | F13: =IF(A13=1,IF(ISNUMBER(SEARCH("KKTC Uyruklu",E13)),"EVET","HAYIR"),"") -> EVET | G13: =A13*N(DATA!E14) -> 1 | H13: =A13*N(DATA!F14) -> 0 | I13: =A13*N(DATA!G14) -> 0 | J13: =A13*N(DATA!H14) -> 0 | K13: =G13+I13 -> 1 | L13: =H13+J13 -> 0 | M13: =MAX(0,K13-L13) -> 1 | N13: =A13*IF(F13="EVET",--prm_KKTC,1)*OR(prm_Duzey="Tümü",C13=prm_Duzey)*OR(prm_Fak="Tümü",D13=prm_Fak)*OR(prm_Prog="Tümü",E13=prm_Prog) -> 0 | O13: =N13*(K13>0)*(L13>=K13) -> 0 | P13: =N13*(K13>0)*(L13=0) -> 0 | Q13: =N13*(F13="EVET") -> 0 | R13: =IF(D13="","",SUBSTITUTE(SUBSTITUTE(SUBSTITUTE(SUBSTITUTE(SUBSTITUTE(SUBSTITUTE(D13,"İKTİSADİ VE İDARİ BİLİMLER FAKÜLTESİ","İİBF"),"ORGANİZE SANAYİ BÖLGESİ","OSB"),"MESLEK YÜKSEKOKULU","MYO"),"UYGULAMALI BİLİMLER","UB"),"FAKÜLTESİ","FAK."),"YÜKSEKOKULU","YO")) -> BİGA MYO | W13: DENİZ BİLİMLERİ VE TEKNOLOJİSİ FAKÜLTESİ | X13: Coğrafya | Z13: BİGA İKTİSADİ VE İDARİ BİLİMLER FAKÜLTESİ | AB13: {=IFERROR(""&INDEX(_xlfn.ANCHORARRAY($Z$2),ROWS(AB$2:AB13)),"")} -> BİGA İKTİSADİ VE İDARİ BİLİMLER FAKÜLTESİ | AC13: =IF(AB13="","",SUBSTITUTE(SUBSTITUTE(SUBSTITUTE(SUBSTITUTE(SUBSTITUTE(SUBSTITUTE(AB13,"İKTİSADİ VE İDARİ BİLİMLER FAKÜLTESİ","İİBF"),"ORGANİZE SANAYİ BÖLGESİ","OSB"),"MESLEK YÜKSEKOKULU","MYO"),"UYGULAMALI BİLİMLER","UB"),"FAKÜLTESİ","FAK."),"YÜKSEKOKULU","YO")) -> BİGA İİBF | AD13: =IF(AB13="",0,SUMIFS(d_TopK,d_Fak,AB13,d_Dahil,1)) -> 24 | AE13: =IF(AB13="",0,SUMIFS(d_TopY,d_Fak,AB13,d_Dahil,1)) -> 23 | AO13: Muhasebe ve Vergi Uygulamaları | AU13: 96
A14: =IF(AND(DATA!A15<>"",TRIM(DATA!D15)<>""),1,0) -> 1 | B14: =IF(A14=1,DATA!A15,"") -> 102751012 | C14: =IF(A14=1,TRIM(DATA!B15),"") -> ÖNLİSANS | D14: =IF(A14=1,TRIM(DATA!C15),"") -> BİGA MESLEK YÜKSEKOKULU | E14: =IF(A14=1,TRIM(DATA!D15),"") -> Gıda Teknolojisi | F14: =IF(A14=1,IF(ISNUMBER(SEARCH("KKTC Uyruklu",E14)),"EVET","HAYIR"),"") -> HAYIR | G14: =A14*N(DATA!E15) -> 3 | H14: =A14*N(DATA!F15) -> 3 | I14: =A14*N(DATA!G15) -> 0 | J14: =A14*N(DATA!H15) -> 0 | K14: =G14+I14 -> 3 | L14: =H14+J14 -> 3 | M14: =MAX(0,K14-L14) -> 0 | N14: =A14*IF(F14="EVET",--prm_KKTC,1)*OR(prm_Duzey="Tümü",C14=prm_Duzey)*OR(prm_Fak="Tümü",D14=prm_Fak)*OR(prm_Prog="Tümü",E14=prm_Prog) -> 1 | O14: =N14*(K14>0)*(L14>=K14) -> 1 | P14: =N14*(K14>0)*(L14=0) -> 0 | Q14: =N14*(F14="EVET") -> 0 | R14: =IF(D14="","",SUBSTITUTE(SUBSTITUTE(SUBSTITUTE(SUBSTITUTE(SUBSTITUTE(SUBSTITUTE(D14,"İKTİSADİ VE İDARİ BİLİMLER FAKÜLTESİ","İİBF"),"ORGANİZE SANAYİ BÖLGESİ","OSB"),"MESLEK YÜKSEKOKULU","MYO"),"UYGULAMALI BİLİMLER","UB"),"FAKÜLTESİ","FAK."),"YÜKSEKOKULU","YO")) -> BİGA MYO | W14: DENİZCİLİK MESLEK YÜKSEKOKULU | X14: Coğrafya Öğretmenliği | Z14: ÇANAKKALE SOSYAL BİLİMLER MESLEK YÜKSEKOKULU | AB14: {=IFERROR(""&INDEX(_xlfn.ANCHORARRAY($Z$2),ROWS(AB$2:AB14)),"")} -> ÇANAKKALE SOSYAL BİLİMLER MESLEK YÜKSEKOKULU | AC14: =IF(AB14="","",SUBSTITUTE(SUBSTITUTE(SUBSTITUTE(SUBSTITUTE(SUBSTITUTE(SUBSTITUTE(AB14,"İKTİSADİ VE İDARİ BİLİMLER FAKÜLTESİ","İİBF"),"ORGANİZE SANAYİ BÖLGESİ","OSB"),"MESLEK YÜKSEKOKULU","MYO"),"UYGULAMALI BİLİMLER","UB"),"FAKÜLTESİ","FAK."),"YÜKSEKOKULU","YO")) -> ÇANAKKALE SOSYAL BİLİMLER MYO | AD14: =IF(AB14="",0,SUMIFS(d_TopK,d_Fak,AB14,d_Dahil,1)) -> 24 | AE14: =IF(AB14="",0,SUMIFS(d_TopY,d_Fak,AB14,d_Dahil,1)) -> 18 | AO14: Su Altı Kaynak Teknolojisi | AU14: 97
A15: =IF(AND(DATA!A16<>"",TRIM(DATA!D16)<>""),1,0) -> 1 | B15: =IF(A15=1,DATA!A16,"") -> 102751003 | C15: =IF(A15=1,TRIM(DATA!B16),"") -> ÖNLİSANS | D15: =IF(A15=1,TRIM(DATA!C16),"") -> BİGA MESLEK YÜKSEKOKULU | E15: =IF(A15=1,TRIM(DATA!D16),"") -> İşletme Yönetimi | F15: =IF(A15=1,IF(ISNUMBER(SEARCH("KKTC Uyruklu",E15)),"EVET","HAYIR"),"") -> HAYIR | G15: =A15*N(DATA!E16) -> 4 | H15: =A15*N(DATA!F16) -> 4 | I15: =A15*N(DATA!G16) -> 0 | J15: =A15*N(DATA!H16) -> 0 | K15: =G15+I15 -> 4 | L15: =H15+J15 -> 4 | M15: =MAX(0,K15-L15) -> 0 | N15: =A15*IF(F15="EVET",--prm_KKTC,1)*OR(prm_Duzey="Tümü",C15=prm_Duzey)*OR(prm_Fak="Tümü",D15=prm_Fak)*OR(prm_Prog="Tümü",E15=prm_Prog) -> 1 | O15: =N15*(K15>0)*(L15>=K15) -> 1 | P15: =N15*(K15>0)*(L15=0) -> 0 | Q15: =N15*(F15="EVET") -> 0 | R15: =IF(D15="","",SUBSTITUTE(SUBSTITUTE(SUBSTITUTE(SUBSTITUTE(SUBSTITUTE(SUBSTITUTE(D15,"İKTİSADİ VE İDARİ BİLİMLER FAKÜLTESİ","İİBF"),"ORGANİZE SANAYİ BÖLGESİ","OSB"),"MESLEK YÜKSEKOKULU","MYO"),"UYGULAMALI BİLİMLER","UB"),"FAKÜLTESİ","FAK."),"YÜKSEKOKULU","YO")) -> BİGA MYO | W15: EĞİTİM FAKÜLTESİ | X15: Çalışma Ekonomisi ve Endüstri İlişkileri | Z15: DENİZCİLİK MESLEK YÜKSEKOKULU | AB15: {=IFERROR(""&INDEX(_xlfn.ANCHORARRAY($Z$2),ROWS(AB$2:AB15)),"")} -> DENİZCİLİK MESLEK YÜKSEKOKULU | AC15: =IF(AB15="","",SUBSTITUTE(SUBSTITUTE(SUBSTITUTE(SUBSTITUTE(SUBSTITUTE(SUBSTITUTE(AB15,"İKTİSADİ VE İDARİ BİLİMLER FAKÜLTESİ","İİBF"),"ORGANİZE SANAYİ BÖLGESİ","OSB"),"MESLEK YÜKSEKOKULU","MYO"),"UYGULAMALI BİLİMLER","UB"),"FAKÜLTESİ","FAK."),"YÜKSEKOKULU","YO")) -> DENİZCİLİK MYO | AD15: =IF(AB15="",0,SUMIFS(d_TopK,d_Fak,AB15,d_Dahil,1)) -> 22 | AE15: =IF(AB15="",0,SUMIFS(d_TopY,d_Fak,AB15,d_Dahil,1)) -> 10 | AO15: Süt ve Ürünleri Teknolojisi | AU15: 98
A16: =IF(AND(DATA!A17<>"",TRIM(DATA!D17)<>""),1,0) -> 1 | B16: =IF(A16=1,DATA!A17,"") -> 102750226 | C16: =IF(A16=1,TRIM(DATA!B17),"") -> ÖNLİSANS | D16: =IF(A16=1,TRIM(DATA!C17),"") -> BİGA MESLEK YÜKSEKOKULU | E16: =IF(A16=1,TRIM(DATA!D17),"") -> Kooperatifçilik | F16: =IF(A16=1,IF(ISNUMBER(SEARCH("KKTC Uyruklu",E16)),"EVET","HAYIR"),"") -> HAYIR | G16: =A16*N(DATA!E17) -> 10 | H16: =A16*N(DATA!F17) -> 10 | I16: =A16*N(DATA!G17) -> 0 | J16: =A16*N(DATA!H17) -> 0 | K16: =G16+I16 -> 10 | L16: =H16+J16 -> 10 | M16: =MAX(0,K16-L16) -> 0 | N16: =A16*IF(F16="EVET",--prm_KKTC,1)*OR(prm_Duzey="Tümü",C16=prm_Duzey)*OR(prm_Fak="Tümü",D16=prm_Fak)*OR(prm_Prog="Tümü",E16=prm_Prog) -> 1 | O16: =N16*(K16>0)*(L16>=K16) -> 1 | P16: =N16*(K16>0)*(L16=0) -> 0 | Q16: =N16*(F16="EVET") -> 0 | R16: =IF(D16="","",SUBSTITUTE(SUBSTITUTE(SUBSTITUTE(SUBSTITUTE(SUBSTITUTE(SUBSTITUTE(D16,"İKTİSADİ VE İDARİ BİLİMLER FAKÜLTESİ","İİBF"),"ORGANİZE SANAYİ BÖLGESİ","OSB"),"MESLEK YÜKSEKOKULU","MYO"),"UYGULAMALI BİLİMLER","UB"),"FAKÜLTESİ","FAK."),"YÜKSEKOKULU","YO")) -> BİGA MYO | W16: EZİNE GIDA İHTİSAS ORGANİZE SANAYİ BÖLGESİ MESLEK YÜKSEKOKULU | X16: Çocuk Gelişimi | Z16: İNSAN VE TOPLUM BİLİMLERİ FAKÜLTESİ | AB16: {=IFERROR(""&INDEX(_xlfn.ANCHORARRAY($Z$2),ROWS(AB$2:AB16)),"")} -> İNSAN VE TOPLUM BİLİMLERİ FAKÜLTESİ | AC16: =IF(AB16="","",SUBSTITUTE(SUBSTITUTE(SUBSTITUTE(SUBSTITUTE(SUBSTITUTE(SUBSTITUTE(AB16,"İKTİSADİ VE İDARİ BİLİMLER FAKÜLTESİ","İİBF"),"ORGANİZE SANAYİ BÖLGESİ","OSB"),"MESLEK YÜKSEKOKULU","MYO"),"UYGULAMALI BİLİMLER","UB"),"FAKÜLTESİ","FAK."),"YÜKSEKOKULU","YO")) -> İNSAN VE TOPLUM BİLİMLERİ FAK. | AD16: =IF(AB16="",0,SUMIFS(d_TopK,d_Fak,AB16,d_Dahil,1)) -> 20 | AE16: =IF(AB16="",0,SUMIFS(d_TopY,d_Fak,AB16,d_Dahil,1)) -> 15 | AO16: Fidan Yetiştiriciliği | AU16: 99
A17: =IF(AND(DATA!A18<>"",TRIM(DATA!D18)<>""),1,0) -> 1 | B17: =IF(A17=1,DATA!A18,"") -> 102750235 | C17: =IF(A17=1,TRIM(DATA!B18),"") -> ÖNLİSANS | D17: =IF(A17=1,TRIM(DATA!C18),"") -> BİGA MESLEK YÜKSEKOKULU | E17: =IF(A17=1,TRIM(DATA!D18),"") -> Makine | F17: =IF(A17=1,IF(ISNUMBER(SEARCH("KKTC Uyruklu",E17)),"EVET","HAYIR"),"") -> HAYIR | G17: =A17*N(DATA!E18) -> 2 | H17: =A17*N(DATA!F18) -> 2 | I17: =A17*N(DATA!G18) -> 0 | J17: =A17*N(DATA!H18) -> 0 | K17: =G17+I17 -> 2 | L17: =H17+J17 -> 2 | M17: =MAX(0,K17-L17) -> 0 | N17: =A17*IF(F17="EVET",--prm_KKTC,1)*OR(prm_Duzey="Tümü",C17=prm_Duzey)*OR(prm_Fak="Tümü",D17=prm_Fak)*OR(prm_Prog="Tümü",E17=prm_Prog) -> 1 | O17: =N17*(K17>0)*(L17>=K17) -> 1 | P17: =N17*(K17>0)*(L17=0) -> 0 | Q17: =N17*(F17="EVET") -> 0 | R17: =IF(D17="","",SUBSTITUTE(SUBSTITUTE(SUBSTITUTE(SUBSTITUTE(SUBSTITUTE(SUBSTITUTE(D17,"İKTİSADİ VE İDARİ BİLİMLER FAKÜLTESİ","İİBF"),"ORGANİZE SANAYİ BÖLGESİ","OSB"),"MESLEK YÜKSEKOKULU","MYO"),"UYGULAMALI BİLİMLER","UB"),"FAKÜLTESİ","FAK."),"YÜKSEKOKULU","YO")) -> BİGA MYO | W17: FEN FAKÜLTESİ | X17: Deniz Ulaştırma İşletme Mühendisliği | Z17: BİGA UYGULAMALI BİLİMLER FAKÜLTESİ | AO17: Gıda Kalite Kontrolü ve Analizi | AU17: 100
A18: =IF(AND(DATA!A19<>"",TRIM(DATA!D19)<>""),1,0) -> 1 | B18: =IF(A18=1,DATA!A19,"") -> 102790364 | C18: =IF(A18=1,TRIM(DATA!B19),"") -> ÖNLİSANS | D18: =IF(A18=1,TRIM(DATA!C19),"") -> BİGA MESLEK YÜKSEKOKULU | E18: =IF(A18=1,TRIM(DATA!D19),"") -> Mobilya ve Dekorasyon | F18: =IF(A18=1,IF(ISNUMBER(SEARCH("KKTC Uyruklu",E18)),"EVET","HAYIR"),"") -> HAYIR | G18: =A18*N(DATA!E19) -> 8 | H18: =A18*N(DATA!F19) -> 8 | I18: =A18*N(DATA!G19) -> 0 | J18: =A18*N(DATA!H19) -> 0 | K18: =G18+I18 -> 8 | L18: =H18+J18 -> 8 | M18: =MAX(0,K18-L18) -> 0 | N18: =A18*IF(F18="EVET",--prm_KKTC,1)*OR(prm_Duzey="Tümü",C18=prm_Duzey)*OR(prm_Fak="Tümü",D18=prm_Fak)*OR(prm_Prog="Tümü",E18=prm_Prog) -> 1 | O18: =N18*(K18>0)*(L18>=K18) -> 1 | P18: =N18*(K18>0)*(L18=0) -> 0 | Q18: =N18*(F18="EVET") -> 0 | R18: =IF(D18="","",SUBSTITUTE(SUBSTITUTE(SUBSTITUTE(SUBSTITUTE(SUBSTITUTE(SUBSTITUTE(D18,"İKTİSADİ VE İDARİ BİLİMLER FAKÜLTESİ","İİBF"),"ORGANİZE SANAYİ BÖLGESİ","OSB"),"MESLEK YÜKSEKOKULU","MYO"),"UYGULAMALI BİLİMLER","UB"),"FAKÜLTESİ","FAK."),"YÜKSEKOKULU","YO")) -> BİGA MYO | W18: GELİBOLU PİRİ REİS MESLEK YÜKSEKOKULU | X18: Deniz ve Liman İşletmeciliği | Z18: ÇAN UYGULAMALI BİLİMLER FAKÜLTESİ | AO18: Kooperatifçilik | AU18: 10
A19: =IF(AND(DATA!A20<>"",TRIM(DATA!D20)<>""),1,0) -> 1 | B19: =IF(A19=1,DATA!A20,"") -> 102750747 | C19: =IF(A19=1,TRIM(DATA!B20),"") -> ÖNLİSANS | D19: =IF(A19=1,TRIM(DATA!C20),"") -> BİGA MESLEK YÜKSEKOKULU | E19: =IF(A19=1,TRIM(DATA!D20),"") -> Muhasebe ve Vergi Uygulamaları | F19: =IF(A19=1,IF(ISNUMBER(SEARCH("KKTC Uyruklu",E19)),"EVET","HAYIR"),"") -> HAYIR | G19: =A19*N(DATA!E20) -> 3 | H19: =A19*N(DATA!F20) -> 3 | I19: =A19*N(DATA!G20) -> 0 | J19: =A19*N(DATA!H20) -> 0 | K19: =G19+I19 -> 3 | L19: =H19+J19 -> 3 | M19: =MAX(0,K19-L19) -> 0 | N19: =A19*IF(F19="EVET",--prm_KKTC,1)*OR(prm_Duzey="Tümü",C19=prm_Duzey)*OR(prm_Fak="Tümü",D19=prm_Fak)*OR(prm_Prog="Tümü",E19=prm_Prog) -> 1 | O19: =N19*(K19>0)*(L19>=K19) -> 1 | P19: =N19*(K19>0)*(L19=0) -> 0 | Q19: =N19*(F19="EVET") -> 0 | R19: =IF(D19="","",SUBSTITUTE(SUBSTITUTE(SUBSTITUTE(SUBSTITUTE(SUBSTITUTE(SUBSTITUTE(D19,"İKTİSADİ VE İDARİ BİLİMLER FAKÜLTESİ","İİBF"),"ORGANİZE SANAYİ BÖLGESİ","OSB"),"MESLEK YÜKSEKOKULU","MYO"),"UYGULAMALI BİLİMLER","UB"),"FAKÜLTESİ","FAK."),"YÜKSEKOKULU","YO")) -> BİGA MYO | W19: GÖKÇEADA MESLEK YÜKSEKOKULU | X19: Dış Ticaret | Z19: ÇANAKKALE UYGULAMALI BİLİMLER FAKÜLTESİ | AO19: Turist Rehberliği | AU19: 11
A20: =IF(AND(DATA!A21<>"",TRIM(DATA!D21)<>""),1,0) -> 1 | B20: =IF(A20=1,DATA!A21,"") -> 102750808 | C20: =IF(A20=1,TRIM(DATA!B21),"") -> ÖNLİSANS | D20: =IF(A20=1,TRIM(DATA!C21),"") -> BİGA MESLEK YÜKSEKOKULU | E20: =IF(A20=1,TRIM(DATA!D21),"") -> Otomotiv Teknolojisi | F20: =IF(A20=1,IF(ISNUMBER(SEARCH("KKTC Uyruklu",E20)),"EVET","HAYIR"),"") -> HAYIR | G20: =A20*N(DATA!E21) -> 6 | H20: =A20*N(DATA!F21) -> 1 | I20: =A20*N(DATA!G21) -> 1 | J20: =A20*N(DATA!H21) -> 1 | K20: =G20+I20 -> 7 | L20: =H20+J20 -> 2 | M20: =MAX(0,K20-L20) -> 5 | N20: =A20*IF(F20="EVET",--prm_KKTC,1)*OR(prm_Duzey="Tümü",C20=prm_Duzey)*OR(prm_Fak="Tümü",D20=prm_Fak)*OR(prm_Prog="Tümü",E20=prm_Prog) -> 1 | O20: =N20*(K20>0)*(L20>=K20) -> 0 | P20: =N20*(K20>0)*(L20=0) -> 0 | Q20: =N20*(F20="EVET") -> 0 | R20: =IF(D20="","",SUBSTITUTE(SUBSTITUTE(SUBSTITUTE(SUBSTITUTE(SUBSTITUTE(SUBSTITUTE(D20,"İKTİSADİ VE İDARİ BİLİMLER FAKÜLTESİ","İİBF"),"ORGANİZE SANAYİ BÖLGESİ","OSB"),"MESLEK YÜKSEKOKULU","MYO"),"UYGULAMALI BİLİMLER","UB"),"FAKÜLTESİ","FAK."),"YÜKSEKOKULU","YO")) -> BİGA MYO | W20: GÖKÇEADA UYGULAMALI BİLİMLER YÜKSEKOKULU | X20: Eczane Hizmetleri | Z20: SİYASAL BİLGİLER FAKÜLTESİ | AO20: Gastronomi ve Mutfak Sanatları | AU20: 13
A21: =IF(AND(DATA!A22<>"",TRIM(DATA!D22)<>""),1,0) -> 1 | B21: =IF(A21=1,DATA!A22,"") -> 102750271 | C21: =IF(A21=1,TRIM(DATA!B22),"") -> ÖNLİSANS | D21: =IF(A21=1,TRIM(DATA!C22),"") -> BİGA MESLEK YÜKSEKOKULU | E21: =IF(A21=1,TRIM(DATA!D22),"") -> Pazarlama | F21: =IF(A21=1,IF(ISNUMBER(SEARCH("KKTC Uyruklu",E21)),"EVET","HAYIR"),"") -> HAYIR | G21: =A21*N(DATA!E22) -> 4 | H21: =A21*N(DATA!F22) -> 4 | I21: =A21*N(DATA!G22) -> 0 | J21: =A21*N(DATA!H22) -> 0 | K21: =G21+I21 -> 4 | L21: =H21+J21 -> 4 | M21: =MAX(0,K21-L21) -> 0 | N21: =A21*IF(F21="EVET",--prm_KKTC,1)*OR(prm_Duzey="Tümü",C21=prm_Duzey)*OR(prm_Fak="Tümü",D21=prm_Fak)*OR(prm_Prog="Tümü",E21=prm_Prog) -> 1 | O21: =N21*(K21>0)*(L21>=K21) -> 1 | P21: =N21*(K21>0)*(L21=0) -> 0 | Q21: =N21*(F21="EVET") -> 0 | R21: =IF(D21="","",SUBSTITUTE(SUBSTITUTE(SUBSTITUTE(SUBSTITUTE(SUBSTITUTE(SUBSTITUTE(D21,"İKTİSADİ VE İDARİ BİLİMLER FAKÜLTESİ","İİBF"),"ORGANİZE SANAYİ BÖLGESİ","OSB"),"MESLEK YÜKSEKOKULU","MYO"),"UYGULAMALI BİLİMLER","UB"),"FAKÜLTESİ","FAK."),"YÜKSEKOKULU","YO")) -> BİGA MYO | W21: İLAHİYAT FAKÜLTESİ | X21: Ekonometri | Z21: İLAHİYAT FAKÜLTESİ | AO21: Mekatronik | AU21: 14
A22: =IF(AND(DATA!A23<>"",TRIM(DATA!D23)<>""),1,0) -> 1 | B22: =IF(A22=1,DATA!A23,"") -> 102750695 | C22: =IF(A22=1,TRIM(DATA!B23),"") -> ÖNLİSANS | D22: =IF(A22=1,TRIM(DATA!C23),"") -> BİGA MESLEK YÜKSEKOKULU | E22: =IF(A22=1,TRIM(DATA!D23),"") -> Süt ve Ürünleri Teknolojisi | F22: =IF(A22=1,IF(ISNUMBER(SEARCH("KKTC Uyruklu",E22)),"EVET","HAYIR"),"") -> HAYIR | G22: =A22*N(DATA!E23) -> 6 | H22: =A22*N(DATA!F23) -> 6 | I22: =A22*N(DATA!G23) -> 0 | J22: =A22*N(DATA!H23) -> 0 | K22: =G22+I22 -> 6 | L22: =H22+J22 -> 6 | M22: =MAX(0,K22-L22) -> 0 | N22: =A22*IF(F22="EVET",--prm_KKTC,1)*OR(prm_Duzey="Tümü",C22=prm_Duzey)*OR(prm_Fak="Tümü",D22=prm_Fak)*OR(prm_Prog="Tümü",E22=prm_Prog) -> 1 | O22: =N22*(K22>0)*(L22>=K22) -> 1 | P22: =N22*(K22>0)*(L22=0) -> 0 | Q22: =N22*(F22="EVET") -> 0 | R22: =IF(D22="","",SUBSTITUTE(SUBSTITUTE(SUBSTITUTE(SUBSTITUTE(SUBSTITUTE(SUBSTITUTE(D22,"İKTİSADİ VE İDARİ BİLİMLER FAKÜLTESİ","İİBF"),"ORGANİZE SANAYİ BÖLGESİ","OSB"),"MESLEK YÜKSEKOKULU","MYO"),"UYGULAMALI BİLİMLER","UB"),"FAKÜLTESİ","FAK."),"YÜKSEKOKULU","YO")) -> BİGA MYO | W22: İLETİŞİM FAKÜLTESİ | X22: Elektrik | Z22: TURİZM FAKÜLTESİ | AO22: Talaşlı Üretim Teknikerliği | AU22: 15
A23: =IF(AND(DATA!A24<>"",TRIM(DATA!D24)<>""),1,0) -> 1 | B23: =IF(A23=1,DATA!A24,"") -> 102790539 | C23: =IF(A23=1,TRIM(DATA!B24),"") -> ÖNLİSANS | D23: =IF(A23=1,TRIM(DATA!C24),"") -> BİGA MESLEK YÜKSEKOKULU | E23: =IF(A23=1,TRIM(DATA!D24),"") -> Yenilenebilir Enerji Teknikerliği | F23: =IF(A23=1,IF(ISNUMBER(SEARCH("KKTC Uyruklu",E23)),"EVET","HAYIR"),"") -> HAYIR | G23: =A23*N(DATA!E24) -> 3 | H23: =A23*N(DATA!F24) -> 3 | I23: =A23*N(DATA!G24) -> 0 | J23: =A23*N(DATA!H24) -> 0 | K23: =G23+I23 -> 3 | L23: =H23+J23 -> 3 | M23: =MAX(0,K23-L23) -> 0 | N23: =A23*IF(F23="EVET",--prm_KKTC,1)*OR(prm_Duzey="Tümü",C23=prm_Duzey)*OR(prm_Fak="Tümü",D23=prm_Fak)*OR(prm_Prog="Tümü",E23=prm_Prog) -> 1 | O23: =N23*(K23>0)*(L23>=K23) -> 1 | P23: =N23*(K23>0)*(L23=0) -> 0 | Q23: =N23*(F23="EVET") -> 0 | R23: =IF(D23="","",SUBSTITUTE(SUBSTITUTE(SUBSTITUTE(SUBSTITUTE(SUBSTITUTE(SUBSTITUTE(D23,"İKTİSADİ VE İDARİ BİLİMLER FAKÜLTESİ","İİBF"),"ORGANİZE SANAYİ BÖLGESİ","OSB"),"MESLEK YÜKSEKOKULU","MYO"),"UYGULAMALI BİLİMLER","UB"),"FAKÜLTESİ","FAK."),"YÜKSEKOKULU","YO")) -> BİGA MYO | W23: İNSAN VE TOPLUM BİLİMLERİ FAKÜLTESİ | X23: Elektrik Enerjisi Üretim, İletim ve Dağıtımı | Z23: FEN FAKÜLTESİ | AO23: Fen Bilgisi Öğretmenliği | AU23: 16
A24: =IF(AND(DATA!A25<>"",TRIM(DATA!D25)<>""),1,0) -> 1 | B24: =IF(A24=1,DATA!A25,"") -> 102790218 | C24: =IF(A24=1,TRIM(DATA!B25),"") -> ÖNLİSANS | D24: =IF(A24=1,TRIM(DATA!C25),"") -> ÇAN MESLEK YÜKSEKOKULU | E24: =IF(A24=1,TRIM(DATA!D25),"") -> Alternatif Enerji Kaynakları Teknolojisi | F24: =IF(A24=1,IF(ISNUMBER(SEARCH("KKTC Uyruklu",E24)),"EVET","HAYIR"),"") -> HAYIR | G24: =A24*N(DATA!E25) -> 5 | H24: =A24*N(DATA!F25) -> 5 | I24: =A24*N(DATA!G25) -> 0 | J24: =A24*N(DATA!H25) -> 0 | K24: =G24+I24 -> 5 | L24: =H24+J24 -> 5 | M24: =MAX(0,K24-L24) -> 0 | N24: =A24*IF(F24="EVET",--prm_KKTC,1)*OR(prm_Duzey="Tümü",C24=prm_Duzey)*OR(prm_Fak="Tümü",D24=prm_Fak)*OR(prm_Prog="Tümü",E24=prm_Prog) -> 1 | O24: =N24*(K24>0)*(L24>=K24) -> 1 | P24: =N24*(K24>0)*(L24=0) -> 0 | Q24: =N24*(F24="EVET") -> 0 | R24: =IF(D24="","",SUBSTITUTE(SUBSTITUTE(SUBSTITUTE(SUBSTITUTE(SUBSTITUTE(SUBSTITUTE(D24,"İKTİSADİ VE İDARİ BİLİMLER FAKÜLTESİ","İİBF"),"ORGANİZE SANAYİ BÖLGESİ","OSB"),"MESLEK YÜKSEKOKULU","MYO"),"UYGULAMALI BİLİMLER","UB"),"FAKÜLTESİ","FAK."),"YÜKSEKOKULU","YO")) -> ÇAN MYO | W24: LAPSEKİ MESLEK YÜKSEKOKULU | X24: Elektronik Teknolojisi | Z24: ÇANAKKALE SAĞLIK HİZMETLERİ MESLEK YÜKSEKOKULU | AO24: Fotoğrafçılık ve Kameramanlık | AU24: 17
A25: =IF(AND(DATA!A26<>"",TRIM(DATA!D26)<>""),1,0) -> 1 | B25: =IF(A25=1,DATA!A26,"") -> 102751303 | C25: =IF(A25=1,TRIM(DATA!B26),"") -> ÖNLİSANS | D25: =IF(A25=1,TRIM(DATA!C26),"") -> ÇAN MESLEK YÜKSEKOKULU | E25: =IF(A25=1,TRIM(DATA!D26),"") -> Biyomedikal Cihaz Teknolojisi | F25: =IF(A25=1,IF(ISNUMBER(SEARCH("KKTC Uyruklu",E25)),"EVET","HAYIR"),"") -> HAYIR | G25: =A25*N(DATA!E26) -> 2 | H25: =A25*N(DATA!F26) -> 2 | I25: =A25*N(DATA!G26) -> 1 | J25: =A25*N(DATA!H26) -> 1 | K25: =G25+I25 -> 3 | L25: =H25+J25 -> 3 | M25: =MAX(0,K25-L25) -> 0 | N25: =A25*IF(F25="EVET",--prm_KKTC,1)*OR(prm_Duzey="Tümü",C25=prm_Duzey)*OR(prm_Fak="Tümü",D25=prm_Fak)*OR(prm_Prog="Tümü",E25=prm_Prog) -> 1 | O25: =N25*(K25>0)*(L25>=K25) -> 1 | P25: =N25*(K25>0)*(L25=0) -> 0 | Q25: =N25*(F25="EVET") -> 0 | R25: =IF(D25="","",SUBSTITUTE(SUBSTITUTE(SUBSTITUTE(SUBSTITUTE(SUBSTITUTE(SUBSTITUTE(D25,"İKTİSADİ VE İDARİ BİLİMLER FAKÜLTESİ","İİBF"),"ORGANİZE SANAYİ BÖLGESİ","OSB"),"MESLEK YÜKSEKOKULU","MYO"),"UYGULAMALI BİLİMLER","UB"),"FAKÜLTESİ","FAK."),"YÜKSEKOKULU","YO")) -> ÇAN MYO | W25: MİMARLIK VE TASARIM FAKÜLTESİ | X25: Elektronörofizyoloji | Z25: GÖKÇEADA UYGULAMALI BİLİMLER YÜKSEKOKULU | AO25: Mobilya ve Dekorasyon | AU25: 18
