Workbook
Name d_34K: DASH_HESAP!$I$2:$I$1001
Name d_34Y: DASH_HESAP!$J$2:$J$1001
Name d_Bos: DASH_HESAP!$M$2:$M$1001
Name d_Dahil: DASH_HESAP!$N$2:$N$1001
Name d_Duzey: DASH_HESAP!$C$2:$C$1001
Name d_Fak: DASH_HESAP!$D$2:$D$1001
Name d_FakKisa: DASH_HESAP!$R$2:$R$1001
Name d_Gecerli: DASH_HESAP!$A$2:$A$1001
Name d_GenK: DASH_HESAP!$G$2:$G$1001
Name d_GenY: DASH_HESAP!$H$2:$H$1001
Name d_KKTC: DASH_HESAP!$F$2:$F$1001
Name d_KKTCDahil: DASH_HESAP!$Q$2:$Q$1001
Name d_Kod: DASH_HESAP!$B$2:$B$1001
Name d_Prog: DASH_HESAP!$E$2:$E$1001
Name d_TamDolu: DASH_HESAP!$O$2:$O$1001
Name d_TopK: DASH_HESAP!$K$2:$K$1001
Name d_TopY: DASH_HESAP!$L$2:$L$1001
Name d_Yerlesmeyen: DASH_HESAP!$P$2:$P$1001
Name prm_Duzey: DASH_HESAP!$T$2
Name prm_Fak: DASH_HESAP!$T$3
Name prm_KKTC: DASH_HESAP!$T$5
Name prm_Prog: DASH_HESAP!$T$4

Sheet XLMind_DashMeta
A1: XLMind Dashboard | B1: {"Version":2,"DashboardId":"XLMind Dashboard","DashboardSheetName":"XLMind Dashboard","SourceSheetName":"Sayfa2","SourceRangeAddress":"$B$2:$N$156","TemplateId":"VIS-DASH-EXEC","ThemeId":"corporate-blue","SurfaceStyle":1,"HasHeader":true,"Sections":[2,4,5,11],"MappingColumns":[-1,0,7,6,5,9,10,-1],"SemanticProfiles":[{"ColumnIndex":0,"SemanticRole":2,"NumberFormatKind":0,"CurrencySymbol":"","MeasureSemantic":0,"SuggestedAggregation":0,"CanSum":false,"CanAverage":false,"CanMinMax":false,"CanTrend":false,"CanRank":true,"CanShare":true,"CanDelta":false,"Confidence":0.0,"IsUserOverridden":false},{"ColumnIndex":1,"SemanticRole":2,"NumberFormatKind":0,"CurrencySymbol":"","MeasureSemantic":0,"SuggestedAggregation":0,"CanSum":false,"CanAverage":false,"CanMinMax":false,"CanTrend":false,"CanRank":true,"CanShare":true,"CanDelta":false,"Confidence":0.0,"IsUserOverridden":false},{"ColumnIndex":2,"SemanticRole":2,"NumberFormatKind":0,"CurrencySymbol":"","MeasureSemantic":0,"SuggestedAggregation":0,"CanSum":false,"CanAverage":false,"CanMinMax":false,"CanTrend":false,"CanRank":true,"CanShare":true,"CanDelta":false,"Confidence":0.0,"IsUserOverridden":false},{"ColumnIndex":3,"SemanticRole":2,"NumberFormatKind":0,"CurrencySymbol":"","MeasureSemantic":0,"SuggestedAggregation":0,"CanSum":false,"CanAverage":false,"CanMinMax":false,"CanTrend":false,"CanRank":true,"CanShare":true,"CanDelta":false,"Confidence":0.0,"IsUserOverridden":false},{"ColumnIndex":4,"SemanticRole":2,"NumberFormatKind":0,"CurrencySymbol":"","MeasureSemantic":0,"SuggestedAggregation":0,"CanSum":false,"CanAverage":false,"CanMinMax":false,"CanTrend":false,"CanRank":true,"CanShare":true,"CanDelta":false,"Confidence":0.0,"IsUserOverridden":false},{"ColumnIndex":5,"SemanticRole":15,"NumberFormatKind":0,"CurrencySymbol":"","MeasureSemantic":1,"SuggestedAggregation":1,"CanSum":true,"CanAverage":true,"CanMinMax":true,"CanTrend":true,"CanRank":true,"CanShare":true,"CanDelta":true,"Confidence":0.5,"IsUserOverridden":false},{"ColumnIndex":6,"SemanticRole":15,"NumberFormatKind":0,"CurrencySymbol":"","MeasureSemantic":1,"SuggestedAggregation":1,"CanSum":true,"CanAverage":true,"CanMinMax":true,"CanTrend":true,"CanRank":true,"CanShare":true,"CanDelta":true,"Confidence":0.5,"IsUserOverridden":false},{"ColumnIndex":7,"SemanticRole":15,"NumberFormatKind":0,"CurrencySymbol":"","MeasureSemantic":12,"SuggestedAggregation":2,"CanSum":false,"CanAverage":true,"CanMinMax":true,"CanTrend":true,"CanRank":true,"CanShare":false,"CanDelta":true,"Confidence":0.85,"IsUserOverridden":false},{"ColumnIndex":8,"SemanticRole":15,"NumberFormatKind":0,"CurrencySymbol":"","MeasureSemantic":12,"SuggestedAggregation":2,"CanSum":false,"CanAverage":true,"CanMinMax":true,"CanTrend":true,"CanRank":true,"CanShare":false,"CanDelta":true,"Confidence":0.85,"IsUserOverridden":false},{"ColumnIndex":9,"SemanticRole":15,"NumberFormatKind":0,"CurrencySymbol":"","MeasureSemantic":1,"SuggestedAggregation":1,"CanSum":true,"CanAverage":true,"CanMinMax":true,"CanTrend":true,"CanRank":true,"CanShare":true,"CanDelta":true,"Confidence":0.5,"IsUserOverridden":false},{"ColumnIndex":10,"SemanticRole":15,"NumberFormatKind":0,"CurrencySymbol":"","MeasureSemantic":1,"SuggestedAggregation":1,"CanSum":true,"CanAverage":true,"CanMinMax":true,"CanTrend":true,"CanRank":true,"CanShare":true,"CanDelta":true,"Confidence":0.5,"IsUserOverridden":false},{"ColumnIndex":11,"SemanticRole":15,"NumberFormatKind":0,"CurrencySymbol":"","MeasureSemantic":12,"SuggestedAggregation":2,"CanSum":false,"CanAverage":true,"CanMinMax":true,"CanTrend":true,"CanRank":true,"CanShare":false,"CanDelta":true,"Confidence":0.85,"IsUserOverridden":false},{"ColumnIndex":12,"SemanticRole":15,"NumberFormatKind":0,"CurrencySymbol":"","MeasureSemantic":12,"SuggestedAggregation":2,"CanSum":false,"CanAverage":true,"CanMinMax":true,"CanTrend":true,"CanRank":true,"CanShare":false,"CanDelta":true,"Confidence":0.85,"IsUserOverridden":false}],"SheetTitle":"2026 YKS EK KONTENJAN İLE YERLEŞEN SONUÇLARININ ÖZETİ","GeneratedAt":"2026-09-28 21:17","FilterEnabled":true,"FilterColumnIndex":2,"FilterColumnName":"Fakülte/Yüksekokul Adı","FilterValueKind":0,"FilterIncludeAll":true,"FilterIncludeBlanks":true,"FilterDefaultValue":null,"FilterAllLabel":"Tümü","TriggerCellAddress":"B1","TriggerListRangeName":"XLMind_DashFilter","PrimaryShapeName":"XLMind_Dashboard_IMG","InsertWidthPt":620.0,"RendererType":"Picture","RefreshMode":"Auto"}

Sheet DATA
E1: Genel Ek Kontenjan | G1: 34 Yaş Üstü Kadın Ek Kontenjanı
A2: Program Kodu | B2: Eğitim Düzeyi | C2: Fakülte/Yüksekokul Adı | D2: Program Adı | E2: Kontenjan | F2: Yerleşen | G2: Kontenjan | H2: Yerleşen
A3: 102751021 | B3: ÖNLİSANS | C3: AYVACIK MESLEK YÜKSEKOKULU | D3: Bankacılık ve Sigortacılık | E3: 6 | F3: 6
A4: 102751269 | B4: ÖNLİSANS | C4: AYVACIK MESLEK YÜKSEKOKULU | D4: Geleneksel El Sanatları | E4: 4 | F4: 4
A5: 102750826 | B5: ÖNLİSANS | C5: AYVACIK MESLEK YÜKSEKOKULU | D5: İşletme Yönetimi | E5: 2 | F5: 2
A6: 102790173 | B6: ÖNLİSANS | C6: AYVACIK MESLEK YÜKSEKOKULU | D6: Turist Rehberliği | E6: 8 | F6: 3 | G6: 2 | H6: 2
A7: 102750156 | B7: ÖNLİSANS | C7: AYVACIK MESLEK YÜKSEKOKULU | D7: Turizm ve Otel İşletmeciliği | E7: 4 | F7: 4
A8: 102790172 | B8: ÖNLİSANS | C8: BAYRAMİÇ MESLEK YÜKSEKOKULU | D8: Çocuk Gelişimi | E8: 4 | F8: 4 | G8: 1 | H8: 1
A9: 102751339 | B9: ÖNLİSANS | C9: BAYRAMİÇ MESLEK YÜKSEKOKULU | D9: Halkla İlişkiler ve Tanıtım | E9: 10 | F9: 10
A10: 102790211 | B10: ÖNLİSANS | C10: BAYRAMİÇ MESLEK YÜKSEKOKULU | D10: Laboratuvar Teknolojisi | E10: 9 | F10: 9 | G10: 1 | H10: 1
A11: 102790212 | B11: ÖNLİSANS | C11: BAYRAMİÇ MESLEK YÜKSEKOKULU | D11: Ormancılık ve Orman Ürünleri | E11: 3 | F11: 2
A12: 102750208 | B12: ÖNLİSANS | C12: BİGA MESLEK YÜKSEKOKULU | D12: Elektrik | E12: 2 | F12: 2
A13: 102751375 | B13: ÖNLİSANS | C13: BİGA MESLEK YÜKSEKOKULU | D13: Elektrik Enerjisi Üretim, İletim ve Dağıtımı | E13: 1 | F13: 1 | G13: 1 | H13: 1
A14: 102751515 | B14: ÖNLİSANS | C14: BİGA MESLEK YÜKSEKOKULU | D14: Elektrik Enerjisi Üretim, İletim ve Dağıtımı (KKTC Uyruklu) | E14: 1 | F14: 0
A15: 102751012 | B15: ÖNLİSANS | C15: BİGA MESLEK YÜKSEKOKULU | D15: Gıda Teknolojisi | E15: 3 | F15: 3
A16: 102751003 | B16: ÖNLİSANS | C16: BİGA MESLEK YÜKSEKOKULU | D16: İşletme Yönetimi | E16: 4 | F16: 4
A17: 102750226 | B17: ÖNLİSANS | C17: BİGA MESLEK YÜKSEKOKULU | D17: Kooperatifçilik | E17: 10 | F17: 10
A18: 102750235 | B18: ÖNLİSANS | C18: BİGA MESLEK YÜKSEKOKULU | D18: Makine | E18: 2 | F18: 2
A19: 102790364 | B19: ÖNLİSANS | C19: BİGA MESLEK YÜKSEKOKULU | D19: Mobilya ve Dekorasyon | E19: 8 | F19: 8
A20: 102750747 | B20: ÖNLİSANS | C20: BİGA MESLEK YÜKSEKOKULU | D20: Muhasebe ve Vergi Uygulamaları | E20: 3 | F20: 3
A21: 102750808 | B21: ÖNLİSANS | C21: BİGA MESLEK YÜKSEKOKULU | D21: Otomotiv Teknolojisi | E21: 6 | F21: 1 | G21: 1 | H21: 1
A22: 102750271 | B22: ÖNLİSANS | C22: BİGA MESLEK YÜKSEKOKULU | D22: Pazarlama | E22: 4 | F22: 4
A23: 102750695 | B23: ÖNLİSANS | C23: BİGA MESLEK YÜKSEKOKULU | D23: Süt ve Ürünleri Teknolojisi | E23: 6 | F23: 6
A24: 102790539 | B24: ÖNLİSANS | C24: BİGA MESLEK YÜKSEKOKULU | D24: Yenilenebilir Enerji Teknikerliği | E24: 3 | F24: 3
A25: 102790218 | B25: ÖNLİSANS | C25: ÇAN MESLEK YÜKSEKOKULU | D25: Alternatif Enerji Kaynakları Teknolojisi | E25: 5 | F25: 5
A26: 102751303 | B26: ÖNLİSANS | C26: ÇAN MESLEK YÜKSEKOKULU | D26: Biyomedikal Cihaz Teknolojisi | E26: 2 | F26: 2 | G26: 1 | H26: 1
A27: 102751172 | B27: ÖNLİSANS | C27: ÇAN MESLEK YÜKSEKOKULU | D27: Elektrik Enerjisi Üretim, İletim ve Dağıtımı | E27: 4 | F27: 4 | G27: 1 | H27: 1
A28: 102751066 | B28: ÖNLİSANS | C28: ÇAN MESLEK YÜKSEKOKULU | D28: Elektronik Teknolojisi | E28: 5 | F28: 3 | G28: 1 | H28: 1
A29: 102751296 | B29: ÖNLİSANS | C29: ÇAN MESLEK YÜKSEKOKULU | D29: Enerji Tesisleri İşletmeciliği | E29: 5 | F29: 5 | G29: 1 | H29: 1
A30: 102790546 | B30: ÖNLİSANS | C30: ÇAN MESLEK YÜKSEKOKULU | D30: Karbon Yönetimi Teknikerliği | E30: 6 | F30: 6
A31: 102750332 | B31: ÖNLİSANS | C31: ÇAN MESLEK YÜKSEKOKULU | D31: Lojistik | E31: 11 | F31: 7 | G31: 1 | H31: 1
A32: 102790234 | B32: ÖNLİSANS | C32: ÇAN MESLEK YÜKSEKOKULU | D32: Madencilik Teknolojisi | E32: 4 | F32: 4 | G32: 1 | H32: 1
A33: 102750323 | B33: ÖNLİSANS | C33: ÇAN MESLEK YÜKSEKOKULU | D33: Mekatronik | E33: 7 | F33: 6 | G33: 2 | H33: 2
A34: 102751278 | B34: ÖNLİSANS | C34: ÇAN MESLEK YÜKSEKOKULU | D34: Mimari Dekoratif Sanatlar | E34: 20 | F34: 20
A35: 102751057 | B35: ÖNLİSANS | C35: ÇAN MESLEK YÜKSEKOKULU | D35: Muhasebe ve Vergi Uygulamaları | E35: 3 | F35: 3
A36: 102751551 | B36: ÖNLİSANS | C36: ÇAN MESLEK YÜKSEKOKULU | D36: Sondaj Teknolojisi | E36: 5 | F36: 5
A37: 102790308 | B37: ÖNLİSANS | C37: ÇANAKKALE SAĞLIK HİZMETLERİ MESLEK YÜKSEKOKULU | D37: Eczane Hizmetleri | E37: 1 | F37: 1
A38: 102790553 | B38: ÖNLİSANS | C38: ÇANAKKALE SAĞLIK HİZMETLERİ MESLEK YÜKSEKOKULU | D38: Eczane Hizmetleri (KKTC Uyruklu) | E38: 1 | F38: 0
A39: 102751321 | B39: ÖNLİSANS | C39: ÇANAKKALE SAĞLIK HİZMETLERİ MESLEK YÜKSEKOKULU | D39: Elektronörofizyoloji | E39: 2 | F39: 2
A40: 102750941 | B40: ÖNLİSANS | C40: ÇANAKKALE SAĞLIK HİZMETLERİ MESLEK YÜKSEKOKULU | D40: Tıbbi Laboratuvar Teknikleri | E40: 2 | F40: 2
A41: 102751393 | B41: ÖNLİSANS | C41: ÇANAKKALE SOSYAL BİLİMLER MESLEK YÜKSEKOKULU | D41: Çocuk Gelişimi | E41: 2 | F41: 1
A42: 102750605 | B42: ÖNLİSANS | C42: ÇANAKKALE SOSYAL BİLİMLER MESLEK YÜKSEKOKULU | D42: Fotoğrafçılık ve Kameramanlık | E42: 8 | F42: 4
A43: 102750977 | B43: ÖNLİSANS | C43: ÇANAKKALE SOSYAL BİLİMLER MESLEK YÜKSEKOKULU | D43: Halkla İlişkiler ve Tanıtım | E43: 7 | F43: 6
A44: 102750817 | B44: ÖNLİSANS | C44: ÇANAKKALE SOSYAL BİLİMLER MESLEK YÜKSEKOKULU | D44: İşletme Yönetimi | E44: 7 | F44: 7
A45: 102790560 | B45: ÖNLİSANS | C45: ÇANAKKALE TEKNİK BİLİMLER MESLEK YÜKSEKOKULU | D45: Alternatif Enerji Kaynakları Teknolojisi | E45: 1 | F45: 1
... A52: 102750968 | B52: ÖNLİSANS | C52: ÇANAKKALE TEKNİK BİLİMLER MESLEK YÜKSEKOKULU | D52: İnşaat Teknolojisi | E52: 5 | F52: 2
A53: 102790574 | B53: ÖNLİSANS | C53: ÇANAKKALE TEKNİK BİLİMLER MESLEK YÜKSEKOKULU | D53: Mobil Teknolojileri | E53: 2 | F53: 2 | G53: 1 | H53: 1
A54: 102790581 | B54: ÖNLİSANS | C54: ÇANAKKALE TEKNİK BİLİMLER MESLEK YÜKSEKOKULU | D54: Otonom Sistemler Teknikerliği | E54: 1 | F54: 0 | G54: 1 | H54: 1
A55: 102790588 | B55: ÖNLİSANS | C55: ÇANAKKALE TEKNİK BİLİMLER MESLEK YÜKSEKOKULU | D55: Oyun Geliştirme ve Programlama | E55: 1 | F55: 1 | G55: 1 | H55: 1
A56: 102790595 | B56: ÖNLİSANS | C56: ÇANAKKALE TEKNİK BİLİMLER MESLEK YÜKSEKOKULU | D56: Robotik ve Yapay Zeka | E56: 1 | F56: 1
A57: 102790602 | B57: ÖNLİSANS | C57: ÇANAKKALE TEKNİK BİLİMLER MESLEK YÜKSEKOKULU | D57: Talaşlı Üretim Teknikerliği | E57: 9 | F57: 9
A58: 102790609 | B58: ÖNLİSANS | C58: ÇANAKKALE TEKNİK BİLİMLER MESLEK YÜKSEKOKULU | D58: Yapı Yüzeyi Tasarım Teknikerliği | E58: 4 | F58: 4
A59: 102790371 | B59: ÖNLİSANS | C59: DENİZCİLİK MESLEK YÜKSEKOKULU | D59: Gemi İnşaatı | E59: 3 | F59: 2 | G59: 1 | H59: 1
A60: 102790385 | B60: ÖNLİSANS | C60: DENİZCİLİK MESLEK YÜKSEKOKULU | D60: Su Altı Kaynak Teknolojisi | E60: 11 | F60: 3 | G60: 1 | H60: 1
A61: 102790392 | B61: ÖNLİSANS | C61: DENİZCİLİK MESLEK YÜKSEKOKULU | D61: Su Altı Teknolojisi | E61: 5 | F61: 2 | G61: 1 | H61: 1
A62: 102790399 | B62: ÖNLİSANS | C62: EZİNE GIDA İHTİSAS ORGANİZE SANAYİ BÖLGESİ MESLEK YÜKSEKOKULU | D62: Dış Ticaret | E62: 3 | F62: 3
A63: 102790406 | B63: ÖNLİSANS | C63: EZİNE GIDA İHTİSAS ORGANİZE SANAYİ BÖLGESİ MESLEK YÜKSEKOKULU | D63: Gıda Kalite Kontrolü ve Analizi | E63: 5 | F63: 5 | G63: 1 | H63: 1
A64: 102790413 | B64: ÖNLİSANS | C64: EZİNE GIDA İHTİSAS ORGANİZE SANAYİ BÖLGESİ MESLEK YÜKSEKOKULU | D64: Halkla İlişkiler ve Tanıtım | E64: 9 | F64: 9
A65: 102790420 | B65: ÖNLİSANS | C65: EZİNE GIDA İHTİSAS ORGANİZE SANAYİ BÖLGESİ MESLEK YÜKSEKOKULU | D65: İşletme Yönetimi | E65: 6 | F65: 6
A66: 102790616 | B66: ÖNLİSANS | C66: EZİNE GIDA İHTİSAS ORGANİZE SANAYİ BÖLGESİ MESLEK YÜKSEKOKULU | D66: Lojistik | E66: 5 | F66: 5 | G66: 1 | H66: 1
A67: 102790427 | B67: ÖNLİSANS | C67: EZİNE GIDA İHTİSAS ORGANİZE SANAYİ BÖLGESİ MESLEK YÜKSEKOKULU | D67: Muhasebe ve Vergi Uygulamaları | E67: 2 | F67: 2
A68: 102790434 | B68: ÖNLİSANS | C68: EZİNE GIDA İHTİSAS ORGANİZE SANAYİ BÖLGESİ MESLEK YÜKSEKOKULU | D68: Pazarlama | E68: 4 | F68: 4
A69: 102790441 | B69: ÖNLİSANS | C69: EZİNE GIDA İHTİSAS ORGANİZE SANAYİ BÖLGESİ MESLEK YÜKSEKOKULU | D69: Süt ve Ürünleri Teknolojisi | E69: 6 | F69: 6
A70: 102790448 | B70: ÖNLİSANS | C70: EZİNE GIDA İHTİSAS ORGANİZE SANAYİ BÖLGESİ MESLEK YÜKSEKOKULU | D70: Turizm ve Seyahat Hizmetleri | E70: 6 | F70: 6
A71: 102750377 | B71: ÖNLİSANS | C71: GELİBOLU PİRİ REİS MESLEK YÜKSEKOKULU | D71: Deniz ve Liman İşletmeciliği | E71: 6 | F71: 6
A72: 102751578 | B72: ÖNLİSANS | C72: GELİBOLU PİRİ REİS MESLEK YÜKSEKOKULU | D72: İnsan Kaynakları Yönetimi | E72: 7 | F72: 6
A73: 102750395 | B73: ÖNLİSANS | C73: GELİBOLU PİRİ REİS MESLEK YÜKSEKOKULU | D73: Turizm ve Otel İşletmeciliği | E73: 4 | F73: 2 | G73: 1 | H73: 1
A74: 102751533 | B74: ÖNLİSANS | C74: GELİBOLU PİRİ REİS MESLEK YÜKSEKOKULU | D74: Turizm ve Seyahat Hizmetleri | E74: 7 | F74: 0
A75: 102750677 | B75: ÖNLİSANS | C75: GÖKÇEADA MESLEK YÜKSEKOKULU | D75: Dış Ticaret | E75: 3 | F75: 3 | G75: 1 | H75: 1
A76: 102750711 | B76: ÖNLİSANS | C76: GÖKÇEADA MESLEK YÜKSEKOKULU | D76: Halkla İlişkiler ve Tanıtım | E76: 8 | F76: 8 | G76: 2 | H76: 2
A77: 102750844 | B77: ÖNLİSANS | C77: GÖKÇEADA MESLEK YÜKSEKOKULU | D77: İşletme Yönetimi | E77: 7 | F77: 7
A78: 102750465 | B78: ÖNLİSANS | C78: GÖKÇEADA MESLEK YÜKSEKOKULU | D78: Turizm ve Otel İşletmeciliği | E78: 4 | F78: 2
A79: 102790623 | B79: ÖNLİSANS | C79: LAPSEKİ MESLEK YÜKSEKOKULU | D79: Akıllı Tarım ve Gıda Yönetimi | E79: 6 | F79: 6
A80: 102790216 | B80: ÖNLİSANS | C80: LAPSEKİ MESLEK YÜKSEKOKULU | D80: Bankacılık ve Sigortacılık | E80: 5 | F80: 2 | G80: 1 | H80: 1
A81: 102751154 | B81: ÖNLİSANS | C81: LAPSEKİ MESLEK YÜKSEKOKULU | D81: Bitki Koruma | E81: 3 | F81: 3
A82: 102790240 | B82: ÖNLİSANS | C82: LAPSEKİ MESLEK YÜKSEKOKULU | D82: Biyokimya | E82: 1 | F82: 1 | G82: 1 | H82: 1
A83: 102751145 | B83: ÖNLİSANS | C83: LAPSEKİ MESLEK YÜKSEKOKULU | D83: Fidan Yetiştiriciliği | E83: 11 | F83: 11
A84: 102751524 | B84: ÖNLİSANS | C84: LAPSEKİ MESLEK YÜKSEKOKULU | D84: Fidan Yetiştiriciliği (KKTC Uyruklu) | E84: 1 | F84: 0
A85: 102751109 | B85: ÖNLİSANS | C85: LAPSEKİ MESLEK YÜKSEKOKULU | D85: Laboratuvar Teknolojisi | E85: 3 | F85: 3
A86: 102750774 | B86: ÖNLİSANS | C86: LAPSEKİ MESLEK YÜKSEKOKULU | D86: Muhasebe ve Vergi Uygulamaları | E86: 4 | F86: 4
A87: 102750598 | B87: ÖNLİSANS | C87: LAPSEKİ MESLEK YÜKSEKOKULU | D87: Organik Tarım | E87: 6 | F87: 6
A88: 102790233 | B88: ÖNLİSANS | C88: LAPSEKİ MESLEK YÜKSEKOKULU | D88: Peyzaj ve Süs Bitkileri Yetiştiriciliği | E88: 3 | F88: 3
A89: 102750526 | B89: ÖNLİSANS | C89: YENİCE MESLEK YÜKSEKOKULU | D89: Bankacılık ve Sigortacılık | E89: 6 | F89: 6
A90: 102750686 | B90: ÖNLİSANS | C90: YENİCE MESLEK YÜKSEKOKULU | D90: Dış Ticaret | E90: 10 | F90: 9 | G90: 1 | H90: 1
A91: 102790293 | B91: ÖNLİSANS | C91: YENİCE MESLEK YÜKSEKOKULU | D91: Laborant ve Veteriner Sağlık | E91: 7 | F91: 6
A92: 102751127 | B92: ÖNLİSANS | C92: YENİCE MESLEK YÜKSEKOKULU | D92: Lojistik | E92: 10 | F92: 10 | G92: 1 | H92: 1
A93: 102751436 | B93: ÖNLİSANS | C93: YENİCE MESLEK YÜKSEKOKULU | D93: Mimari Dekoratif Sanatlar | E93: 12 | F93: 12
A94: 102790455 | B94: ÖNLİSANS | C94: YENİCE MESLEK YÜKSEKOKULU | D94: Moda Tasarımı | E94: 16 | F94: 4
A95: 102751506 | B95: ÖNLİSANS | C95: YENİCE MESLEK YÜKSEKOKULU | D95: Ormancılık ve Orman Ürünleri | E95: 2 | F95: 0
A96: 102710439 | B96: LİSANS | C96: BİGA İKTİSADİ VE İDARİ BİLİMLER FAKÜLTESİ | D96: Çalışma Ekonomisi ve Endüstri İlişkileri | E96: 3 | F96: 3
A97: 102710509 | B97: LİSANS | C97: BİGA İKTİSADİ VE İDARİ BİLİMLER FAKÜLTESİ | D97: Ekonometri | E97: 2 | F97: 2 | G97: 1 | H97: 1
A98: 102710448 | B98: LİSANS | C98: BİGA İKTİSADİ VE İDARİ BİLİMLER FAKÜLTESİ | D98: İktisat | E98: 4 | F98: 4 | G98: 2 | H98: 2
A99: 102710457 | B99: LİSANS | C99: BİGA İKTİSADİ VE İDARİ BİLİMLER FAKÜLTESİ | D99: İşletme | E99: 4 | F99: 4 | G99: 1 | H99: 1
A100: 102710466 | B100: LİSANS | C100: BİGA İKTİSADİ VE İDARİ BİLİMLER FAKÜLTESİ | D100: Kamu Yönetimi | E100: 1 | F100: 1
A101: 102710475 | B101: LİSANS | C101: BİGA İKTİSADİ VE İDARİ BİLİMLER FAKÜLTESİ | D101: Maliye | E101: 1 | F101: 1 | G101: 1 | H101: 1
A102: 102790315 | B102: LİSANS | C102: BİGA İKTİSADİ VE İDARİ BİLİMLER FAKÜLTESİ | D102: Uluslararası İlişkiler | E102: 2 | F102: 1 | G102: 2 | H102: 2
A103: 102790242 | B103: LİSANS | C103: BİGA UYGULAMALI BİLİMLER FAKÜLTESİ | D103: Finans ve Bankacılık | E103: 4 | F103: 4 | G103: 1 | H103: 1
A104: 102790184 | B104: LİSANS | C104: BİGA UYGULAMALI BİLİMLER FAKÜLTESİ | D104: Uluslararası Ticaret ve Lojistik | E104: 5 | F104: 0
A105: 102710872 | B105: LİSANS | C105: ÇAN UYGULAMALI BİLİMLER FAKÜLTESİ | D105: İş Sağlığı ve Güvenliği | E105: 5 | F105: 5
A106: 102710899 | B106: LİSANS | C106: ÇAN UYGULAMALI BİLİMLER FAKÜLTESİ | D106: İş Sağlığı ve Güvenliği (KKTC Uyruklu) | E106: 1 | F106: 0
...

Sheet DASHBOARD
B2: 2026 YKS-EK KONTENJAN YERLEŞEN SAYILARI DASHBOARD - ÇANAKKALE ONSEKİZ MART ÜNİVERSİTESİ
B3: 2026 YKS Ek Kontenjan — Kontenjan ve Yerleşen Sayıları | Kaynak: Sayfa2 (Genel Ek Kontenjan + 34 Yaş Üstü Kadın Ek Kontenjanı)
B5: FİLTRELER / SEÇİMLER
B6: EĞİTİM DÜZEYİ | E6: FAKÜLTE / YÜKSEKOKUL | K6: PROGRAM ADI | Q6: KKTC Uyruklu Kontenjanı
B7: Tümü | E7: Tümü | K7: Tümü | Q7: FALSE | R7: =IF(prm_KKTC,"Dahil ediliyor","Hariç tutuluyor") -> Hariç tutuluyor
B8: ="Aktif filtre: "&prm_Duzey&" › "&prm_Fak&" › "&prm_Prog&IF(SUM(d_Dahil)=0," ⚠ Bu seçim kombinasyonunda kayıt yok — alt filtreleri 'Tümü' yapın.","") -> Aktif filtre: Tümü › Tümü › Tümü
B10: TEMEL GÖSTERGELER (KPI)
B12: PROGRAM SAYISI | E12: BENZERSİZ PROGRAM ADI | H12: FAKÜLTE / YO / MYO SAYISI | K12: TOPLAM KONTENJAN | N12: TOPLAM YERLEŞEN | Q12: EK KONTENJAN DOLULUK ORANI
B13: =SUM(d_Dahil) -> 146 | E13: {=IF(SUM(d_Dahil)=0,0,ROWS(_xlfn.UNIQUE(_xlfn._xlws.FILTER(d_Prog,d_Dahil=1))))} -> 117 | H13: {=IF(SUM(d_Dahil)=0,0,ROWS(_xlfn.UNIQUE(_xlfn._xlws.FILTER(d_Fak,d_Dahil=1))))} -> 30 | K13: =SUMIFS(d_TopK,d_Dahil,1) -> 653 | N13: =SUMIFS(d_TopY,d_Dahil,1) -> 523 | Q13: =IFERROR(SUMIFS(d_TopY,d_Dahil,1)/SUMIFS(d_TopK,d_Dahil,1),0) -> 0.80091884
B14: ="Kayıt bazında · veride toplam "&SUM(d_Gecerli) -> Kayıt bazında · veride toplam 154 | E14: ="Farklı program adı" -> Farklı program adı | H14: ="Akademik birim" -> Akademik birim | K14: ="Genel + 34 Yaş Üstü Kadın" -> Genel + 34 Yaş Üstü Kadın | N14: ="Genel + 34 Yaş Üstü Kadın" -> Genel + 34 Yaş Üstü Kadın | Q14: ="Yerleşen / Kontenjan" -> Yerleşen / Kontenjan
B17: GENEL EK KONTENJAN | E17: 34 YAŞ ÜSTÜ KADIN KONTENJANI | H17: BOŞ KALAN KONTENJAN | K17: TAM DOLAN PROGRAM | N17: YERLEŞEN OLMAYAN PROGRAM | Q17: KKTC UYRUKLU PROGRAM
B18: =SUMIFS(d_GenK,d_Dahil,1) -> 602 | E18: =SUMIFS(d_34K,d_Dahil,1) -> 51 | H18: =SUMIFS(d_Bos,d_Dahil,1) -> 130 | K18: =SUM(d_TamDolu) -> 104 | N18: =SUM(d_Yerlesmeyen) -> 10 | Q18: =SUM(d_KKTCDahil) -> 0
B19: ="Yerleşen: "&SUMIFS(d_GenY,d_Dahil,1)&" (%"&FIXED(IFERROR(SUMIFS(d_GenY,d_Dahil,1)/SUMIFS(d_GenK,d_Dahil,1),0)*100,1)&")" -> Yerleşen: 475 (%78,9) | E19: ="Yerleşen: "&SUMIFS(d_34Y,d_Dahil,1)&" (%"&FIXED(IFERROR(SUMIFS(d_34Y,d_Dahil,1)/SUMIFS(d_34K,d_Dahil,1),0)*100,1)&")" -> Yerleşen: 48 (%94,1) | H19: ="Boş oran: %"&FIXED(IFERROR(SUMIFS(d_Bos,d_Dahil,1)/SUMIFS(d_TopK,d_Dahil,1),0)*100,1) -> Boş oran: %19,9 | K19: ="Yerleşen ≥ kontenjan" -> Yerleşen ≥ kontenjan | N19: ="Kontenjan var, yerleşen yok" -> Kontenjan var, yerleşen yok | Q19: =IF(prm_KKTC,"Dahil · veride toplam ","Hariç tutuluyor · veride ")&COUNTIF(d_KKTC,"EVET") -> Hariç tutuluyor · veride 8
B21: GRAFİKLER VE ANALİZLER
B65: ÖZET TABLO — FAKÜLTE / YÜKSEKOKUL BAZINDA (kontenjana göre sıralı)
B66: Fakülte / Yüksekokul | G66: Eğitim Düzeyi | I66: Program | K66: Kontenjan | M66: Yerleşen | O66: Boş | Q66: Doluluk
B67: {=_xlfn.ANCHORARRAY(DASH_HESAP!$Z$2)} -> ÇAN MESLEK YÜKSEKOKULU | G67: {=IF(_xlfn.ANCHORARRAY(B67)="","",INDEX(d_Duzey,MATCH(_xlfn.ANCHORARRAY(B67),d_Fak,0)))} -> ÖNLİSANS | J67: {=IF(_xlfn.ANCHORARRAY(B67)="","",COUNTIFS(d_Fak,_xlfn.ANCHORARRAY(B67),d_Dahil,1))} -> 12 | L67: {=IF(_xlfn.ANCHORARRAY(B67)="","",SUMIFS(d_TopK,d_Fak,_xlfn.ANCHORARRAY(B67),d_Dahil,1))} -> 85 | N67: {=IF(_xlfn.ANCHORARRAY(B67)="","",SUMIFS(d_TopY,d_Fak,_xlfn.ANCHORARRAY(B67),d_Dahil,1))} -> 78 | P67: {=IF(_xlfn.ANCHORARRAY(B67)="","",SUMIFS(d_Bos,d_Fak,_xlfn.ANCHORARRAY(B67),d_Dahil,1))} -> 7 | S67: {=IF(_xlfn.ANCHORARRAY(B67)="","",IFERROR(_xlfn.ANCHORARRAY(N67)/_xlfn.ANCHORARRAY(L67),0))} -> 0.91764706
B68: YENİCE MESLEK YÜKSEKOKULU | G68: ÖNLİSANS | J68: 7 | L68: 65 | N68: 49 | P68: 16 | S68: 0.75384615
B69: BİGA MESLEK YÜKSEKOKULU | G69: ÖNLİSANS | J69: 12 | L69: 54 | N69: 49 | P69: 5 | S69: 0.90740741
B70: ÇANAKKALE TEKNİK BİLİMLER MESLEK YÜKSEKOKULU | G70: ÖNLİSANS | J70: 14 | L70: 50 | N70: 32 | P70: 18 | S70: 0.64
B71: EZİNE GIDA İHTİSAS ORGANİZE SANAYİ BÖLGESİ MESLEK YÜKSEKOKULU | G71: ÖNLİSANS | J71: 9 | L71: 48 | N71: 48 | P71: 0 | S71: 1
B72: LAPSEKİ MESLEK YÜKSEKOKULU | G72: ÖNLİSANS | J72: 9 | L72: 44 | N72: 41 | P72: 3 | S72: 0.93181818
B73: EĞİTİM FAKÜLTESİ | G73: LİSANS | J73: 7 | L73: 29 | N73: 8 | P73: 21 | S73: 0.27586207
B74: BAYRAMİÇ MESLEK YÜKSEKOKULU | G74: ÖNLİSANS | J74: 4 | L74: 28 | N74: 27 | P74: 1 | S74: 0.96428571
B75: AYVACIK MESLEK YÜKSEKOKULU | G75: ÖNLİSANS | J75: 5 | L75: 26 | N75: 21 | P75: 5 | S75: 0.80769231
B76: GELİBOLU PİRİ REİS MESLEK YÜKSEKOKULU | G76: ÖNLİSANS | J76: 4 | L76: 25 | N76: 15 | P76: 10 | S76: 0.6
B77: GÖKÇEADA MESLEK YÜKSEKOKULU | G77: ÖNLİSANS | J77: 4 | L77: 25 | N77: 23 | P77: 2 | S77: 0.92
B78: BİGA İKTİSADİ VE İDARİ BİLİMLER FAKÜLTESİ | G78: LİSANS | J78: 7 | L78: 24 | N78: 23 | P78: 1 | S78: 0.95833333
B79: ÇANAKKALE SOSYAL BİLİMLER MESLEK YÜKSEKOKULU | G79: ÖNLİSANS | J79: 4 | L79: 24 | N79: 18 | P79: 6 | S79: 0.75
... B96: MİMARLIK VE TASARIM FAKÜLTESİ | G96: LİSANS | J96: 1 | L96: 1 | N96: 1 | P96: 0 | S96: 1
B99: PROGRAM DETAY LİSTESİ (seçili filtrelere göre)
B100: Program Adı | F100: Fakülte / Yüksekokul | K100: Eğitim Düzeyi | M100: KKTC | O100: Kontenjan | P100: Yerleşen | Q100: Boş | R100: Doluluk
B101: {=IF(_xlfn.ANCHORARRAY(DASH_HESAP!$AU$2)="","",INDEX(d_Prog,_xlfn.ANCHORARRAY(DASH_HESAP!$AU$2)))} -> Bankacılık ve Sigortacılık | F101: {=IF(_xlfn.ANCHORARRAY(DASH_HESAP!$AU$2)="","",INDEX(d_FakKisa,_xlfn.ANCHORARRAY(DASH_HESAP!$AU$2)))} -> AYVACIK MYO | K101: {=IF(_xlfn.ANCHORARRAY(DASH_HESAP!$AU$2)="","",INDEX(d_Duzey,_xlfn.ANCHORARRAY(DASH_HESAP!$AU$2)))} -> ÖNLİSANS | M101: {=IF(_xlfn.ANCHORARRAY(DASH_HESAP!$AU$2)="","",INDEX(d_KKTC,_xlfn.ANCHORARRAY(DASH_HESAP!$AU$2)))} -> HAYIR | O101: {=IF(_xlfn.ANCHORARRAY(DASH_HESAP!$AU$2)="","",INDEX(d_TopK,_xlfn.ANCHORARRAY(DASH_HESAP!$AU$2)))} -> 6 | P101: {=IF(_xlfn.ANCHORARRAY(DASH_HESAP!$AU$2)="","",INDEX(d_TopY,_xlfn.ANCHORARRAY(DASH_HESAP!$AU$2)))} -> 6 | Q101: {=IF(_xlfn.ANCHORARRAY(DASH_HESAP!$AU$2)="","",INDEX(d_Bos,_xlfn.ANCHORARRAY(DASH_HESAP!$AU$2)))} -> 0 | S101: {=IF(_xlfn.ANCHORARRAY(DASH_HESAP!$AU$2)="","",IFERROR(_xlfn.ANCHORARRAY(P101)/_xlfn.ANCHORARRAY(O101),0))} -> 1
B102: Geleneksel El Sanatları | F102: AYVACIK MYO | K102: ÖNLİSANS | M102: HAYIR | O102: 4 | P102: 4 | Q102: 0 | S102: 1
B103: İşletme Yönetimi | F103: AYVACIK MYO | K103: ÖNLİSANS | M103: HAYIR | O103: 2 | P103: 2 | Q103: 0 | S103: 1
B104: Turist Rehberliği | F104: AYVACIK MYO | K104: ÖNLİSANS | M104: HAYIR | O104: 10 | P104: 5 | Q104: 5 | S104: 0.5
B105: Turizm ve Otel İşletmeciliği | F105: AYVACIK MYO | K105: ÖNLİSANS | M105: HAYIR | O105: 4 | P105: 4 | Q105: 0 | S105: 1
B106: Çocuk Gelişimi | F106: BAYRAMİÇ MYO | K106: ÖNLİSANS | M106: HAYIR | O106: 5 | P106: 5 | Q106: 0 | S106: 1
B107: Halkla İlişkiler ve Tanıtım | F107: BAYRAMİÇ MYO | K107: ÖNLİSANS | M107: HAYIR | O107: 10 | P107: 10 | Q107: 0 | S107: 1
B108: Laboratuvar Teknolojisi | F108: BAYRAMİÇ MYO | K108: ÖNLİSANS | M108: HAYIR | O108: 10 | P108: 10 | Q108: 0 | S108: 1
B109: Ormancılık ve Orman Ürünleri | F109: BAYRAMİÇ MYO | K109: ÖNLİSANS | M109: HAYIR | O109: 3 | P109: 2 | Q109: 1 | S109: 0.66666667
B110: Çalışma Ekonomisi ve Endüstri İlişkileri | F110: BİGA İİBF | K110: LİSANS | M110: HAYIR | O110: 3 | P110: 3 | Q110: 0 | S110: 1
B111: Ekonometri | F111: BİGA İİBF | K111: LİSANS | M111: HAYIR | O111: 3 | P111: 3 | Q111: 0 | S111: 1
B112: İktisat | F112: BİGA İİBF | K112: LİSANS | M112: HAYIR | O112: 6 | P112: 6 | Q112: 0 | S112: 1
B113: İşletme | F113: BİGA İİBF | K113: LİSANS | M113: HAYIR | O113: 5 | P113: 5 | Q113: 0 | S113: 1
... B246: Zootekni | F246: ZİRAAT FAK. | K246: LİSANS | M246: HAYIR | O246: 1 | P246: 1 | Q246: 0 | S246: 1

Sheet DASH_HESAP
A1: Geçerli | B1: Program Kodu | C1: Eğitim Düzeyi | D1: Fakülte/Yüksekokul | E1: Program Adı | F1: KKTC_PROGRAMI | G1: Genel Kontenjan | H1: Genel Yerleşen | I1: 34+ Kadın Kontenjan | J1: 34+ Kadın Yerleşen | K1: Toplam Kontenjan | L1: Toplam Yerleşen | M1: Boş Kontenjan | N1: Dahil (Filtre) | O1: Tam Dolu | P1: Yerleşen Yok | Q1: KKTC Dahil | R1: Fakülte (Kısa) | S1: PARAMETRE | T1: DEĞER | V1: Tümü | W1: Tümü | X1: Tümü | Z1: Fakülte (sıralı) | AB1: Fakülte | AC1: Etiket | AD1: Kontenjan | AE1: Yerleşen | AG1: Eğitim Düzeyi | AH1: Kontenjan | AI1: Yerleşen | AK1: Kontenjan Türü | AL1: Kontenjan | AM1: Yerleşen | AO1: Program (sıralı) | AQ1: Program | AR1: Kontenjan | AS1: Yerleşen | AU1: Detay satır sırası
A2: =IF(AND(DATA!A3<>"",TRIM(DATA!D3)<>""),1,0) -> 1 | B2: =IF(A2=1,DATA!A3,"") -> 102751021 | C2: =IF(A2=1,TRIM(DATA!B3),"") -> ÖNLİSANS | D2: =IF(A2=1,TRIM(DATA!C3),"") -> AYVACIK MESLEK YÜKSEKOKULU | E2: =IF(A2=1,TRIM(DATA!D3),"") -> Bankacılık ve Sigortacılık | F2: =IF(A2=1,IF(ISNUMBER(SEARCH("KKTC Uyruklu",E2)),"EVET","HAYIR"),"") -> HAYIR | G2: =A2*N(DATA!E3) -> 6 | H2: =A2*N(DATA!F3) -> 6 | I2: =A2*N(DATA!G3) -> 0 | J2: =A2*N(DATA!H3) -> 0 | K2: =G2+I2 -> 6 | L2: =H2+J2 -> 6 | M2: =MAX(0,K2-L2) -> 0 | N2: =A2*IF(F2="EVET",--prm_KKTC,1)*OR(prm_Duzey="Tümü",C2=prm_Duzey)*OR(prm_Fak="Tümü",D2=prm_Fak)*OR(prm_Prog="Tümü",E2=prm_Prog) -> 1 | O2: =N2*(K2>0)*(L2>=K2) -> 1 | P2: =N2*(K2>0)*(L2=0) -> 0 | Q2: =N2*(F2="EVET") -> 0 | R2: =IF(D2="","",SUBSTITUTE(SUBSTITUTE(SUBSTITUTE(SUBSTITUTE(SUBSTITUTE(SUBSTITUTE(D2,"İKTİSADİ VE İDARİ BİLİMLER FAKÜLTESİ","İİBF"),"ORGANİZE SANAYİ BÖLGESİ","OSB"),"MESLEK YÜKSEKOKULU","MYO"),"UYGULAMALI BİLİMLER","UB"),"FAKÜLTESİ","FAK."),"YÜKSEKOKULU","YO")) -> AYVACIK MYO | S2: Eğitim Düzeyi | T2: =IF(DASHBOARD!B7="","Tümü",DASHBOARD!B7) -> Tümü | V2: {=_xlfn._xlws.SORT(_xlfn.UNIQUE(_xlfn._xlws.FILTER(d_Duzey,d_Gecerli=1,"")))} -> LİSANS | W2: {=_xlfn._xlws.SORT(_xlfn.UNIQUE(_xlfn._xlws.FILTER(d_Fak,(d_Gecerli=1)*((prm_Duzey="Tümü")+(d_Duzey=prm_Duzey)>0)*((d_KKTC="HAYIR")+prm_KKTC>0),"")))} -> AYVACIK MESLEK YÜKSEKOKULU | X2: {=_xlfn._xlws.SORT(_xlfn.UNIQUE(_xlfn._xlws.FILTER(d_Prog,(d_Gecerli=1)*((prm_Duzey="Tümü")+(d_Duzey=prm_Duzey)>0)*((prm_Fak="Tümü")+(d_Fak=prm_Fak)>0)*((d_KKTC="HAYIR")+prm_KKTC>0),"")))} -> Acil Yardım ve Afet Yönetimi | Z2: {=IF(SUM(d_Dahil)=0,"",_xlfn.LET(_xlpm.f,_xlfn.UNIQUE(_xlfn._xlws.FILTER(d_Fak,d_Dahil=1)),_xlpm.k,SUMIFS(d_TopK,d_Fak,_xlpm.f,d_Dahil,1),_xlfn.SORTBY(_xlpm.f,_xlpm.k,-1,_xlpm.f,1)))} -> ÇAN MESLEK YÜKSEKOKULU | AB2: {=IFERROR(""&INDEX(_xlfn.ANCHORARRAY($Z$2),ROWS(AB$2:AB2)),"")} -> ÇAN MESLEK YÜKSEKOKULU | AC2: =IF(AB2="","",SUBSTITUTE(SUBSTITUTE(SUBSTITUTE(SUBSTITUTE(SUBSTITUTE(SUBSTITUTE(AB2,"İKTİSADİ VE İDARİ BİLİMLER FAKÜLTESİ","İİBF"),"ORGANİZE SANAYİ BÖLGESİ","OSB"),"MESLEK YÜKSEKOKULU","MYO"),"UYGULAMALI BİLİMLER","UB"),"FAKÜLTESİ","FAK."),"YÜKSEKOKULU","YO")) -> ÇAN MYO | AD2: =IF(AB2="",0,SUMIFS(d_TopK,d_Fak,AB2,d_Dahil,1)) -> 85 | AE2: =IF(AB2="",0,SUMIFS(d_TopY,d_Fak,AB2,d_Dahil,1)) -> 78 | AG2: {=IFERROR(""&INDEX(_xlfn.ANCHORARRAY($V$2),ROWS(AG$2:AG2)),"")} -> LİSANS | AH2: =IF(AG2="",0,SUMIFS(d_TopK,d_Duzey,AG2,d_Dahil,1)) -> 152 | AI2: =IF(AG2="",0,SUMIFS(d_TopY,d_Duzey,AG2,d_Dahil,1)) -> 107 | AK2: Genel Ek Kontenjan | AL2: =SUMIFS(d_GenK,d_Dahil,1) -> 602 | AM2: =SUMIFS(d_GenY,d_Dahil,1) -> 475 | AO2: {=IF(SUM(d_Dahil)=0,"",_xlfn.LET(_xlpm.p,_xlfn.UNIQUE(_xlfn._xlws.FILTER(d_Prog,d_Dahil=1)),_xlpm.k,SUMIFS(d_TopK,d_Prog,_xlpm.p,d_Dahil,1),_xlfn.SORTBY(_xlpm.p,_xlpm.k,-1,_xlpm.p,1)))} -> Halkla İlişkiler ve Tanıtım | AQ2: {=IFERROR(""&INDEX(_xlfn.ANCHORARRAY($AO$2),ROWS(AQ$2:AQ2)),"")} -> Halkla İlişkiler ve Tanıtım | AR2: =IF(AQ2="",0,SUMIFS(d_TopK,d_Prog,AQ2,d_Dahil,1)) -> 36 | AS2: =IF(AQ2="",0,SUMIFS(d_TopY,d_Prog,AQ2,d_Dahil,1)) -> 35 | AU2: {=IF(SUM(d_Dahil)=0,"",_xlfn.LET(_xlpm.r,_xlfn._xlws.FILTER(_xlfn.SEQUENCE(ROWS(d_Dahil)),d_Dahil=1),_xlfn.SORTBY(_xlpm.r,INDEX(d_Fak,_xlpm.r),1,INDEX(d_Prog,_xlpm.r),1)))} -> 1
A3: =IF(AND(DATA!A4<>"",TRIM(DATA!D4)<>""),1,0) -> 1 | B3: =IF(A3=1,DATA!A4,"") -> 102751269 | C3: =IF(A3=1,TRIM(DATA!B4),"") -> ÖNLİSANS | D3: =IF(A3=1,TRIM(DATA!C4),"") -> AYVACIK MESLEK YÜKSEKOKULU | E3: =IF(A3=1,TRIM(DATA!D4),"") -> Geleneksel El Sanatları | F3: =IF(A3=1,IF(ISNUMBER(SEARCH("KKTC Uyruklu",E3)),"EVET","HAYIR"),"") -> HAYIR | G3: =A3*N(DATA!E4) -> 4 | H3: =A3*N(DATA!F4) -> 4 | I3: =A3*N(DATA!G4) -> 0 | J3: =A3*N(DATA!H4) -> 0 | K3: =G3+I3 -> 4 | L3: =H3+J3 -> 4 | M3: =MAX(0,K3-L3) -> 0 | N3: =A3*IF(F3="EVET",--prm_KKTC,1)*OR(prm_Duzey="Tümü",C3=prm_Duzey)*OR(prm_Fak="Tümü",D3=prm_Fak)*OR(prm_Prog="Tümü",E3=prm_Prog) -> 1 | O3: =N3*(K3>0)*(L3>=K3) -> 1 | P3: =N3*(K3>0)*(L3=0) -> 0 | Q3: =N3*(F3="EVET") -> 0 | R3: =IF(D3="","",SUBSTITUTE(SUBSTITUTE(SUBSTITUTE(SUBSTITUTE(SUBSTITUTE(SUBSTITUTE(D3,"İKTİSADİ VE İDARİ BİLİMLER FAKÜLTESİ","İİBF"),"ORGANİZE SANAYİ BÖLGESİ","OSB"),"MESLEK YÜKSEKOKULU","MYO"),"UYGULAMALI BİLİMLER","UB"),"FAKÜLTESİ","FAK."),"YÜKSEKOKULU","YO")) -> AYVACIK MYO | S3: Fakülte/Yüksekokul | T3: =IF(DASHBOARD!E7="","Tümü",DASHBOARD!E7) -> Tümü | V3: ÖNLİSANS | W3: BAYRAMİÇ MESLEK YÜKSEKOKULU | X3: Akıllı Tarım ve Gıda Yönetimi | Z3: YENİCE MESLEK YÜKSEKOKULU | AB3: {=IFERROR(""&INDEX(_xlfn.ANCHORARRAY($Z$2),ROWS(AB$2:AB3)),"")} -> YENİCE MESLEK YÜKSEKOKULU | AC3: =IF(AB3="","",SUBSTITUTE(SUBSTITUTE(SUBSTITUTE(SUBSTITUTE(SUBSTITUTE(SUBSTITUTE(AB3,"İKTİSADİ VE İDARİ BİLİMLER FAKÜLTESİ","İİBF"),"ORGANİZE SANAYİ BÖLGESİ","OSB"),"MESLEK YÜKSEKOKULU","MYO"),"UYGULAMALI BİLİMLER","UB"),"FAKÜLTESİ","FAK."),"YÜKSEKOKULU","YO")) -> YENİCE MYO | AD3: =IF(AB3="",0,SUMIFS(d_TopK,d_Fak,AB3,d_Dahil,1)) -> 65 | AE3: =IF(AB3="",0,SUMIFS(d_TopY,d_Fak,AB3,d_Dahil,1)) -> 49 | AG3: {=IFERROR(""&INDEX(_xlfn.ANCHORARRAY($V$2),ROWS(AG$2:AG3)),"")} -> ÖNLİSANS | AH3: =IF(AG3="",0,SUMIFS(d_TopK,d_Duzey,AG3,d_Dahil,1)) -> 501 | AI3: =IF(AG3="",0,SUMIFS(d_TopY,d_Duzey,AG3,d_Dahil,1)) -> 416 | AK3: 34 Yaş Üstü Kadın Ek Kontenjanı | AL3: =SUMIFS(d_34K,d_Dahil,1) -> 51 | AM3: =SUMIFS(d_34Y,d_Dahil,1) -> 48 | AO3: Mimari Dekoratif Sanatlar | AQ3: {=IFERROR(""&INDEX(_xlfn.ANCHORARRAY($AO$2),ROWS(AQ$2:AQ3)),"")} -> Mimari Dekoratif Sanatlar | AR3: =IF(AQ3="",0,SUMIFS(d_TopK,d_Prog,AQ3,d_Dahil,1)) -> 32 | AS3: =IF(AQ3="",0,SUMIFS(d_TopY,d_Prog,AQ3,d_Dahil,1)) -> 32 | AU3: 2
A4: =IF(AND(DATA!A5<>"",TRIM(DATA!D5)<>""),1,0) -> 1 | B4: =IF(A4=1,DATA!A5,"") -> 102750826 | C4: =IF(A4=1,TRIM(DATA!B5),"") -> ÖNLİSANS | D4: =IF(A4=1,TRIM(DATA!C5),"") -> AYVACIK MESLEK YÜKSEKOKULU | E4: =IF(A4=1,TRIM(DATA!D5),"") -> İşletme Yönetimi | F4: =IF(A4=1,IF(ISNUMBER(SEARCH("KKTC Uyruklu",E4)),"EVET","HAYIR"),"") -> HAYIR | G4: =A4*N(DATA!E5) -> 2 | H4: =A4*N(DATA!F5) -> 2 | I4: =A4*N(DATA!G5) -> 0 | J4: =A4*N(DATA!H5) -> 0 | K4: =G4+I4 -> 2 | L4: =H4+J4 -> 2 | M4: =MAX(0,K4-L4) -> 0 | N4: =A4*IF(F4="EVET",--prm_KKTC,1)*OR(prm_Duzey="Tümü",C4=prm_Duzey)*OR(prm_Fak="Tümü",D4=prm_Fak)*OR(prm_Prog="Tümü",E4=prm_Prog) -> 1 | O4: =N4*(K4>0)*(L4>=K4) -> 1 | P4: =N4*(K4>0)*(L4=0) -> 0 | Q4: =N4*(F4="EVET") -> 0 | R4: =IF(D4="","",SUBSTITUTE(SUBSTITUTE(SUBSTITUTE(SUBSTITUTE(SUBSTITUTE(SUBSTITUTE(D4,"İKTİSADİ VE İDARİ BİLİMLER FAKÜLTESİ","İİBF"),"ORGANİZE SANAYİ BÖLGESİ","OSB"),"MESLEK YÜKSEKOKULU","MYO"),"UYGULAMALI BİLİMLER","UB"),"FAKÜLTESİ","FAK."),"YÜKSEKOKULU","YO")) -> AYVACIK MYO | S4: Program Adı | T4: =IF(DASHBOARD!K7="","Tümü",DASHBOARD!K7) -> Tümü | W4: BİGA İKTİSADİ VE İDARİ BİLİMLER FAKÜLTESİ | X4: Alternatif Enerji Kaynakları Teknolojisi | Z4: BİGA MESLEK YÜKSEKOKULU | AB4: {=IFERROR(""&INDEX(_xlfn.ANCHORARRAY($Z$2),ROWS(AB$2:AB4)),"")} -> BİGA MESLEK YÜKSEKOKULU | AC4: =IF(AB4="","",SUBSTITUTE(SUBSTITUTE(SUBSTITUTE(SUBSTITUTE(SUBSTITUTE(SUBSTITUTE(AB4,"İKTİSADİ VE İDARİ BİLİMLER FAKÜLTESİ","İİBF"),"ORGANİZE SANAYİ BÖLGESİ","OSB"),"MESLEK YÜKSEKOKULU","MYO"),"UYGULAMALI BİLİMLER","UB"),"FAKÜLTESİ","FAK."),"YÜKSEKOKULU","YO")) -> BİGA MYO | AD4: =IF(AB4="",0,SUMIFS(d_TopK,d_Fak,AB4,d_Dahil,1)) -> 54 | AE4: =IF(AB4="",0,SUMIFS(d_TopY,d_Fak,AB4,d_Dahil,1)) -> 49 | AG4: {=IFERROR(""&INDEX(_xlfn.ANCHORARRAY($V$2),ROWS(AG$2:AG4)),"")} | AH4: =IF(AG4="",0,SUMIFS(d_TopK,d_Duzey,AG4,d_Dahil,1)) -> 0 | AI4: =IF(AG4="",0,SUMIFS(d_TopY,d_Duzey,AG4,d_Dahil,1)) -> 0 | AO4: Lojistik | AQ4: {=IFERROR(""&INDEX(_xlfn.ANCHORARRAY($AO$2),ROWS(AQ$2:AQ4)),"")} -> Lojistik | AR4: =IF(AQ4="",0,SUMIFS(d_TopK,d_Prog,AQ4,d_Dahil,1)) -> 29 | AS4: =IF(AQ4="",0,SUMIFS(d_TopY,d_Prog,AQ4,d_Dahil,1)) -> 25 | AU4: 3
A5: =IF(AND(DATA!A6<>"",TRIM(DATA!D6)<>""),1,0) -> 1 | B5: =IF(A5=1,DATA!A6,"") -> 102790173 | C5: =IF(A5=1,TRIM(DATA!B6),"") -> ÖNLİSANS | D5: =IF(A5=1,TRIM(DATA!C6),"") -> AYVACIK MESLEK YÜKSEKOKULU | E5: =IF(A5=1,TRIM(DATA!D6),"") -> Turist Rehberliği | F5: =IF(A5=1,IF(ISNUMBER(SEARCH("KKTC Uyruklu",E5)),"EVET","HAYIR"),"") -> HAYIR | G5: =A5*N(DATA!E6) -> 8 | H5: =A5*N(DATA!F6) -> 3 | I5: =A5*N(DATA!G6) -> 2 | J5: =A5*N(DATA!H6) -> 2 | K5: =G5+I5 -> 10 | L5: =H5+J5 -> 5 | M5: =MAX(0,K5-L5) -> 5 | N5: =A5*IF(F5="EVET",--prm_KKTC,1)*OR(prm_Duzey="Tümü",C5=prm_Duzey)*OR(prm_Fak="Tümü",D5=prm_Fak)*OR(prm_Prog="Tümü",E5=prm_Prog) -> 1 | O5: =N5*(K5>0)*(L5>=K5) -> 0 | P5: =N5*(K5>0)*(L5=0) -> 0 | Q5: =N5*(F5="EVET") -> 0 | R5: =IF(D5="","",SUBSTITUTE(SUBSTITUTE(SUBSTITUTE(SUBSTITUTE(SUBSTITUTE(SUBSTITUTE(D5,"İKTİSADİ VE İDARİ BİLİMLER FAKÜLTESİ","İİBF"),"ORGANİZE SANAYİ BÖLGESİ","OSB"),"MESLEK YÜKSEKOKULU","MYO"),"UYGULAMALI BİLİMLER","UB"),"FAKÜLTESİ","FAK."),"YÜKSEKOKULU","YO")) -> AYVACIK MYO | S5: KKTC Dahil? | T5: =IF(ISLOGICAL(DASHBOARD!Q7),DASHBOARD!Q7,UPPER(DASHBOARD!Q7)="EVET") -> FALSE | W5: BİGA MESLEK YÜKSEKOKULU | X5: Arkeoloji | Z5: ÇANAKKALE TEKNİK BİLİMLER MESLEK YÜKSEKOKULU | AB5: {=IFERROR(""&INDEX(_xlfn.ANCHORARRAY($Z$2),ROWS(AB$2:AB5)),"")} -> ÇANAKKALE TEKNİK BİLİMLER MESLEK YÜKSEKOKULU | AC5: =IF(AB5="","",SUBSTITUTE(SUBSTITUTE(SUBSTITUTE(SUBSTITUTE(SUBSTITUTE(SUBSTITUTE(AB5,"İKTİSADİ VE İDARİ BİLİMLER FAKÜLTESİ","İİBF"),"ORGANİZE SANAYİ BÖLGESİ","OSB"),"MESLEK YÜKSEKOKULU","MYO"),"UYGULAMALI BİLİMLER","UB"),"FAKÜLTESİ","FAK."),"YÜKSEKOKULU","YO")) -> ÇANAKKALE TEKNİK BİLİMLER MYO | AD5: =IF(AB5="",0,SUMIFS(d_TopK,d_Fak,AB5,d_Dahil,1)) -> 50 | AE5: =IF(AB5="",0,SUMIFS(d_TopY,d_Fak,AB5,d_Dahil,1)) -> 32 | AO5: İşletme Yönetimi | AQ5: {=IFERROR(""&INDEX(_xlfn.ANCHORARRAY($AO$2),ROWS(AQ$2:AQ5)),"")} -> İşletme Yönetimi | AR5: =IF(AQ5="",0,SUMIFS(d_TopK,d_Prog,AQ5,d_Dahil,1)) -> 26 | AS5: =IF(AQ5="",0,SUMIFS(d_TopY,d_Prog,AQ5,d_Dahil,1)) -> 26 | AU5: 4
A6: =IF(AND(DATA!A7<>"",TRIM(DATA!D7)<>""),1,0) -> 1 | B6: =IF(A6=1,DATA!A7,"") -> 102750156 | C6: =IF(A6=1,TRIM(DATA!B7),"") -> ÖNLİSANS | D6: =IF(A6=1,TRIM(DATA!C7),"") -> AYVACIK MESLEK YÜKSEKOKULU | E6: =IF(A6=1,TRIM(DATA!D7),"") -> Turizm ve Otel İşletmeciliği | F6: =IF(A6=1,IF(ISNUMBER(SEARCH("KKTC Uyruklu",E6)),"EVET","HAYIR"),"") -> HAYIR | G6: =A6*N(DATA!E7) -> 4 | H6: =A6*N(DATA!F7) -> 4 | I6: =A6*N(DATA!G7) -> 0 | J6: =A6*N(DATA!H7) -> 0 | K6: =G6+I6 -> 4 | L6: =H6+J6 -> 4 | M6: =MAX(0,K6-L6) -> 0 | N6: =A6*IF(F6="EVET",--prm_KKTC,1)*OR(prm_Duzey="Tümü",C6=prm_Duzey)*OR(prm_Fak="Tümü",D6=prm_Fak)*OR(prm_Prog="Tümü",E6=prm_Prog) -> 1 | O6: =N6*(K6>0)*(L6>=K6) -> 1 | P6: =N6*(K6>0)*(L6=0) -> 0 | Q6: =N6*(F6="EVET") -> 0 | R6: =IF(D6="","",SUBSTITUTE(SUBSTITUTE(SUBSTITUTE(SUBSTITUTE(SUBSTITUTE(SUBSTITUTE(D6,"İKTİSADİ VE İDARİ BİLİMLER FAKÜLTESİ","İİBF"),"ORGANİZE SANAYİ BÖLGESİ","OSB"),"MESLEK YÜKSEKOKULU","MYO"),"UYGULAMALI BİLİMLER","UB"),"FAKÜLTESİ","FAK."),"YÜKSEKOKULU","YO")) -> AYVACIK MYO | W6: BİGA UYGULAMALI BİLİMLER FAKÜLTESİ | X6: Balıkçılık Teknolojisi | Z6: EZİNE GIDA İHTİSAS ORGANİZE SANAYİ BÖLGESİ MESLEK YÜKSEKOKULU | AB6: {=IFERROR(""&INDEX(_xlfn.ANCHORARRAY($Z$2),ROWS(AB$2:AB6)),"")} -> EZİNE GIDA İHTİSAS ORGANİZE SANAYİ BÖLGESİ MESLEK YÜKSEKOKULU | AC6: =IF(AB6="","",SUBSTITUTE(SUBSTITUTE(SUBSTITUTE(SUBSTITUTE(SUBSTITUTE(SUBSTITUTE(AB6,"İKTİSADİ VE İDARİ BİLİMLER FAKÜLTESİ","İİBF"),"ORGANİZE SANAYİ BÖLGESİ","OSB"),"MESLEK YÜKSEKOKULU","MYO"),"UYGULAMALI BİLİMLER","UB"),"FAKÜLTESİ","FAK."),"YÜKSEKOKULU","YO")) -> EZİNE GIDA İHTİSAS OSB MYO | AD6: =IF(AB6="",0,SUMIFS(d_TopK,d_Fak,AB6,d_Dahil,1)) -> 48 | AE6: =IF(AB6="",0,SUMIFS(d_TopY,d_Fak,AB6,d_Dahil,1)) -> 48 | AO6: Bankacılık ve Sigortacılık | AQ6: {=IFERROR(""&INDEX(_xlfn.ANCHORARRAY($AO$2),ROWS(AQ$2:AQ6)),"")} -> Bankacılık ve Sigortacılık | AR6: =IF(AQ6="",0,SUMIFS(d_TopK,d_Prog,AQ6,d_Dahil,1)) -> 18 | AS6: =IF(AQ6="",0,SUMIFS(d_TopY,d_Prog,AQ6,d_Dahil,1)) -> 15 | AU6: 5
A7: =IF(AND(DATA!A8<>"",TRIM(DATA!D8)<>""),1,0) -> 1 | B7: =IF(A7=1,DATA!A8,"") -> 102790172 | C7: =IF(A7=1,TRIM(DATA!B8),"") -> ÖNLİSANS | D7: =IF(A7=1,TRIM(DATA!C8),"") -> BAYRAMİÇ MESLEK YÜKSEKOKULU | E7: =IF(A7=1,TRIM(DATA!D8),"") -> Çocuk Gelişimi | F7: =IF(A7=1,IF(ISNUMBER(SEARCH("KKTC Uyruklu",E7)),"EVET","HAYIR"),"") -> HAYIR | G7: =A7*N(DATA!E8) -> 4 | H7: =A7*N(DATA!F8) -> 4 | I7: =A7*N(DATA!G8) -> 1 | J7: =A7*N(DATA!H8) -> 1 | K7: =G7+I7 -> 5 | L7: =H7+J7 -> 5 | M7: =MAX(0,K7-L7) -> 0 | N7: =A7*IF(F7="EVET",--prm_KKTC,1)*OR(prm_Duzey="Tümü",C7=prm_Duzey)*OR(prm_Fak="Tümü",D7=prm_Fak)*OR(prm_Prog="Tümü",E7=prm_Prog) -> 1 | O7: =N7*(K7>0)*(L7>=K7) -> 1 | P7: =N7*(K7>0)*(L7=0) -> 0 | Q7: =N7*(F7="EVET") -> 0 | R7: =IF(D7="","",SUBSTITUTE(SUBSTITUTE(SUBSTITUTE(SUBSTITUTE(SUBSTITUTE(SUBSTITUTE(D7,"İKTİSADİ VE İDARİ BİLİMLER FAKÜLTESİ","İİBF"),"ORGANİZE SANAYİ BÖLGESİ","OSB"),"MESLEK YÜKSEKOKULU","MYO"),"UYGULAMALI BİLİMLER","UB"),"FAKÜLTESİ","FAK."),"YÜKSEKOKULU","YO")) -> BAYRAMİÇ MYO | S7: NOTLAR | W7: ÇAN MESLEK YÜKSEKOKULU | X7: Bankacılık ve Sigortacılık | Z7: LAPSEKİ MESLEK YÜKSEKOKULU | AB7: {=IFERROR(""&INDEX(_xlfn.ANCHORARRAY($Z$2),ROWS(AB$2:AB7)),"")} -> LAPSEKİ MESLEK YÜKSEKOKULU | AC7: =IF(AB7="","",SUBSTITUTE(SUBSTITUTE(SUBSTITUTE(SUBSTITUTE(SUBSTITUTE(SUBSTITUTE(AB7,"İKTİSADİ VE İDARİ BİLİMLER FAKÜLTESİ","İİBF"),"ORGANİZE SANAYİ BÖLGESİ","OSB"),"MESLEK YÜKSEKOKULU","MYO"),"UYGULAMALI BİLİMLER","UB"),"FAKÜLTESİ","FAK."),"YÜKSEKOKULU","YO")) -> LAPSEKİ MYO | AD7: =IF(AB7="",0,SUMIFS(d_TopK,d_Fak,AB7,d_Dahil,1)) -> 44 | AE7: =IF(AB7="",0,SUMIFS(d_TopY,d_Fak,AB7,d_Dahil,1)) -> 41 | AO7: Dış Ticaret | AQ7: {=IFERROR(""&INDEX(_xlfn.ANCHORARRAY($AO$2),ROWS(AQ$2:AQ7)),"")} -> Dış Ticaret | AR7: =IF(AQ7="",0,SUMIFS(d_TopK,d_Prog,AQ7,d_Dahil,1)) -> 18 | AS7: =IF(AQ7="",0,SUMIFS(d_TopY,d_Prog,AQ7,d_Dahil,1)) -> 17 | AU7: 6
A8: =IF(AND(DATA!A9<>"",TRIM(DATA!D9)<>""),1,0) -> 1 | B8: =IF(A8=1,DATA!A9,"") -> 102751339 | C8: =IF(A8=1,TRIM(DATA!B9),"") -> ÖNLİSANS | D8: =IF(A8=1,TRIM(DATA!C9),"") -> BAYRAMİÇ MESLEK YÜKSEKOKULU | E8: =IF(A8=1,TRIM(DATA!D9),"") -> Halkla İlişkiler ve Tanıtım | F8: =IF(A8=1,IF(ISNUMBER(SEARCH("KKTC Uyruklu",E8)),"EVET","HAYIR"),"") -> HAYIR | G8: =A8*N(DATA!E9) -> 10 | H8: =A8*N(DATA!F9) -> 10 | I8: =A8*N(DATA!G9) -> 0 | J8: =A8*N(DATA!H9) -> 0 | K8: =G8+I8 -> 10 | L8: =H8+J8 -> 10 | M8: =MAX(0,K8-L8) -> 0 | N8: =A8*IF(F8="EVET",--prm_KKTC,1)*OR(prm_Duzey="Tümü",C8=prm_Duzey)*OR(prm_Fak="Tümü",D8=prm_Fak)*OR(prm_Prog="Tümü",E8=prm_Prog) -> 1 | O8: =N8*(K8>0)*(L8>=K8) -> 1 | P8: =N8*(K8>0)*(L8=0) -> 0 | Q8: =N8*(F8="EVET") -> 0 | R8: =IF(D8="","",SUBSTITUTE(SUBSTITUTE(SUBSTITUTE(SUBSTITUTE(SUBSTITUTE(SUBSTITUTE(D8,"İKTİSADİ VE İDARİ BİLİMLER FAKÜLTESİ","İİBF"),"ORGANİZE SANAYİ BÖLGESİ","OSB"),"MESLEK YÜKSEKOKULU","MYO"),"UYGULAMALI BİLİMLER","UB"),"FAKÜLTESİ","FAK."),"YÜKSEKOKULU","YO")) -> BAYRAMİÇ MYO | S8: Bu sayfa DASHBOARD hesaplamaları içindir; Sayfa2 ham verisi değiştirilmez. | W8: ÇAN UYGULAMALI BİLİMLER FAKÜLTESİ | X8: Bilgisayar Mühendisliği | Z8: EĞİTİM FAKÜLTESİ | AB8: {=IFERROR(""&INDEX(_xlfn.ANCHORARRAY($Z$2),ROWS(AB$2:AB8)),"")} -> EĞİTİM FAKÜLTESİ | AC8: =IF(AB8="","",SUBSTITUTE(SUBSTITUTE(SUBSTITUTE(SUBSTITUTE(SUBSTITUTE(SUBSTITUTE(AB8,"İKTİSADİ VE İDARİ BİLİMLER FAKÜLTESİ","İİBF"),"ORGANİZE SANAYİ BÖLGESİ","OSB"),"MESLEK YÜKSEKOKULU","MYO"),"UYGULAMALI BİLİMLER","UB"),"FAKÜLTESİ","FAK."),"YÜKSEKOKULU","YO")) -> EĞİTİM FAK. | AD8: =IF(AB8="",0,SUMIFS(d_TopK,d_Fak,AB8,d_Dahil,1)) -> 29 | AE8: =IF(AB8="",0,SUMIFS(d_TopY,d_Fak,AB8,d_Dahil,1)) -> 8 | AO8: Kimya Öğretmenliği | AQ8: {=IFERROR(""&INDEX(_xlfn.ANCHORARRAY($AO$2),ROWS(AQ$2:AQ8)),"")} -> Kimya Öğretmenliği | AR8: =IF(AQ8="",0,SUMIFS(d_TopK,d_Prog,AQ8,d_Dahil,1)) -> 16 | AS8: =IF(AQ8="",0,SUMIFS(d_TopY,d_Prog,AQ8,d_Dahil,1)) -> 3 | AU8: 7
A9: =IF(AND(DATA!A10<>"",TRIM(DATA!D10)<>""),1,0) -> 1 | B9: =IF(A9=1,DATA!A10,"") -> 102790211 | C9: =IF(A9=1,TRIM(DATA!B10),"") -> ÖNLİSANS | D9: =IF(A9=1,TRIM(DATA!C10),"") -> BAYRAMİÇ MESLEK YÜKSEKOKULU | E9: =IF(A9=1,TRIM(DATA!D10),"") -> Laboratuvar Teknolojisi | F9: =IF(A9=1,IF(ISNUMBER(SEARCH("KKTC Uyruklu",E9)),"EVET","HAYIR"),"") -> HAYIR | G9: =A9*N(DATA!E10) -> 9 | H9: =A9*N(DATA!F10) -> 9 | I9: =A9*N(DATA!G10) -> 1 | J9: =A9*N(DATA!H10) -> 1 | K9: =G9+I9 -> 10 | L9: =H9+J9 -> 10 | M9: =MAX(0,K9-L9) -> 0 | N9: =A9*IF(F9="EVET",--prm_KKTC,1)*OR(prm_Duzey="Tümü",C9=prm_Duzey)*OR(prm_Fak="Tümü",D9=prm_Fak)*OR(prm_Prog="Tümü",E9=prm_Prog) -> 1 | O9: =N9*(K9>0)*(L9>=K9) -> 1 | P9: =N9*(K9>0)*(L9=0) -> 0 | Q9: =N9*(F9="EVET") -> 0 | R9: =IF(D9="","",SUBSTITUTE(SUBSTITUTE(SUBSTITUTE(SUBSTITUTE(SUBSTITUTE(SUBSTITUTE(D9,"İKTİSADİ VE İDARİ BİLİMLER FAKÜLTESİ","İİBF"),"ORGANİZE SANAYİ BÖLGESİ","OSB"),"MESLEK YÜKSEKOKULU","MYO"),"UYGULAMALI BİLİMLER","UB"),"FAKÜLTESİ","FAK."),"YÜKSEKOKULU","YO")) -> BAYRAMİÇ MYO | S9: Satır 2-1001 → Sayfa2 satır 3-1002 (Program Kodu boş olan satırlar, ör. toplam satırı, hariç). | W9: ÇANAKKALE SAĞLIK HİZMETLERİ MESLEK YÜKSEKOKULU | X9: Bilgisayar Programcılığı | Z9: BAYRAMİÇ MESLEK YÜKSEKOKULU | AB9: {=IFERROR(""&INDEX(_xlfn.ANCHORARRAY($Z$2),ROWS(AB$2:AB9)),"")} -> BAYRAMİÇ MESLEK YÜKSEKOKULU | AC9: =IF(AB9="","",SUBSTITUTE(SUBSTITUTE(SUBSTITUTE(SUBSTITUTE(SUBSTITUTE(SUBSTITUTE(AB9,"İKTİSADİ VE İDARİ BİLİMLER FAKÜLTESİ","İİBF"),"ORGANİZE SANAYİ BÖLGESİ","OSB"),"MESLEK YÜKSEKOKULU","MYO"),"UYGULAMALI BİLİMLER","UB"),"FAKÜLTESİ","FAK."),"YÜKSEKOKULU","YO")) -> BAYRAMİÇ MYO | AD9: =IF(AB9="",0,SUMIFS(d_TopK,d_Fak,AB9,d_Dahil,1)) -> 28 | AE9: =IF(AB9="",0,SUMIFS(d_TopY,d_Fak,AB9,d_Dahil,1)) -> 27 | AO9: Moda Tasarımı | AQ9: {=IFERROR(""&INDEX(_xlfn.ANCHORARRAY($AO$2),ROWS(AQ$2:AQ9)),"")} -> Moda Tasarımı | AR9: =IF(AQ9="",0,SUMIFS(d_TopK,d_Prog,AQ9,d_Dahil,1)) -> 16 | AS9: =IF(AQ9="",0,SUMIFS(d_TopY,d_Prog,AQ9,d_Dahil,1)) -> 4 | AU9: 8
A10: =IF(AND(DATA!A11<>"",TRIM(DATA!D11)<>""),1,0) -> 1 | B10: =IF(A10=1,DATA!A11,"") -> 102790212 | C10: =IF(A10=1,TRIM(DATA!B11),"") -> ÖNLİSANS | D10: =IF(A10=1,TRIM(DATA!C11),"") -> BAYRAMİÇ MESLEK YÜKSEKOKULU | E10: =IF(A10=1,TRIM(DATA!D11),"") -> Ormancılık ve Orman Ürünleri | F10: =IF(A10=1,IF(ISNUMBER(SEARCH("KKTC Uyruklu",E10)),"EVET","HAYIR"),"") -> HAYIR | G10: =A10*N(DATA!E11) -> 3 | H10: =A10*N(DATA!F11) -> 2 | I10: =A10*N(DATA!G11) -> 0 | J10: =A10*N(DATA!H11) -> 0 | K10: =G10+I10 -> 3 | L10: =H10+J10 -> 2 | M10: =MAX(0,K10-L10) -> 1 | N10: =A10*IF(F10="EVET",--prm_KKTC,1)*OR(prm_Duzey="Tümü",C10=prm_Duzey)*OR(prm_Fak="Tümü",D10=prm_Fak)*OR(prm_Prog="Tümü",E10=prm_Prog) -> 1 | O10: =N10*(K10>0)*(L10>=K10) -> 0 | P10: =N10*(K10>0)*(L10=0) -> 0 | Q10: =N10*(F10="EVET") -> 0 | R10: =IF(D10="","",SUBSTITUTE(SUBSTITUTE(SUBSTITUTE(SUBSTITUTE(SUBSTITUTE(SUBSTITUTE(D10,"İKTİSADİ VE İDARİ BİLİMLER FAKÜLTESİ","İİBF"),"ORGANİZE SANAYİ BÖLGESİ","OSB"),"MESLEK YÜKSEKOKULU","MYO"),"UYGULAMALI BİLİMLER","UB"),"FAKÜLTESİ","FAK."),"YÜKSEKOKULU","YO")) -> BAYRAMİÇ MYO | S10: KKTC_PROGRAMI: Program Adı içinde 'KKTC Uyruklu' geçiyorsa EVET (SEARCH ile, kısmi eşleşme). | W10: ÇANAKKALE SOSYAL BİLİMLER MESLEK YÜKSEKOKULU | X10: Bitki Koruma | Z10: AYVACIK MESLEK YÜKSEKOKULU | AB10: {=IFERROR(""&INDEX(_xlfn.ANCHORARRAY($Z$2),ROWS(AB$2:AB10)),"")} -> AYVACIK MESLEK YÜKSEKOKULU | AC10: =IF(AB10="","",SUBSTITUTE(SUBSTITUTE(SUBSTITUTE(SUBSTITUTE(SUBSTITUTE(SUBSTITUTE(AB10,"İKTİSADİ VE İDARİ BİLİMLER FAKÜLTESİ","İİBF"),"ORGANİZE SANAYİ BÖLGESİ","OSB"),"MESLEK YÜKSEKOKULU","MYO"),"UYGULAMALI BİLİMLER","UB"),"FAKÜLTESİ","FAK."),"YÜKSEKOKULU","YO")) -> AYVACIK MYO | AD10: =IF(AB10="",0,SUMIFS(d_TopK,d_Fak,AB10,d_Dahil,1)) -> 26 | AE10: =IF(AB10="",0,SUMIFS(d_TopY,d_Fak,AB10,d_Dahil,1)) -> 21 | AO10: Laboratuvar Teknolojisi | AQ10: {=IFERROR(""&INDEX(_xlfn.ANCHORARRAY($AO$2),ROWS(AQ$2:AQ10)),"")} -> Laboratuvar Teknolojisi | AR10: =IF(AQ10="",0,SUMIFS(d_TopK,d_Prog,AQ10,d_Dahil,1)) -> 13 | AS10: =IF(AQ10="",0,SUMIFS(d_TopY,d_Prog,AQ10,d_Dahil,1)) -> 13 | AU10: 9
A11: =IF(AND(DATA!A12<>"",TRIM(DATA!D12)<>""),1,0) -> 1 | B11: =IF(A11=1,DATA!A12,"") -> 102750208 | C11: =IF(A11=1,TRIM(DATA!B12),"") -> ÖNLİSANS | D11: =IF(A11=1,TRIM(DATA!C12),"") -> BİGA MESLEK YÜKSEKOKULU | E11: =IF(A11=1,TRIM(DATA!D12),"") -> Elektrik | F11: =IF(A11=1,IF(ISNUMBER(SEARCH("KKTC Uyruklu",E11)),"EVET","HAYIR"),"") -> HAYIR | G11: =A11*N(DATA!E12) -> 2 | H11: =A11*N(DATA!F12) -> 2 | I11: =A11*N(DATA!G12) -> 0 | J11: =A11*N(DATA!H12) -> 0 | K11: =G11+I11 -> 2 | L11: =H11+J11 -> 2 | M11: =MAX(0,K11-L11) -> 0 | N11: =A11*IF(F11="EVET",--prm_KKTC,1)*OR(prm_Duzey="Tümü",C11=prm_Duzey)*OR(prm_Fak="Tümü",D11=prm_Fak)*OR(prm_Prog="Tümü",E11=prm_Prog) -> 1 | O11: =N11*(K11>0)*(L11>=K11) -> 1 | P11: =N11*(K11>0)*(L11=0) -> 0 | Q11: =N11*(F11="EVET") -> 0 | R11: =IF(D11="","",SUBSTITUTE(SUBSTITUTE(SUBSTITUTE(SUBSTITUTE(SUBSTITUTE(SUBSTITUTE(D11,"İKTİSADİ VE İDARİ BİLİMLER FAKÜLTESİ","İİBF"),"ORGANİZE SANAYİ BÖLGESİ","OSB"),"MESLEK YÜKSEKOKULU","MYO"),"UYGULAMALI BİLİMLER","UB"),"FAKÜLTESİ","FAK."),"YÜKSEKOKULU","YO")) -> BİGA MYO | S11: 34 Yaş Üstü Kadın kontenjan hücreleri boşsa 0 kabul edilir (kontenjan yok). | W11: ÇANAKKALE TEKNİK BİLİMLER MESLEK YÜKSEKOKULU | X11: Biyokimya | Z11: GELİBOLU PİRİ REİS MESLEK YÜKSEKOKULU | AB11: {=IFERROR(""&INDEX(_xlfn.ANCHORARRAY($Z$2),ROWS(AB$2:AB11)),"")} -> GELİBOLU PİRİ REİS MESLEK YÜKSEKOKULU | AC11: =IF(AB11="","",SUBSTITUTE(SUBSTITUTE(SUBSTITUTE(SUBSTITUTE(SUBSTITUTE(SUBSTITUTE(AB11,"İKTİSADİ VE İDARİ BİLİMLER FAKÜLTESİ","İİBF"),"ORGANİZE SANAYİ BÖLGESİ","OSB"),"MESLEK YÜKSEKOKULU","MYO"),"UYGULAMALI BİLİMLER","UB"),"FAKÜLTESİ","FAK."),"YÜKSEKOKULU","YO")) -> GELİBOLU PİRİ REİS MYO | AD11: =IF(AB11="",0,SUMIFS(d_TopK,d_Fak,AB11,d_Dahil,1)) -> 25 | AE11: =IF(AB11="",0,SUMIFS(d_TopY,d_Fak,AB11,d_Dahil,1)) -> 15 | AO11: Turizm ve Otel İşletmeciliği | AQ11: {=IFERROR(""&INDEX(_xlfn.ANCHORARRAY($AO$2),ROWS(AQ$2:AQ11)),"")} -> Turizm ve Otel İşletmeciliği | AR11: =IF(AQ11="",0,SUMIFS(d_TopK,d_Prog,AQ11,d_Dahil,1)) -> 13 | AS11: =IF(AQ11="",0,SUMIFS(d_TopY,d_Prog,AQ11,d_Dahil,1)) -> 9 | AU11: 94
A12: =IF(AND(DATA!A13<>"",TRIM(DATA!D13)<>""),1,0) -> 1 | B12: =IF(A12=1,DATA!A13,"") -> 102751375 | C12: =IF(A12=1,TRIM(DATA!B13),"") -> ÖNLİSANS | D12: =IF(A12=1,TRIM(DATA!C13),"") -> BİGA MESLEK YÜKSEKOKULU | E12: =IF(A12=1,TRIM(DATA!D13),"") -> Elektrik Enerjisi Üretim, İletim ve Dağıtımı | F12: =IF(A12=1,IF(ISNUMBER(SEARCH("KKTC Uyruklu",E12)),"EVET","HAYIR"),"") -> HAYIR | G12: =A12*N(DATA!E13) -> 1 | H12: =A12*N(DATA!F13) -> 1 | I12: =A12*N(DATA!G13) -> 1 | J12: =A12*N(DATA!H13) -> 1 | K12: =G12+I12 -> 2 | L12: =H12+J12 -> 2 | M12: =MAX(0,K12-L12) -> 0 | N12: =A12*IF(F12="EVET",--prm_KKTC,1)*OR(prm_Duzey="Tümü",C12=prm_Duzey)*OR(prm_Fak="Tümü",D12=prm_Fak)*OR(prm_Prog="Tümü",E12=prm_Prog) -> 1 | O12: =N12*(K12>0)*(L12>=K12) -> 1 | P12: =N12*(K12>0)*(L12=0) -> 0 | Q12: =N12*(F12="EVET") -> 0 | R12: =IF(D12="","",SUBSTITUTE(SUBSTITUTE(SUBSTITUTE(SUBSTITUTE(SUBSTITUTE(SUBSTITUTE(D12,"İKTİSADİ VE İDARİ BİLİMLER FAKÜLTESİ","İİBF"),"ORGANİZE SANAYİ BÖLGESİ","OSB"),"MESLEK YÜKSEKOKULU","MYO"),"UYGULAMALI BİLİMLER","UB"),"FAKÜLTESİ","FAK."),"YÜKSEKOKULU","YO")) -> BİGA MYO | S12: Dahil (Filtre)=1 → DASHBOARD filtreleri + KKTC seçimi ile hesaplamaya giren kayıt. | W12: ÇANAKKALE UYGULAMALI BİLİMLER FAKÜLTESİ | X12: Biyomedikal Cihaz Teknolojisi | Z12: GÖKÇEADA MESLEK YÜKSEKOKULU | AB12: {=IFERROR(""&INDEX(_xlfn.ANCHORARRAY($Z$2),ROWS(AB$2:AB12)),"")} -> GÖKÇEADA MESLEK YÜKSEKOKULU | AC12: =IF(AB12="","",SUBSTITUTE(SUBSTITUTE(SUBSTITUTE(SUBSTITUTE(SUBSTITUTE(SUBSTITUTE(AB12,"İKTİSADİ VE İDARİ BİLİMLER FAKÜLTESİ","İİBF"),"ORGANİZE SANAYİ BÖLGESİ","OSB"),"MESLEK YÜKSEKOKULU","MYO"),"UYGULAMALI BİLİMLER","UB"),"FAKÜLTESİ","FAK."),"YÜKSEKOKULU","YO")) -> GÖKÇEADA MYO | AD12: =IF(AB12="",0,SUMIFS(d_TopK,d_Fak,AB12,d_Dahil,1)) -> 25 | AE12: =IF(AB12="",0,SUMIFS(d_TopY,d_Fak,AB12,d_Dahil,1)) -> 23 | AO12: Turizm ve Seyahat Hizmetleri | AU12: 95
A13: =IF(AND(DATA!A14<>"",TRIM(DATA!D14)<>""),1,0) -> 1 | B13: =IF(A13=1,DATA!A14,"") -> 102751515 | C13: =IF(A13=1,TRIM(DATA!B14),"") -> ÖNLİSANS | D13: =IF(A13=1,TRIM(DATA!C14),"") -> BİGA MESLEK YÜKSEKOKULU | E13: =IF(A13=1,TRIM(DATA!D14),"") -> Elektrik Enerjisi Üretim, İletim ve Dağıtımı (KKTC Uyruklu) | F13: =IF(A13=1,IF(ISNUMBER(SEARCH("KKTC Uyruklu",E13)),"EVET","HAYIR"),"") -> EVET | G13: =A13*N(DATA!E14) -> 1 | H13: =A13*N(DATA!F14) -> 0 | I13: =A13*N(DATA!G14) -> 0 | J13: =A13*N(DATA!H14) -> 0 | K13: =G13+I13 -> 1 | L13: =H13+J13 -> 0 | M13: =MAX(0,K13-L13) -> 1 | N13: =A13*IF(F13="EVET",--prm_KKTC,1)*OR(prm_Duzey="Tümü",C13=prm_Duzey)*OR(prm_Fak="Tümü",D13=prm_Fak)*OR(prm_Prog="Tümü",E13=prm_Prog) -> 0 | O13: =N13*(K13>0)*(L13>=K13) -> 0 | P13: =N13*(K13>0)*(L13=0) -> 0 | Q13: =N13*(F13="EVET") -> 0 | R13: =IF(D13="","",SUBSTITUTE(SUBSTITUTE(SUBSTITUTE(SUBSTITUTE(SUBSTITUTE(SUBSTITUTE(D13,"İKTİSADİ VE İDARİ BİLİMLER FAKÜLTESİ","İİBF"),"ORGANİZE SANAYİ BÖLGESİ","OSB"),"MESLEK YÜKSEKOKULU","MYO"),"UYGULAMALI BİLİMLER","UB"),"FAKÜLTESİ","FAK."),"YÜKSEKOKULU","YO")) -> BİGA MYO | W13: DENİZ BİLİMLERİ VE TEKNOLOJİSİ FAKÜLTESİ | X13: Coğrafya | Z13: BİGA İKTİSADİ VE İDARİ BİLİMLER FAKÜLTESİ | AB13: {=IFERROR(""&INDEX(_xlfn.ANCHORARRAY($Z$2),ROWS(AB$2:AB13)),"")} -> BİGA İKTİSADİ VE İDARİ BİLİMLER FAKÜLTESİ | AC13: =IF(AB13="","",SUBSTITUTE(SUBSTITUTE(SUBSTITUTE(SUBSTITUTE(SUBSTITUTE(SUBSTITUTE(AB13,"İKTİSADİ VE İDARİ BİLİMLER FAKÜLTESİ","İİBF"),"ORGANİZE SANAYİ BÖLGESİ","OSB"),"MESLEK YÜKSEKOKULU","MYO"),"UYGULAMALI BİLİMLER","UB"),"FAKÜLTESİ","FAK."),"YÜKSEKOKULU","YO")) -> BİGA İİBF | AD13: =IF(AB13="",0,SUMIFS(d_TopK,d_Fak,AB13,d_Dahil,1)) -> 24 | AE13: =IF(AB13="",0,SUMIFS(d_TopY,d_Fak,AB13,d_Dahil,1)) -> 23 | AO13: Muhasebe ve Vergi Uygulamaları | AU13: 96
A14: =IF(AND(DATA!A15<>"",TRIM(DATA!D15)<>""),1,0) -> 1 | B14: =IF(A14=1,DATA!A15,"") -> 102751012 | C14: =IF(A14=1,TRIM(DATA!B15),"") -> ÖNLİSANS | D14: =IF(A14=1,TRIM(DATA!C15),"") -> BİGA MESLEK YÜKSEKOKULU | E14: =IF(A14=1,TRIM(DATA!D15),"") -> Gıda Teknolojisi | F14: =IF(A14=1,IF(ISNUMBER(SEARCH("KKTC Uyruklu",E14)),"EVET","HAYIR"),"") -> HAYIR | G14: =A14*N(DATA!E15) -> 3 | H14: =A14*N(DATA!F15) -> 3 | I14: =A14*N(DATA!G15) -> 0 | J14: =A14*N(DATA!H15) -> 0 | K14: =G14+I14 -> 3 | L14: =H14+J14 -> 3 | M14: =MAX(0,K14-L14) -> 0 | N14: =A14*IF(F14="EVET",--prm_KKTC,1)*OR(prm_Duzey="Tümü",C14=prm_Duzey)*OR(prm_Fak="Tümü",D14=prm_Fak)*OR(prm_Prog="Tümü",E14=prm_Prog) -> 1 | O14: =N14*(K14>0)*(L14>=K14) -> 1 | P14: =N14*(K14>0)*(L14=0) -> 0 | Q14: =N14*(F14="EVET") -> 0 | R14: =IF(D14="","",SUBSTITUTE(SUBSTITUTE(SUBSTITUTE(SUBSTITUTE(SUBSTITUTE(SUBSTITUTE(D14,"İKTİSADİ VE İDARİ BİLİMLER FAKÜLTESİ","İİBF"),"ORGANİZE SANAYİ BÖLGESİ","OSB"),"MESLEK YÜKSEKOKULU","MYO"),"UYGULAMALI BİLİMLER","UB"),"FAKÜLTESİ","FAK."),"YÜKSEKOKULU","YO")) -> BİGA MYO | W14: DENİZCİLİK MESLEK YÜKSEKOKULU | X14: Coğrafya Öğretmenliği | Z14: ÇANAKKALE SOSYAL BİLİMLER MESLEK YÜKSEKOKULU | AB14: {=IFERROR(""&INDEX(_xlfn.ANCHORARRAY($Z$2),ROWS(AB$2:AB14)),"")} -> ÇANAKKALE SOSYAL BİLİMLER MESLEK YÜKSEKOKULU | AC14: =IF(AB14="","",SUBSTITUTE(SUBSTITUTE(SUBSTITUTE(SUBSTITUTE(SUBSTITUTE(SUBSTITUTE(AB14,"İKTİSADİ VE İDARİ BİLİMLER FAKÜLTESİ","İİBF"),"ORGANİZE SANAYİ BÖLGESİ","OSB"),"MESLEK YÜKSEKOKULU","MYO"),"UYGULAMALI BİLİMLER","UB"),"FAKÜLTESİ","FAK."),"YÜKSEKOKULU","YO")) -> ÇANAKKALE SOSYAL BİLİMLER MYO | AD14: =IF(AB14="",0,SUMIFS(d_TopK,d_Fak,AB14,d_Dahil,1)) -> 24 | AE14: =IF(AB14="",0,SUMIFS(d_TopY,d_Fak,AB14,d_Dahil,1)) -> 18 | AO14: Su Altı Kaynak Teknolojisi | AU14: 97
A15: =IF(AND(DATA!A16<>"",TRIM(DATA!D16)<>""),1,0) -> 1 | B15: =IF(A15=1,DATA!A16,"") -> 102751003 | C15: =IF(A15=1,TRIM(DATA!B16),"") -> ÖNLİSANS | D15: =IF(A15=1,TRIM(DATA!C16),"") -> BİGA MESLEK YÜKSEKOKULU | E15: =IF(A15=1,TRIM(DATA!D16),"") -> İşletme Yönetimi | F15: =IF(A15=1,IF(ISNUMBER(SEARCH("KKTC Uyruklu",E15)),"EVET","HAYIR"),"") -> HAYIR | G15: =A15*N(DATA!E16) -> 4 | H15: =A15*N(DATA!F16) -> 4 | I15: =A15*N(DATA!G16) -> 0 | J15: =A15*N(DATA!H16) -> 0 | K15: =G15+I15 -> 4 | L15: =H15+J15 -> 4 | M15: =MAX(0,K15-L15) -> 0 | N15: =A15*IF(F15="EVET",--prm_KKTC,1)*OR(prm_Duzey="Tümü",C15=prm_Duzey)*OR(prm_Fak="Tümü",D15=prm_Fak)*OR(prm_Prog="Tümü",E15=prm_Prog) -> 1 | O15: =N15*(K15>0)*(L15>=K15) -> 1 | P15: =N15*(K15>0)*(L15=0) -> 0 | Q15: =N15*(F15="EVET") -> 0 | R15: =IF(D15="","",SUBSTITUTE(SUBSTITUTE(SUBSTITUTE(SUBSTITUTE(SUBSTITUTE(SUBSTITUTE(D15,"İKTİSADİ VE İDARİ BİLİMLER FAKÜLTESİ","İİBF"),"ORGANİZE SANAYİ BÖLGESİ","OSB"),"MESLEK YÜKSEKOKULU","MYO"),"UYGULAMALI BİLİMLER","UB"),"FAKÜLTESİ","FAK."),"YÜKSEKOKULU","YO")) -> BİGA MYO | W15: EĞİTİM FAKÜLTESİ | X15: Çalışma Ekonomisi ve Endüstri İlişkileri | Z15: DENİZCİLİK MESLEK YÜKSEKOKULU | AB15: {=IFERROR(""&INDEX(_xlfn.ANCHORARRAY($Z$2),ROWS(AB$2:AB15)),"")} -> DENİZCİLİK MESLEK YÜKSEKOKULU | AC15: =IF(AB15="","",SUBSTITUTE(SUBSTITUTE(SUBSTITUTE(SUBSTITUTE(SUBSTITUTE(SUBSTITUTE(AB15,"İKTİSADİ VE İDARİ BİLİMLER FAKÜLTESİ","İİBF"),"ORGANİZE SANAYİ BÖLGESİ","OSB"),"MESLEK YÜKSEKOKULU","MYO"),"UYGULAMALI BİLİMLER","UB"),"FAKÜLTESİ","FAK."),"YÜKSEKOKULU","YO")) -> DENİZCİLİK MYO | AD15: =IF(AB15="",0,SUMIFS(d_TopK,d_Fak,AB15,d_Dahil,1)) -> 22 | AE15: =IF(AB15="",0,SUMIFS(d_TopY,d_Fak,AB15,d_Dahil,1)) -> 10 | AO15: Süt ve Ürünleri Teknolojisi | AU15: 98
A16: =IF(AND(DATA!A17<>"",TRIM(DATA!D17)<>""),1,0) -> 1 | B16: =IF(A16=1,DATA!A17,"") -> 102750226 | C16: =IF(A16=1,TRIM(DATA!B17),"") -> ÖNLİSANS | D16: =IF(A16=1,TRIM(DATA!C17),"") -> BİGA MESLEK YÜKSEKOKULU | E16: =IF(A16=1,TRIM(DATA!D17),"") -> Kooperatifçilik | F16: =IF(A16=1,IF(ISNUMBER(SEARCH("KKTC Uyruklu",E16)),"EVET","HAYIR"),"") -> HAYIR | G16: =A16*N(DATA!E17) -> 10 | H16: =A16*N(DATA!F17) -> 10 | I16: =A16*N(DATA!G17) -> 0 | J16: =A16*N(DATA!H17) -> 0 | K16: =G16+I16 -> 10 | L16: =H16+J16 -> 10 | M16: =MAX(0,K16-L16) -> 0 | N16: =A16*IF(F16="EVET",--prm_KKTC,1)*OR(prm_Duzey="Tümü",C16=prm_Duzey)*OR(prm_Fak="Tümü",D16=prm_Fak)*OR(prm_Prog="Tümü",E16=prm_Prog) -> 1 | O16: =N16*(K16>0)*(L16>=K16) -> 1 | P16: =N16*(K16>0)*(L16=0) -> 0 | Q16: =N16*(F16="EVET") -> 0 | R16: =IF(D16="","",SUBSTITUTE(SUBSTITUTE(SUBSTITUTE(SUBSTITUTE(SUBSTITUTE(SUBSTITUTE(D16,"İKTİSADİ VE İDARİ BİLİMLER FAKÜLTESİ","İİBF"),"ORGANİZE SANAYİ BÖLGESİ","OSB"),"MESLEK YÜKSEKOKULU","MYO"),"UYGULAMALI BİLİMLER","UB"),"FAKÜLTESİ","FAK."),"YÜKSEKOKULU","YO")) -> BİGA MYO | W16: EZİNE GIDA İHTİSAS ORGANİZE SANAYİ BÖLGESİ MESLEK YÜKSEKOKULU | X16: Çocuk Gelişimi | Z16: İNSAN VE TOPLUM BİLİMLERİ FAKÜLTESİ | AB16: {=IFERROR(""&INDEX(_xlfn.ANCHORARRAY($Z$2),ROWS(AB$2:AB16)),"")} -> İNSAN VE TOPLUM BİLİMLERİ FAKÜLTESİ | AC16: =IF(AB16="","",SUBSTITUTE(SUBSTITUTE(SUBSTITUTE(SUBSTITUTE(SUBSTITUTE(SUBSTITUTE(AB16,"İKTİSADİ VE İDARİ BİLİMLER FAKÜLTESİ","İİBF"),"ORGANİZE SANAYİ BÖLGESİ","OSB"),"MESLEK YÜKSEKOKULU","MYO"),"UYGULAMALI BİLİMLER","UB"),"FAKÜLTESİ","FAK."),"YÜKSEKOKULU","YO")) -> İNSAN VE TOPLUM BİLİMLERİ FAK. | AD16: =IF(AB16="",0,SUMIFS(d_TopK,d_Fak,AB16,d_Dahil,1)) -> 20 | AE16: =IF(AB16="",0,SUMIFS(d_TopY,d_Fak,AB16,d_Dahil,1)) -> 15 | AO16: Fidan Yetiştiriciliği | AU16: 99
A17: =IF(AND(DATA!A18<>"",TRIM(DATA!D18)<>""),1,0) -> 1 | B17: =IF(A17=1,DATA!A18,"") -> 102750235 | C17: =IF(A17=1,TRIM(DATA!B18),"") -> ÖNLİSANS | D17: =IF(A17=1,TRIM(DATA!C18),"") -> BİGA MESLEK YÜKSEKOKULU | E17: =IF(A17=1,TRIM(DATA!D18),"") -> Makine | F17: =IF(A17=1,IF(ISNUMBER(SEARCH("KKTC Uyruklu",E17)),"EVET","HAYIR"),"") -> HAYIR | G17: =A17*N(DATA!E18) -> 2 | H17: =A17*N(DATA!F18) -> 2 | I17: =A17*N(DATA!G18) -> 0 | J17: =A17*N(DATA!H18) -> 0 | K17: =G17+I17 -> 2 | L17: =H17+J17 -> 2 | M17: =MAX(0,K17-L17) -> 0 | N17: =A17*IF(F17="EVET",--prm_KKTC,1)*OR(prm_Duzey="Tümü",C17=prm_Duzey)*OR(prm_Fak="Tümü",D17=prm_Fak)*OR(prm_Prog="Tümü",E17=prm_Prog) -> 1 | O17: =N17*(K17>0)*(L17>=K17) -> 1 | P17: =N17*(K17>0)*(L17=0) -> 0 | Q17: =N17*(F17="EVET") -> 0 | R17: =IF(D17="","",SUBSTITUTE(SUBSTITUTE(SUBSTITUTE(SUBSTITUTE(SUBSTITUTE(SUBSTITUTE(D17,"İKTİSADİ VE İDARİ BİLİMLER FAKÜLTESİ","İİBF"),"ORGANİZE SANAYİ BÖLGESİ","OSB"),"MESLEK YÜKSEKOKULU","MYO"),"UYGULAMALI BİLİMLER","UB"),"FAKÜLTESİ","FAK."),"YÜKSEKOKULU","YO")) -> BİGA MYO | W17: FEN FAKÜLTESİ | X17: Deniz Ulaştırma İşletme Mühendisliği | Z17: BİGA UYGULAMALI BİLİMLER FAKÜLTESİ | AO17: Gıda Kalite Kontrolü ve Analizi | AU17: 100
A18: =IF(AND(DATA!A19<>"",TRIM(DATA!D19)<>""),1,0) -> 1 | B18: =IF(A18=1,DATA!A19,"") -> 102790364 | C18: =IF(A18=1,TRIM(DATA!B19),"") -> ÖNLİSANS | D18: =IF(A18=1,TRIM(DATA!C19),"") -> BİGA MESLEK YÜKSEKOKULU | E18: =IF(A18=1,TRIM(DATA!D19),"") -> Mobilya ve Dekorasyon | F18: =IF(A18=1,IF(ISNUMBER(SEARCH("KKTC Uyruklu",E18)),"EVET","HAYIR"),"") -> HAYIR | G18: =A18*N(DATA!E19) -> 8 | H18: =A18*N(DATA!F19) -> 8 | I18: =A18*N(DATA!G19) -> 0 | J18: =A18*N(DATA!H19) -> 0 | K18: =G18+I18 -> 8 | L18: =H18+J18 -> 8 | M18: =MAX(0,K18-L18) -> 0 | N18: =A18*IF(F18="EVET",--prm_KKTC,1)*OR(prm_Duzey="Tümü",C18=prm_Duzey)*OR(prm_Fak="Tümü",D18=prm_Fak)*OR(prm_Prog="Tümü",E18=prm_Prog) -> 1 | O18: =N18*(K18>0)*(L18>=K18) -> 1 | P18: =N18*(K18>0)*(L18=0) -> 0 | Q18: =N18*(F18="EVET") -> 0 | R18: =IF(D18="","",SUBSTITUTE(SUBSTITUTE(SUBSTITUTE(SUBSTITUTE(SUBSTITUTE(SUBSTITUTE(D18,"İKTİSADİ VE İDARİ BİLİMLER FAKÜLTESİ","İİBF"),"ORGANİZE SANAYİ BÖLGESİ","OSB"),"MESLEK YÜKSEKOKULU","MYO"),"UYGULAMALI BİLİMLER","UB"),"FAKÜLTESİ","FAK."),"YÜKSEKOKULU","YO")) -> BİGA MYO | W18: GELİBOLU PİRİ REİS MESLEK YÜKSEKOKULU | X18: Deniz ve Liman İşletmeciliği | Z18: ÇAN UYGULAMALI BİLİMLER FAKÜLTESİ | AO18: Kooperatifçilik | AU18: 10
A19: =IF(AND(DATA!A20<>"",TRIM(DATA!D20)<>""),1,0) -> 1 | B19: =IF(A19=1,DATA!A20,"") -> 102750747 | C19: =IF(A19=1,TRIM(DATA!B20),"") -> ÖNLİSANS | D19: =IF(A19=1,TRIM(DATA!C20),"") -> BİGA MESLEK YÜKSEKOKULU | E19: =IF(A19=1,TRIM(DATA!D20),"") -> Muhasebe ve Vergi Uygulamaları | F19: =IF(A19=1,IF(ISNUMBER(SEARCH("KKTC Uyruklu",E19)),"EVET","HAYIR"),"") -> HAYIR | G19: =A19*N(DATA!E20) -> 3 | H19: =A19*N(DATA!F20) -> 3 | I19: =A19*N(DATA!G20) -> 0 | J19: =A19*N(DATA!H20) -> 0 | K19: =G19+I19 -> 3 | L19: =H19+J19 -> 3 | M19: =MAX(0,K19-L19) -> 0 | N19: =A19*IF(F19="EVET",--prm_KKTC,1)*OR(prm_Duzey="Tümü",C19=prm_Duzey)*OR(prm_Fak="Tümü",D19=prm_Fak)*OR(prm_Prog="Tümü",E19=prm_Prog) -> 1 | O19: =N19*(K19>0)*(L19>=K19) -> 1 | P19: =N19*(K19>0)*(L19=0) -> 0 | Q19: =N19*(F19="EVET") -> 0 | R19: =IF(D19="","",SUBSTITUTE(SUBSTITUTE(SUBSTITUTE(SUBSTITUTE(SUBSTITUTE(SUBSTITUTE(D19,"İKTİSADİ VE İDARİ BİLİMLER FAKÜLTESİ","İİBF"),"ORGANİZE SANAYİ BÖLGESİ","OSB"),"MESLEK YÜKSEKOKULU","MYO"),"UYGULAMALI BİLİMLER","UB"),"FAKÜLTESİ","FAK."),"YÜKSEKOKULU","YO")) -> BİGA MYO | W19: GÖKÇEADA MESLEK YÜKSEKOKULU | X19: Dış Ticaret | Z19: ÇANAKKALE UYGULAMALI BİLİMLER FAKÜLTESİ | AO19: Turist Rehberliği | AU19: 11
A20: =IF(AND(DATA!A21<>"",TRIM(DATA!D21)<>""),1,0) -> 1 | B20: =IF(A20=1,DATA!A21,"") -> 102750808 | C20: =IF(A20=1,TRIM(DATA!B21),"") -> ÖNLİSANS | D20: =IF(A20=1,TRIM(DATA!C21),"") -> BİGA MESLEK YÜKSEKOKULU | E20: =IF(A20=1,TRIM(DATA!D21),"") -> Otomotiv Teknolojisi | F20: =IF(A20=1,IF(ISNUMBER(SEARCH("KKTC Uyruklu",E20)),"EVET","HAYIR"),"") -> HAYIR | G20: =A20*N(DATA!E21) -> 6 | H20: =A20*N(DATA!F21) -> 1 | I20: =A20*N(DATA!G21) -> 1 | J20: =A20*N(DATA!H21) -> 1 | K20: =G20+I20 -> 7 | L20: =H20+J20 -> 2 | M20: =MAX(0,K20-L20) -> 5 | N20: =A20*IF(F20="EVET",--prm_KKTC,1)*OR(prm_Duzey="Tümü",C20=prm_Duzey)*OR(prm_Fak="Tümü",D20=prm_Fak)*OR(prm_Prog="Tümü",E20=prm_Prog) -> 1 | O20: =N20*(K20>0)*(L20>=K20) -> 0 | P20: =N20*(K20>0)*(L20=0) -> 0 | Q20: =N20*(F20="EVET") -> 0 | R20: =IF(D20="","",SUBSTITUTE(SUBSTITUTE(SUBSTITUTE(SUBSTITUTE(SUBSTITUTE(SUBSTITUTE(D20,"İKTİSADİ VE İDARİ BİLİMLER FAKÜLTESİ","İİBF"),"ORGANİZE SANAYİ BÖLGESİ","OSB"),"MESLEK YÜKSEKOKULU","MYO"),"UYGULAMALI BİLİMLER","UB"),"FAKÜLTESİ","FAK."),"YÜKSEKOKULU","YO")) -> BİGA MYO | W20: GÖKÇEADA UYGULAMALI BİLİMLER YÜKSEKOKULU | X20: Eczane Hizmetleri | Z20: SİYASAL BİLGİLER FAKÜLTESİ | AO20: Gastronomi ve Mutfak Sanatları | AU20: 13
A21: =IF(AND(DATA!A22<>"",TRIM(DATA!D22)<>""),1,0) -> 1 | B21: =IF(A21=1,DATA!A22,"") -> 102750271 | C21: =IF(A21=1,TRIM(DATA!B22),"") -> ÖNLİSANS | D21: =IF(A21=1,TRIM(DATA!C22),"") -> BİGA MESLEK YÜKSEKOKULU | E21: =IF(A21=1,TRIM(DATA!D22),"") -> Pazarlama | F21: =IF(A21=1,IF(ISNUMBER(SEARCH("KKTC Uyruklu",E21)),"EVET","HAYIR"),"") -> HAYIR | G21: =A21*N(DATA!E22) -> 4 | H21: =A21*N(DATA!F22) -> 4 | I21: =A21*N(DATA!G22) -> 0 | J21: =A21*N(DATA!H22) -> 0 | K21: =G21+I21 -> 4 | L21: =H21+J21 -> 4 | M21: =MAX(0,K21-L21) -> 0 | N21: =A21*IF(F21="EVET",--prm_KKTC,1)*OR(prm_Duzey="Tümü",C21=prm_Duzey)*OR(prm_Fak="Tümü",D21=prm_Fak)*OR(prm_Prog="Tümü",E21=prm_Prog) -> 1 | O21: =N21*(K21>0)*(L21>=K21) -> 1 | P21: =N21*(K21>0)*(L21=0) -> 0 | Q21: =N21*(F21="EVET") -> 0 | R21: =IF(D21="","",SUBSTITUTE(SUBSTITUTE(SUBSTITUTE(SUBSTITUTE(SUBSTITUTE(SUBSTITUTE(D21,"İKTİSADİ VE İDARİ BİLİMLER FAKÜLTESİ","İİBF"),"ORGANİZE SANAYİ BÖLGESİ","OSB"),"MESLEK YÜKSEKOKULU","MYO"),"UYGULAMALI BİLİMLER","UB"),"FAKÜLTESİ","FAK."),"YÜKSEKOKULU","YO")) -> BİGA MYO | W21: İLAHİYAT FAKÜLTESİ | X21: Ekonometri | Z21: İLAHİYAT FAKÜLTESİ | AO21: Mekatronik | AU21: 14
A22: =IF(AND(DATA!A23<>"",TRIM(DATA!D23)<>""),1,0) -> 1 | B22: =IF(A22=1,DATA!A23,"") -> 102750695 | C22: =IF(A22=1,TRIM(DATA!B23),"") -> ÖNLİSANS | D22: =IF(A22=1,TRIM(DATA!C23),"") -> BİGA MESLEK YÜKSEKOKULU | E22: =IF(A22=1,TRIM(DATA!D23),"") -> Süt ve Ürünleri Teknolojisi | F22: =IF(A22=1,IF(ISNUMBER(SEARCH("KKTC Uyruklu",E22)),"EVET","HAYIR"),"") -> HAYIR | G22: =A22*N(DATA!E23) -> 6 | H22: =A22*N(DATA!F23) -> 6 | I22: =A22*N(DATA!G23) -> 0 | J22: =A22*N(DATA!H23) -> 0 | K22: =G22+I22 -> 6 | L22: =H22+J22 -> 6 | M22: =MAX(0,K22-L22) -> 0 | N22: =A22*IF(F22="EVET",--prm_KKTC,1)*OR(prm_Duzey="Tümü",C22=prm_Duzey)*OR(prm_Fak="Tümü",D22=prm_Fak)*OR(prm_Prog="Tümü",E22=prm_Prog) -> 1 | O22: =N22*(K22>0)*(L22>=K22) -> 1 | P22: =N22*(K22>0)*(L22=0) -> 0 | Q22: =N22*(F22="EVET") -> 0 | R22: =IF(D22="","",SUBSTITUTE(SUBSTITUTE(SUBSTITUTE(SUBSTITUTE(SUBSTITUTE(SUBSTITUTE(D22,"İKTİSADİ VE İDARİ BİLİMLER FAKÜLTESİ","İİBF"),"ORGANİZE SANAYİ BÖLGESİ","OSB"),"MESLEK YÜKSEKOKULU","MYO"),"UYGULAMALI BİLİMLER","UB"),"FAKÜLTESİ","FAK."),"YÜKSEKOKULU","YO")) -> BİGA MYO | W22: İLETİŞİM FAKÜLTESİ | X22: Elektrik | Z22: TURİZM FAKÜLTESİ | AO22: Talaşlı Üretim Teknikerliği | AU22: 15
A23: =IF(AND(DATA!A24<>"",TRIM(DATA!D24)<>""),1,0) -> 1 | B23: =IF(A23=1,DATA!A24,"") -> 102790539 | C23: =IF(A23=1,TRIM(DATA!B24),"") -> ÖNLİSANS | D23: =IF(A23=1,TRIM(DATA!C24),"") -> BİGA MESLEK YÜKSEKOKULU | E23: =IF(A23=1,TRIM(DATA!D24),"") -> Yenilenebilir Enerji Teknikerliği | F23: =IF(A23=1,IF(ISNUMBER(SEARCH("KKTC Uyruklu",E23)),"EVET","HAYIR"),"") -> HAYIR | G23: =A23*N(DATA!E24) -> 3 | H23: =A23*N(DATA!F24) -> 3 | I23: =A23*N(DATA!G24) -> 0 | J23: =A23*N(DATA!H24) -> 0 | K23: =G23+I23 -> 3 | L23: =H23+J23 -> 3 | M23: =MAX(0,K23-L23) -> 0 | N23: =A23*IF(F23="EVET",--prm_KKTC,1)*OR(prm_Duzey="Tümü",C23=prm_Duzey)*OR(prm_Fak="Tümü",D23=prm_Fak)*OR(prm_Prog="Tümü",E23=prm_Prog) -> 1 | O23: =N23*(K23>0)*(L23>=K23) -> 1 | P23: =N23*(K23>0)*(L23=0) -> 0 | Q23: =N23*(F23="EVET") -> 0 | R23: =IF(D23="","",SUBSTITUTE(SUBSTITUTE(SUBSTITUTE(SUBSTITUTE(SUBSTITUTE(SUBSTITUTE(D23,"İKTİSADİ VE İDARİ BİLİMLER FAKÜLTESİ","İİBF"),"ORGANİZE SANAYİ BÖLGESİ","OSB"),"MESLEK YÜKSEKOKULU","MYO"),"UYGULAMALI BİLİMLER","UB"),"FAKÜLTESİ","FAK."),"YÜKSEKOKULU","YO")) -> BİGA MYO | W23: İNSAN VE TOPLUM BİLİMLERİ FAKÜLTESİ | X23: Elektrik Enerjisi Üretim, İletim ve Dağıtımı | Z23: FEN FAKÜLTESİ | AO23: Fen Bilgisi Öğretmenliği | AU23: 16
A24: =IF(AND(DATA!A25<>"",TRIM(DATA!D25)<>""),1,0) -> 1 | B24: =IF(A24=1,DATA!A25,"") -> 102790218 | C24: =IF(A24=1,TRIM(DATA!B25),"") -> ÖNLİSANS | D24: =IF(A24=1,TRIM(DATA!C25),"") -> ÇAN MESLEK YÜKSEKOKULU | E24: =IF(A24=1,TRIM(DATA!D25),"") -> Alternatif Enerji Kaynakları Teknolojisi | F24: =IF(A24=1,IF(ISNUMBER(SEARCH("KKTC Uyruklu",E24)),"EVET","HAYIR"),"") -> HAYIR | G24: =A24*N(DATA!E25) -> 5 | H24: =A24*N(DATA!F25) -> 5 | I24: =A24*N(DATA!G25) -> 0 | J24: =A24*N(DATA!H25) -> 0 | K24: =G24+I24 -> 5 | L24: =H24+J24 -> 5 | M24: =MAX(0,K24-L24) -> 0 | N24: =A24*IF(F24="EVET",--prm_KKTC,1)*OR(prm_Duzey="Tümü",C24=prm_Duzey)*OR(prm_Fak="Tümü",D24=prm_Fak)*OR(prm_Prog="Tümü",E24=prm_Prog) -> 1 | O24: =N24*(K24>0)*(L24>=K24) -> 1 | P24: =N24*(K24>0)*(L24=0) -> 0 | Q24: =N24*(F24="EVET") -> 0 | R24: =IF(D24="","",SUBSTITUTE(SUBSTITUTE(SUBSTITUTE(SUBSTITUTE(SUBSTITUTE(SUBSTITUTE(D24,"İKTİSADİ VE İDARİ BİLİMLER FAKÜLTESİ","İİBF"),"ORGANİZE SANAYİ BÖLGESİ","OSB"),"MESLEK YÜKSEKOKULU","MYO"),"UYGULAMALI BİLİMLER","UB"),"FAKÜLTESİ","FAK."),"YÜKSEKOKULU","YO")) -> ÇAN MYO | W24: LAPSEKİ MESLEK YÜKSEKOKULU | X24: Elektronik Teknolojisi | Z24: ÇANAKKALE SAĞLIK HİZMETLERİ MESLEK YÜKSEKOKULU | AO24: Fotoğrafçılık ve Kameramanlık | AU24: 17
A25: =IF(AND(DATA!A26<>"",TRIM(DATA!D26)<>""),1,0) -> 1 | B25: =IF(A25=1,DATA!A26,"") -> 102751303 | C25: =IF(A25=1,TRIM(DATA!B26),"") -> ÖNLİSANS | D25: =IF(A25=1,TRIM(DATA!C26),"") -> ÇAN MESLEK YÜKSEKOKULU | E25: =IF(A25=1,TRIM(DATA!D26),"") -> Biyomedikal Cihaz Teknolojisi | F25: =IF(A25=1,IF(ISNUMBER(SEARCH("KKTC Uyruklu",E25)),"EVET","HAYIR"),"") -> HAYIR | G25: =A25*N(DATA!E26) -> 2 | H25: =A25*N(DATA!F26) -> 2 | I25: =A25*N(DATA!G26) -> 1 | J25: =A25*N(DATA!H26) -> 1 | K25: =G25+I25 -> 3 | L25: =H25+J25 -> 3 | M25: =MAX(0,K25-L25) -> 0 | N25: =A25*IF(F25="EVET",--prm_KKTC,1)*OR(prm_Duzey="Tümü",C25=prm_Duzey)*OR(prm_Fak="Tümü",D25=prm_Fak)*OR(prm_Prog="Tümü",E25=prm_Prog) -> 1 | O25: =N25*(K25>0)*(L25>=K25) -> 1 | P25: =N25*(K25>0)*(L25=0) -> 0 | Q25: =N25*(F25="EVET") -> 0 | R25: =IF(D25="","",SUBSTITUTE(SUBSTITUTE(SUBSTITUTE(SUBSTITUTE(SUBSTITUTE(SUBSTITUTE(D25,"İKTİSADİ VE İDARİ BİLİMLER FAKÜLTESİ","İİBF"),"ORGANİZE SANAYİ BÖLGESİ","OSB"),"MESLEK YÜKSEKOKULU","MYO"),"UYGULAMALI BİLİMLER","UB"),"FAKÜLTESİ","FAK."),"YÜKSEKOKULU","YO")) -> ÇAN MYO | W25: MİMARLIK VE TASARIM FAKÜLTESİ | X25: Elektronörofizyoloji | Z25: GÖKÇEADA UYGULAMALI BİLİMLER YÜKSEKOKULU | AO25: Mobilya ve Dekorasyon | AU25: 18
A26: =IF(AND(DATA!A27<>"",TRIM(DATA!D27)<>""),1,0) -> 1 | B26: =IF(A26=1,DATA!A27,"") -> 102751172 | C26: =IF(A26=1,TRIM(DATA!B27),"") -> ÖNLİSANS | D26: =IF(A26=1,TRIM(DATA!C27),"") -> ÇAN MESLEK YÜKSEKOKULU | E26: =IF(A26=1,TRIM(DATA!D27),"") -> Elektrik Enerjisi Üretim, İletim ve Dağıtımı | F26: =IF(A26=1,IF(ISNUMBER(SEARCH("KKTC Uyruklu",E26)),"EVET","HAYIR"),"") -> HAYIR | G26: =A26*N(DATA!E27) -> 4 | H26: =A26*N(DATA!F27) -> 4 | I26: =A26*N(DATA!G27) -> 1 | J26: =A26*N(DATA!H27) -> 1 | K26: =G26+I26 -> 5 | L26: =H26+J26 -> 5 | M26: =MAX(0,K26-L26) -> 0 | N26: =A26*IF(F26="EVET",--prm_KKTC,1)*OR(prm_Duzey="Tümü",C26=prm_Duzey)*OR(prm_Fak="Tümü",D26=prm_Fak)*OR(prm_Prog="Tümü",E26=prm_Prog) -> 1 | O26: =N26*(K26>0)*(L26>=K26) -> 1 | P26: =N26*(K26>0)*(L26=0) -> 0 | Q26: =N26*(F26="EVET") -> 0 | R26: =IF(D26="","",SUBSTITUTE(SUBSTITUTE(SUBSTITUTE(SUBSTITUTE(SUBSTITUTE(SUBSTITUTE(D26,"İKTİSADİ VE İDARİ BİLİMLER FAKÜLTESİ","İİBF"),"ORGANİZE SANAYİ BÖLGESİ","OSB"),"MESLEK YÜKSEKOKULU","MYO"),"UYGULAMALI BİLİMLER","UB"),"FAKÜLTESİ","FAK."),"YÜKSEKOKULU","YO")) -> ÇAN MYO | W26: MÜHENDİSLİK FAKÜLTESİ | X26: Enerji Tesisleri İşletmeciliği | Z26: DENİZ BİLİMLERİ VE TEKNOLOJİSİ FAKÜLTESİ | AO26: Pazarlama | AU26: 19
A27: =IF(AND(DATA!A28<>"",TRIM(DATA!D28)<>""),1,0) -> 1 | B27: =IF(A27=1,DATA!A28,"") -> 102751066 | C27: =IF(A27=1,TRIM(DATA!B28),"") -> ÖNLİSANS | D27: =IF(A27=1,TRIM(DATA!C28),"") -> ÇAN MESLEK YÜKSEKOKULU | E27: =IF(A27=1,TRIM(DATA!D28),"") -> Elektronik Teknolojisi | F27: =IF(A27=1,IF(ISNUMBER(SEARCH("KKTC Uyruklu",E27)),"EVET","HAYIR"),"") -> HAYIR | G27: =A27*N(DATA!E28) -> 5 | H27: =A27*N(DATA!F28) -> 3 | I27: =A27*N(DATA!G28) -> 1 | J27: =A27*N(DATA!H28) -> 1 | K27: =G27+I27 -> 6 | L27: =H27+J27 -> 4 | M27: =MAX(0,K27-L27) -> 2 | N27: =A27*IF(F27="EVET",--prm_KKTC,1)*OR(prm_Duzey="Tümü",C27=prm_Duzey)*OR(prm_Fak="Tümü",D27=prm_Fak)*OR(prm_Prog="Tümü",E27=prm_Prog) -> 1 | O27: =N27*(K27>0)*(L27>=K27) -> 0 | P27: =N27*(K27>0)*(L27=0) -> 0 | Q27: =N27*(F27="EVET") -> 0 | R27: =IF(D27="","",SUBSTITUTE(SUBSTITUTE(SUBSTITUTE(SUBSTITUTE(SUBSTITUTE(SUBSTITUTE(D27,"İKTİSADİ VE İDARİ BİLİMLER FAKÜLTESİ","İİBF"),"ORGANİZE SANAYİ BÖLGESİ","OSB"),"MESLEK YÜKSEKOKULU","MYO"),"UYGULAMALI BİLİMLER","UB"),"FAKÜLTESİ","FAK."),"YÜKSEKOKULU","YO")) -> ÇAN MYO | W27: SAĞLIK BİLİMLERİ FAKÜLTESİ | X27: Enerji Yönetimi | Z27: İLETİŞİM FAKÜLTESİ | AO27: Çocuk Gelişimi | AU27: 20
A28: =IF(AND(DATA!A29<>"",TRIM(DATA!D29)<>""),1,0) -> 1 | B28: =IF(A28=1,DATA!A29,"") -> 102751296 | C28: =IF(A28=1,TRIM(DATA!B29),"") -> ÖNLİSANS | D28: =IF(A28=1,TRIM(DATA!C29),"") -> ÇAN MESLEK YÜKSEKOKULU | E28: =IF(A28=1,TRIM(DATA!D29),"") -> Enerji Tesisleri İşletmeciliği | F28: =IF(A28=1,IF(ISNUMBER(SEARCH("KKTC Uyruklu",E28)),"EVET","HAYIR"),"") -> HAYIR | G28: =A28*N(DATA!E29) -> 5 | H28: =A28*N(DATA!F29) -> 5 | I28: =A28*N(DATA!G29) -> 1 | J28: =A28*N(DATA!H29) -> 1 | K28: =G28+I28 -> 6 | L28: =H28+J28 -> 6 | M28: =MAX(0,K28-L28) -> 0 | N28: =A28*IF(F28="EVET",--prm_KKTC,1)*OR(prm_Duzey="Tümü",C28=prm_Duzey)*OR(prm_Fak="Tümü",D28=prm_Fak)*OR(prm_Prog="Tümü",E28=prm_Prog) -> 1 | O28: =N28*(K28>0)*(L28>=K28) -> 1 | P28: =N28*(K28>0)*(L28=0) -> 0 | Q28: =N28*(F28="EVET") -> 0 | R28: =IF(D28="","",SUBSTITUTE(SUBSTITUTE(SUBSTITUTE(SUBSTITUTE(SUBSTITUTE(SUBSTITUTE(D28,"İKTİSADİ VE İDARİ BİLİMLER FAKÜLTESİ","İİBF"),"ORGANİZE SANAYİ BÖLGESİ","OSB"),"MESLEK YÜKSEKOKULU","MYO"),"UYGULAMALI BİLİMLER","UB"),"FAKÜLTESİ","FAK."),"YÜKSEKOKULU","YO")) -> ÇAN MYO | W28: SİYASAL BİLGİLER FAKÜLTESİ | X28: Felsefe | Z28: ZİRAAT FAKÜLTESİ | AO28: Elektrik Enerjisi Üretim, İletim ve Dağıtımı | AU28: 21
... A31: =IF(AND(DATA!A32<>"",TRIM(DATA!D32)<>""),1,0) -> 1 | B31: =IF(A31=1,DATA!A32,"") -> 102790234 | C31: =IF(A31=1,TRIM(DATA!B32),"") -> ÖNLİSANS | D31: =IF(A31=1,TRIM(DATA!C32),"") -> ÇAN MESLEK YÜKSEKOKULU | E31: =IF(A31=1,TRIM(DATA!D32),"") -> Madencilik Teknolojisi | F31: =IF(A31=1,IF(ISNUMBER(SEARCH("KKTC Uyruklu",E31)),"EVET","HAYIR"),"") -> HAYIR | G31: =A31*N(DATA!E32) -> 4 | H31: =A31*N(DATA!F32) -> 4 | I31: =A31*N(DATA!G32) -> 1 | J31: =A31*N(DATA!H32) -> 1 | K31: =G31+I31 -> 5 | L31: =H31+J31 -> 5 | M31: =MAX(0,K31-L31) -> 0 | N31: =A31*IF(F31="EVET",--prm_KKTC,1)*OR(prm_Duzey="Tümü",C31=prm_Duzey)*OR(prm_Fak="Tümü",D31=prm_Fak)*OR(prm_Prog="Tümü",E31=prm_Prog) -> 1 | O31: =N31*(K31>0)*(L31>=K31) -> 1 | P31: =N31*(K31>0)*(L31=0) -> 0 | Q31: =N31*(F31="EVET") -> 0 | R31: =IF(D31="","",SUBSTITUTE(SUBSTITUTE(SUBSTITUTE(SUBSTITUTE(SUBSTITUTE(SUBSTITUTE(D31,"İKTİSADİ VE İDARİ BİLİMLER FAKÜLTESİ","İİBF"),"ORGANİZE SANAYİ BÖLGESİ","OSB"),"MESLEK YÜKSEKOKULU","MYO"),"UYGULAMALI BİLİMLER","UB"),"FAKÜLTESİ","FAK."),"YÜKSEKOKULU","YO")) -> ÇAN MYO | W31: ZİRAAT FAKÜLTESİ | X31: Finans ve Bankacılık | Z31: MİMARLIK VE TASARIM FAKÜLTESİ | AO31: Laborant ve Veteriner Sağlık | AU31: 102
A32: =IF(AND(DATA!A33<>"",TRIM(DATA!D33)<>""),1,0) -> 1 | B32: =IF(A32=1,DATA!A33,"") -> 102750323 | C32: =IF(A32=1,TRIM(DATA!B33),"") -> ÖNLİSANS | D32: =IF(A32=1,TRIM(DATA!C33),"") -> ÇAN MESLEK YÜKSEKOKULU | E32: =IF(A32=1,TRIM(DATA!D33),"") -> Mekatronik | F32: =IF(A32=1,IF(ISNUMBER(SEARCH("KKTC Uyruklu",E32)),"EVET","HAYIR"),"") -> HAYIR | G32: =A32*N(DATA!E33) -> 7 | H32: =A32*N(DATA!F33) -> 6 | I32: =A32*N(DATA!G33) -> 2 | J32: =A32*N(DATA!H33) -> 2 | K32: =G32+I32 -> 9 | L32: =H32+J32 -> 8 | M32: =MAX(0,K32-L32) -> 1 | N32: =A32*IF(F32="EVET",--prm_KKTC,1)*OR(prm_Duzey="Tümü",C32=prm_Duzey)*OR(prm_Fak="Tümü",D32=prm_Fak)*OR(prm_Prog="Tümü",E32=prm_Prog) -> 1 | O32: =N32*(K32>0)*(L32>=K32) -> 0 | P32: =N32*(K32>0)*(L32=0) -> 0 | Q32: =N32*(F32="EVET") -> 0 | R32: =IF(D32="","",SUBSTITUTE(SUBSTITUTE(SUBSTITUTE(SUBSTITUTE(SUBSTITUTE(SUBSTITUTE(D32,"İKTİSADİ VE İDARİ BİLİMLER FAKÜLTESİ","İİBF"),"ORGANİZE SANAYİ BÖLGESİ","OSB"),"MESLEK YÜKSEKOKULU","MYO"),"UYGULAMALI BİLİMLER","UB"),"FAKÜLTESİ","FAK."),"YÜKSEKOKULU","YO")) -> ÇAN MYO | X32: Fizik | AO32: Otomotiv Teknolojisi | AU32: 23
A33: =IF(AND(DATA!A34<>"",TRIM(DATA!D34)<>""),1,0) -> 1 | B33: =IF(A33=1,DATA!A34,"") -> 102751278 | C33: =IF(A33=1,TRIM(DATA!B34),"") -> ÖNLİSANS | D33: =IF(A33=1,TRIM(DATA!C34),"") -> ÇAN MESLEK YÜKSEKOKULU | E33: =IF(A33=1,TRIM(DATA!D34),"") -> Mimari Dekoratif Sanatlar | F33: =IF(A33=1,IF(ISNUMBER(SEARCH("KKTC Uyruklu",E33)),"EVET","HAYIR"),"") -> HAYIR | G33: =A33*N(DATA!E34) -> 20 | H33: =A33*N(DATA!F34) -> 20 | I33: =A33*N(DATA!G34) -> 0 | J33: =A33*N(DATA!H34) -> 0 | K33: =G33+I33 -> 20 | L33: =H33+J33 -> 20 | M33: =MAX(0,K33-L33) -> 0 | N33: =A33*IF(F33="EVET",--prm_KKTC,1)*OR(prm_Duzey="Tümü",C33=prm_Duzey)*OR(prm_Fak="Tümü",D33=prm_Fak)*OR(prm_Prog="Tümü",E33=prm_Prog) -> 1 | O33: =N33*(K33>0)*(L33>=K33) -> 1 | P33: =N33*(K33>0)*(L33=0) -> 0 | Q33: =N33*(F33="EVET") -> 0 | R33: =IF(D33="","",SUBSTITUTE(SUBSTITUTE(SUBSTITUTE(SUBSTITUTE(SUBSTITUTE(SUBSTITUTE(D33,"İKTİSADİ VE İDARİ BİLİMLER FAKÜLTESİ","İİBF"),"ORGANİZE SANAYİ BÖLGESİ","OSB"),"MESLEK YÜKSEKOKULU","MYO"),"UYGULAMALI BİLİMLER","UB"),"FAKÜLTESİ","FAK."),"YÜKSEKOKULU","YO")) -> ÇAN MYO | X33: Fotoğrafçılık ve Kameramanlık | AO33: Akıllı Tarım ve Gıda Yönetimi | AU33: 24
A34: =IF(AND(DATA!A35<>"",TRIM(DATA!D35)<>""),1,0) -> 1 | B34: =IF(A34=1,DATA!A35,"") -> 102751057 | C34: =IF(A34=1,TRIM(DATA!B35),"") -> ÖNLİSANS | D34: =IF(A34=1,TRIM(DATA!C35),"") -> ÇAN MESLEK YÜKSEKOKULU | E34: =IF(A34=1,TRIM(DATA!D35),"") -> Muhasebe ve Vergi Uygulamaları | F34: =IF(A34=1,IF(ISNUMBER(SEARCH("KKTC Uyruklu",E34)),"EVET","HAYIR"),"") -> HAYIR | G34: =A34*N(DATA!E35) -> 3 | H34: =A34*N(DATA!F35) -> 3 | I34: =A34*N(DATA!G35) -> 0 | J34: =A34*N(DATA!H35) -> 0 | K34: =G34+I34 -> 3 | L34: =H34+J34 -> 3 | M34: =MAX(0,K34-L34) -> 0 | N34: =A34*IF(F34="EVET",--prm_KKTC,1)*OR(prm_Duzey="Tümü",C34=prm_Duzey)*OR(prm_Fak="Tümü",D34=prm_Fak)*OR(prm_Prog="Tümü",E34=prm_Prog) -> 1 | O34: =N34*(K34>0)*(L34>=K34) -> 1 | P34: =N34*(K34>0)*(L34=0) -> 0 | Q34: =N34*(F34="EVET") -> 0 | R34: =IF(D34="","",SUBSTITUTE(SUBSTITUTE(SUBSTITUTE(SUBSTITUTE(SUBSTITUTE(SUBSTITUTE(D34,"İKTİSADİ VE İDARİ BİLİMLER FAKÜLTESİ","İİBF"),"ORGANİZE SANAYİ BÖLGESİ","OSB"),"MESLEK YÜKSEKOKULU","MYO"),"UYGULAMALI BİLİMLER","UB"),"FAKÜLTESİ","FAK."),"YÜKSEKOKULU","YO")) -> ÇAN MYO | X34: Gastronomi ve Mutfak Sanatları | AO34: Alternatif Enerji Kaynakları Teknolojisi | AU34: 25
A35: =IF(AND(DATA!A36<>"",TRIM(DATA!D36)<>""),1,0) -> 1 | B35: =IF(A35=1,DATA!A36,"") -> 102751551 | C35: =IF(A35=1,TRIM(DATA!B36),"") -> ÖNLİSANS | D35: =IF(A35=1,TRIM(DATA!C36),"") -> ÇAN MESLEK YÜKSEKOKULU | E35: =IF(A35=1,TRIM(DATA!D36),"") -> Sondaj Teknolojisi | F35: =IF(A35=1,IF(ISNUMBER(SEARCH("KKTC Uyruklu",E35)),"EVET","HAYIR"),"") -> HAYIR | G35: =A35*N(DATA!E36) -> 5 | H35: =A35*N(DATA!F36) -> 5 | I35: =A35*N(DATA!G36) -> 0 | J35: =A35*N(DATA!H36) -> 0 | K35: =G35+I35 -> 5 | L35: =H35+J35 -> 5 | M35: =MAX(0,K35-L35) -> 0 | N35: =A35*IF(F35="EVET",--prm_KKTC,1)*OR(prm_Duzey="Tümü",C35=prm_Duzey)*OR(prm_Fak="Tümü",D35=prm_Fak)*OR(prm_Prog="Tümü",E35=prm_Prog) -> 1 | O35: =N35*(K35>0)*(L35>=K35) -> 1 | P35: =N35*(K35>0)*(L35=0) -> 0 | Q35: =N35*(F35="EVET") -> 0 | R35: =IF(D35="","",SUBSTITUTE(SUBSTITUTE(SUBSTITUTE(SUBSTITUTE(SUBSTITUTE(SUBSTITUTE(D35,"İKTİSADİ VE İDARİ BİLİMLER FAKÜLTESİ","İİBF"),"ORGANİZE SANAYİ BÖLGESİ","OSB"),"MESLEK YÜKSEKOKULU","MYO"),"UYGULAMALI BİLİMLER","UB"),"FAKÜLTESİ","FAK."),"YÜKSEKOKULU","YO")) -> ÇAN MYO | X35: Gazetecilik | AO35: Deniz ve Liman İşletmeciliği | AU35: 26
A36: =IF(AND(DATA!A37<>"",TRIM(DATA!D37)<>""),1,0) -> 1 | B36: =IF(A36=1,DATA!A37,"") -> 102790308 | C36: =IF(A36=1,TRIM(DATA!B37),"") -> ÖNLİSANS | D36: =IF(A36=1,TRIM(DATA!C37),"") -> ÇANAKKALE SAĞLIK HİZMETLERİ MESLEK YÜKSEKOKULU | E36: =IF(A36=1,TRIM(DATA!D37),"") -> Eczane Hizmetleri | F36: =IF(A36=1,IF(ISNUMBER(SEARCH("KKTC Uyruklu",E36)),"EVET","HAYIR"),"") -> HAYIR | G36: =A36*N(DATA!E37) -> 1 | H36: =A36*N(DATA!F37) -> 1 | I36: =A36*N(DATA!G37) -> 0 | J36: =A36*N(DATA!H37) -> 0 | K36: =G36+I36 -> 1 | L36: =H36+J36 -> 1 | M36: =MAX(0,K36-L36) -> 0 | N36: =A36*IF(F36="EVET",--prm_KKTC,1)*OR(prm_Duzey="Tümü",C36=prm_Duzey)*OR(prm_Fak="Tümü",D36=prm_Fak)*OR(prm_Prog="Tümü",E36=prm_Prog) -> 1 | O36: =N36*(K36>0)*(L36>=K36) -> 1 | P36: =N36*(K36>0)*(L36=0) -> 0 | Q36: =N36*(F36="EVET") -> 0 | R36: =IF(D36="","",SUBSTITUTE(SUBSTITUTE(SUBSTITUTE(SUBSTITUTE(SUBSTITUTE(SUBSTITUTE(D36,"İKTİSADİ VE İDARİ BİLİMLER FAKÜLTESİ","İİBF"),"ORGANİZE SANAYİ BÖLGESİ","OSB"),"MESLEK YÜKSEKOKULU","MYO"),"UYGULAMALI BİLİMLER","UB"),"FAKÜLTESİ","FAK."),"YÜKSEKOKULU","YO")) -> ÇANAKKALE SAĞLIK HİZMETLERİ MYO | X36: Geleneksel El Sanatları | AO36: Elektronik Teknolojisi | AU36: 27
A37: =IF(AND(DATA!A38<>"",TRIM(DATA!D38)<>""),1,0) -> 1 | B37: =IF(A37=1,DATA!A38,"") -> 102790553 | C37: =IF(A37=1,TRIM(DATA!B38),"") -> ÖNLİSANS | D37: =IF(A37=1,TRIM(DATA!C38),"") -> ÇANAKKALE SAĞLIK HİZMETLERİ MESLEK YÜKSEKOKULU | E37: =IF(A37=1,TRIM(DATA!D38),"") -> Eczane Hizmetleri (KKTC Uyruklu) | F37: =IF(A37=1,IF(ISNUMBER(SEARCH("KKTC Uyruklu",E37)),"EVET","HAYIR"),"") -> EVET | G37: =A37*N(DATA!E38) -> 1 | H37: =A37*N(DATA!F38) -> 0 | I37: =A37*N(DATA!G38) -> 0 | J37: =A37*N(DATA!H38) -> 0 | K37: =G37+I37 -> 1 | L37: =H37+J37 -> 0 | M37: =MAX(0,K37-L37) -> 1 | N37: =A37*IF(F37="EVET",--prm_KKTC,1)*OR(prm_Duzey="Tümü",C37=prm_Duzey)*OR(prm_Fak="Tümü",D37=prm_Fak)*OR(prm_Prog="Tümü",E37=prm_Prog) -> 0 | O37: =N37*(K37>0)*(L37>=K37) -> 0 | P37: =N37*(K37>0)*(L37=0) -> 0 | Q37: =N37*(F37="EVET") -> 0 | R37: =IF(D37="","",SUBSTITUTE(SUBSTITUTE(SUBSTITUTE(SUBSTITUTE(SUBSTITUTE(SUBSTITUTE(D37,"İKTİSADİ VE İDARİ BİLİMLER FAKÜLTESİ","İİBF"),"ORGANİZE SANAYİ BÖLGESİ","OSB"),"MESLEK YÜKSEKOKULU","MYO"),"UYGULAMALI BİLİMLER","UB"),"FAKÜLTESİ","FAK."),"YÜKSEKOKULU","YO")) -> ÇANAKKALE SAĞLIK HİZMETLERİ MYO | X37: Gemi İnşaatı | AO37: Enerji Tesisleri İşletmeciliği | AU37: 28
A38: =IF(AND(DATA!A39<>"",TRIM(DATA!D39)<>""),1,0) -> 1 | B38: =IF(A38=1,DATA!A39,"") -> 102751321 | C38: =IF(A38=1,TRIM(DATA!B39),"") -> ÖNLİSANS | D38: =IF(A38=1,TRIM(DATA!C39),"") -> ÇANAKKALE SAĞLIK HİZMETLERİ MESLEK YÜKSEKOKULU | E38: =IF(A38=1,TRIM(DATA!D39),"") -> Elektronörofizyoloji | F38: =IF(A38=1,IF(ISNUMBER(SEARCH("KKTC Uyruklu",E38)),"EVET","HAYIR"),"") -> HAYIR | G38: =A38*N(DATA!E39) -> 2 | H38: =A38*N(DATA!F39) -> 2 | I38: =A38*N(DATA!G39) -> 0 | J38: =A38*N(DATA!H39) -> 0 | K38: =G38+I38 -> 2 | L38: =H38+J38 -> 2 | M38: =MAX(0,K38-L38) -> 0 | N38: =A38*IF(F38="EVET",--prm_KKTC,1)*OR(prm_Duzey="Tümü",C38=prm_Duzey)*OR(prm_Fak="Tümü",D38=prm_Fak)*OR(prm_Prog="Tümü",E38=prm_Prog) -> 1 | O38: =N38*(K38>0)*(L38>=K38) -> 1 | P38: =N38*(K38>0)*(L38=0) -> 0 | Q38: =N38*(F38="EVET") -> 0 | R38: =IF(D38="","",SUBSTITUTE(SUBSTITUTE(SUBSTITUTE(SUBSTITUTE(SUBSTITUTE(SUBSTITUTE(D38,"İKTİSADİ VE İDARİ BİLİMLER FAKÜLTESİ","İİBF"),"ORGANİZE SANAYİ BÖLGESİ","OSB"),"MESLEK YÜKSEKOKULU","MYO"),"UYGULAMALI BİLİMLER","UB"),"FAKÜLTESİ","FAK."),"YÜKSEKOKULU","YO")) -> ÇANAKKALE SAĞLIK HİZMETLERİ MYO | X38: Gıda Kalite Kontrolü ve Analizi | AO38: İktisat | AU38: 29
A39: =IF(AND(DATA!A40<>"",TRIM(DATA!D40)<>""),1,0) -> 1 | B39: =IF(A39=1,DATA!A40,"") -> 102750941 | C39: =IF(A39=1,TRIM(DATA!B40),"") -> ÖNLİSANS | D39: =IF(A39=1,TRIM(DATA!C40),"") -> ÇANAKKALE SAĞLIK HİZMETLERİ MESLEK YÜKSEKOKULU | E39: =IF(A39=1,TRIM(DATA!D40),"") -> Tıbbi Laboratuvar Teknikleri | F39: =IF(A39=1,IF(ISNUMBER(SEARCH("KKTC Uyruklu",E39)),"EVET","HAYIR"),"") -> HAYIR | G39: =A39*N(DATA!E40) -> 2 | H39: =A39*N(DATA!F40) -> 2 | I39: =A39*N(DATA!G40) -> 0 | J39: =A39*N(DATA!H40) -> 0 | K39: =G39+I39 -> 2 | L39: =H39+J39 -> 2 | M39: =MAX(0,K39-L39) -> 0 | N39: =A39*IF(F39="EVET",--prm_KKTC,1)*OR(prm_Duzey="Tümü",C39=prm_Duzey)*OR(prm_Fak="Tümü",D39=prm_Fak)*OR(prm_Prog="Tümü",E39=prm_Prog) -> 1 | O39: =N39*(K39>0)*(L39>=K39) -> 1 | P39: =N39*(K39>0)*(L39=0) -> 0 | Q39: =N39*(F39="EVET") -> 0 | R39: =IF(D39="","",SUBSTITUTE(SUBSTITUTE(SUBSTITUTE(SUBSTITUTE(SUBSTITUTE(SUBSTITUTE(D39,"İKTİSADİ VE İDARİ BİLİMLER FAKÜLTESİ","İİBF"),"ORGANİZE SANAYİ BÖLGESİ","OSB"),"MESLEK YÜKSEKOKULU","MYO"),"UYGULAMALI BİLİMLER","UB"),"FAKÜLTESİ","FAK."),"YÜKSEKOKULU","YO")) -> ÇANAKKALE SAĞLIK HİZMETLERİ MYO | X39: Gıda Mühendisliği | AO39: Karbon Yönetimi Teknikerliği | AU39: 30
A40: =IF(AND(DATA!A41<>"",TRIM(DATA!D41)<>""),1,0) -> 1 | B40: =IF(A40=1,DATA!A41,"") -> 102751393 | C40: =IF(A40=1,TRIM(DATA!B41),"") -> ÖNLİSANS | D40: =IF(A40=1,TRIM(DATA!C41),"") -> ÇANAKKALE SOSYAL BİLİMLER MESLEK YÜKSEKOKULU | E40: =IF(A40=1,TRIM(DATA!D41),"") -> Çocuk Gelişimi | F40: =IF(A40=1,IF(ISNUMBER(SEARCH("KKTC Uyruklu",E40)),"EVET","HAYIR"),"") -> HAYIR | G40: =A40*N(DATA!E41) -> 2 | H40: =A40*N(DATA!F41) -> 1 | I40: =A40*N(DATA!G41) -> 0 | J40: =A40*N(DATA!H41) -> 0 | K40: =G40+I40 -> 2 | L40: =H40+J40 -> 1 | M40: =MAX(0,K40-L40) -> 1 | N40: =A40*IF(F40="EVET",--prm_KKTC,1)*OR(prm_Duzey="Tümü",C40=prm_Duzey)*OR(prm_Fak="Tümü",D40=prm_Fak)*OR(prm_Prog="Tümü",E40=prm_Prog) -> 1 | O40: =N40*(K40>0)*(L40>=K40) -> 0 | P40: =N40*(K40>0)*(L40=0) -> 0 | Q40: =N40*(F40="EVET") -> 0 | R40: =IF(D40="","",SUBSTITUTE(SUBSTITUTE(SUBSTITUTE(SUBSTITUTE(SUBSTITUTE(SUBSTITUTE(D40,"İKTİSADİ VE İDARİ BİLİMLER FAKÜLTESİ","İİBF"),"ORGANİZE SANAYİ BÖLGESİ","OSB"),"MESLEK YÜKSEKOKULU","MYO"),"UYGULAMALI BİLİMLER","UB"),"FAKÜLTESİ","FAK."),"YÜKSEKOKULU","YO")) -> ÇANAKKALE SOSYAL BİLİMLER MYO | X40: Gıda Teknolojisi | AO40: Organik Tarım | AU40: 31
A41: =IF(AND(DATA!A42<>"",TRIM(DATA!D42)<>""),1,0) -> 1 | B41: =IF(A41=1,DATA!A42,"") -> 102750605 | C41: =IF(A41=1,TRIM(DATA!B42),"") -> ÖNLİSANS | D41: =IF(A41=1,TRIM(DATA!C42),"") -> ÇANAKKALE SOSYAL BİLİMLER MESLEK YÜKSEKOKULU | E41: =IF(A41=1,TRIM(DATA!D42),"") -> Fotoğrafçılık ve Kameramanlık | F41: =IF(A41=1,IF(ISNUMBER(SEARCH("KKTC Uyruklu",E41)),"EVET","HAYIR"),"") -> HAYIR | G41: =A41*N(DATA!E42) -> 8 | H41: =A41*N(DATA!F42) -> 4 | I41: =A41*N(DATA!G42) -> 0 | J41: =A41*N(DATA!H42) -> 0 | K41: =G41+I41 -> 8 | L41: =H41+J41 -> 4 | M41: =MAX(0,K41-L41) -> 4 | N41: =A41*IF(F41="EVET",--prm_KKTC,1)*OR(prm_Duzey="Tümü",C41=prm_Duzey)*OR(prm_Fak="Tümü",D41=prm_Fak)*OR(prm_Prog="Tümü",E41=prm_Prog) -> 1 | O41: =N41*(K41>0)*(L41>=K41) -> 0 | P41: =N41*(K41>0)*(L41=0) -> 0 | Q41: =N41*(F41="EVET") -> 0 | R41: =IF(D41="","",SUBSTITUTE(SUBSTITUTE(SUBSTITUTE(SUBSTITUTE(SUBSTITUTE(SUBSTITUTE(D41,"İKTİSADİ VE İDARİ BİLİMLER FAKÜLTESİ","İİBF"),"ORGANİZE SANAYİ BÖLGESİ","OSB"),"MESLEK YÜKSEKOKULU","MYO"),"UYGULAMALI BİLİMLER","UB"),"FAKÜLTESİ","FAK."),"YÜKSEKOKULU","YO")) -> ÇANAKKALE SOSYAL BİLİMLER MYO | X41: Giyim Üretim Teknolojisi | AO41: Su Altı Teknolojisi | AU41: 32
A42: =IF(AND(DATA!A43<>"",TRIM(DATA!D43)<>""),1,0) -> 1 | B42: =IF(A42=1,DATA!A43,"") -> 102750977 | C42: =IF(A42=1,TRIM(DATA!B43),"") -> ÖNLİSANS | D42: =IF(A42=1,TRIM(DATA!C43),"") -> ÇANAKKALE SOSYAL BİLİMLER MESLEK YÜKSEKOKULU | E42: =IF(A42=1,TRIM(DATA!D43),"") -> Halkla İlişkiler ve Tanıtım | F42: =IF(A42=1,IF(ISNUMBER(SEARCH("KKTC Uyruklu",E42)),"EVET","HAYIR"),"") -> HAYIR | G42: =A42*N(DATA!E43) -> 7 | H42: =A42*N(DATA!F43) -> 6 | I42: =A42*N(DATA!G43) -> 0 | J42: =A42*N(DATA!H43) -> 0 | K42: =G42+I42 -> 7 | L42: =H42+J42 -> 6 | M42: =MAX(0,K42-L42) -> 1 | N42: =A42*IF(F42="EVET",--prm_KKTC,1)*OR(prm_Duzey="Tümü",C42=prm_Duzey)*OR(prm_Fak="Tümü",D42=prm_Fak)*OR(prm_Prog="Tümü",E42=prm_Prog) -> 1 | O42: =N42*(K42>0)*(L42>=K42) -> 0 | P42: =N42*(K42>0)*(L42=0) -> 0 | Q42: =N42*(F42="EVET") -> 0 | R42: =IF(D42="","",SUBSTITUTE(SUBSTITUTE(SUBSTITUTE(SUBSTITUTE(SUBSTITUTE(SUBSTITUTE(D42,"İKTİSADİ VE İDARİ BİLİMLER FAKÜLTESİ","İİBF"),"ORGANİZE SANAYİ BÖLGESİ","OSB"),"MESLEK YÜKSEKOKULU","MYO"),"UYGULAMALI BİLİMLER","UB"),"FAKÜLTESİ","FAK."),"YÜKSEKOKULU","YO")) -> ÇANAKKALE SOSYAL BİLİMLER MYO | X42: Grafik Tasarımı | AO42: Felsefe | AU42: 33
A43: =IF(AND(DATA!A44<>"",TRIM(DATA!D44)<>""),1,0) -> 1 | B43: =IF(A43=1,DATA!A44,"") -> 102750817 | C43: =IF(A43=1,TRIM(DATA!B44),"") -> ÖNLİSANS | D43: =IF(A43=1,TRIM(DATA!C44),"") -> ÇANAKKALE SOSYAL BİLİMLER MESLEK YÜKSEKOKULU | E43: =IF(A43=1,TRIM(DATA!D44),"") -> İşletme Yönetimi | F43: =IF(A43=1,IF(ISNUMBER(SEARCH("KKTC Uyruklu",E43)),"EVET","HAYIR"),"") -> HAYIR | G43: =A43*N(DATA!E44) -> 7 | H43: =A43*N(DATA!F44) -> 7 | I43: =A43*N(DATA!G44) -> 0 | J43: =A43*N(DATA!H44) -> 0 | K43: =G43+I43 -> 7 | L43: =H43+J43 -> 7 | M43: =MAX(0,K43-L43) -> 0 | N43: =A43*IF(F43="EVET",--prm_KKTC,1)*OR(prm_Duzey="Tümü",C43=prm_Duzey)*OR(prm_Fak="Tümü",D43=prm_Fak)*OR(prm_Prog="Tümü",E43=prm_Prog) -> 1 | O43: =N43*(K43>0)*(L43>=K43) -> 1 | P43: =N43*(K43>0)*(L43=0) -> 0 | Q43: =N43*(F43="EVET") -> 0 | R43: =IF(D43="","",SUBSTITUTE(SUBSTITUTE(SUBSTITUTE(SUBSTITUTE(SUBSTITUTE(SUBSTITUTE(D43,"İKTİSADİ VE İDARİ BİLİMLER FAKÜLTESİ","İİBF"),"ORGANİZE SANAYİ BÖLGESİ","OSB"),"MESLEK YÜKSEKOKULU","MYO"),"UYGULAMALI BİLİMLER","UB"),"FAKÜLTESİ","FAK."),"YÜKSEKOKULU","YO")) -> ÇANAKKALE SOSYAL BİLİMLER MYO | X43: Halkla İlişkiler ve Tanıtım | AO43: Finans ve Bankacılık | AU43: 34
... A118: =IF(AND(DATA!A119<>"",TRIM(DATA!D119)<>""),1,0) -> 1 | B118: =IF(A118=1,DATA!A119,"") -> 102790236 | C118: =IF(A118=1,TRIM(DATA!B119),"") -> LİSANS | D118: =IF(A118=1,TRIM(DATA!C119),"") -> EĞİTİM FAKÜLTESİ | E118: =IF(A118=1,TRIM(DATA!D119),"") -> Özel Eğitim Öğretmenliği | F118: =IF(A118=1,IF(ISNUMBER(SEARCH("KKTC Uyruklu",E118)),"EVET","HAYIR"),"") -> HAYIR | G118: =A118*N(DATA!E119) -> 1 | H118: =A118*N(DATA!F119) -> 0 | I118: =A118*N(DATA!G119) -> 0 | J118: =A118*N(DATA!H119) -> 0 | K118: =G118+I118 -> 1 | L118: =H118+J118 -> 0 | M118: =MAX(0,K118-L118) -> 1 | N118: =A118*IF(F118="EVET",--prm_KKTC,1)*OR(prm_Duzey="Tümü",C118=prm_Duzey)*OR(prm_Fak="Tümü",D118=prm_Fak)*OR(prm_Prog="Tümü",E118=prm_Prog) -> 1 | O118: =N118*(K118>0)*(L118>=K118) -> 0 | P118: =N118*(K118>0)*(L118=0) -> 1 | Q118: =N118*(F118="EVET") -> 0 | R118: =IF(D118="","",SUBSTITUTE(SUBSTITUTE(SUBSTITUTE(SUBSTITUTE(SUBSTITUTE(SUBSTITUTE(D118,"İKTİSADİ VE İDARİ BİLİMLER FAKÜLTESİ","İİBF"),"ORGANİZE SANAYİ BÖLGESİ","OSB"),"MESLEK YÜKSEKOKULU","MYO"),"UYGULAMALI BİLİMLER","UB"),"FAKÜLTESİ","FAK."),"YÜKSEKOKULU","YO")) -> EĞİTİM FAK. | X118: Zootekni | AO118: Zootekni | AU118: 79
A119: =IF(AND(DATA!A120<>"",TRIM(DATA!D120)<>""),1,0) -> 1 | B119: =IF(A119=1,DATA!A120,"") -> 102790476 | C119: =IF(A119=1,TRIM(DATA!B120),"") -> LİSANS | D119: =IF(A119=1,TRIM(DATA!C120),"") -> EĞİTİM FAKÜLTESİ | E119: =IF(A119=1,TRIM(DATA!D120),"") -> Sınıf Öğretmenliği (KKTC Uyruklu) | F119: =IF(A119=1,IF(ISNUMBER(SEARCH("KKTC Uyruklu",E119)),"EVET","HAYIR"),"") -> EVET | G119: =A119*N(DATA!E120) -> 1 | H119: =A119*N(DATA!F120) -> 0 | I119: =A119*N(DATA!G120) -> 0 | J119: =A119*N(DATA!H120) -> 0 | K119: =G119+I119 -> 1 | L119: =H119+J119 -> 0 | M119: =MAX(0,K119-L119) -> 1 | N119: =A119*IF(F119="EVET",--prm_KKTC,1)*OR(prm_Duzey="Tümü",C119=prm_Duzey)*OR(prm_Fak="Tümü",D119=prm_Fak)*OR(prm_Prog="Tümü",E119=prm_Prog) -> 0 | O119: =N119*(K119>0)*(L119>=K119) -> 0 | P119: =N119*(K119>0)*(L119=0) -> 0 | Q119: =N119*(F119="EVET") -> 0 | R119: =IF(D119="","",SUBSTITUTE(SUBSTITUTE(SUBSTITUTE(SUBSTITUTE(SUBSTITUTE(SUBSTITUTE(D119,"İKTİSADİ VE İDARİ BİLİMLER FAKÜLTESİ","İİBF"),"ORGANİZE SANAYİ BÖLGESİ","OSB"),"MESLEK YÜKSEKOKULU","MYO"),"UYGULAMALI BİLİMLER","UB"),"FAKÜLTESİ","FAK."),"YÜKSEKOKULU","YO")) -> EĞİTİM FAK. | AU119: 80
A120: =IF(AND(DATA!A121<>"",TRIM(DATA!D121)<>""),1,0) -> 1 | B120: =IF(A120=1,DATA!A121,"") -> 102710087 | C120: =IF(A120=1,TRIM(DATA!B121),"") -> LİSANS | D120: =IF(A120=1,TRIM(DATA!C121),"") -> EĞİTİM FAKÜLTESİ | E120: =IF(A120=1,TRIM(DATA!D121),"") -> Sosyal Bilgiler Öğretmenliği | F120: =IF(A120=1,IF(ISNUMBER(SEARCH("KKTC Uyruklu",E120)),"EVET","HAYIR"),"") -> HAYIR | G120: =A120*N(DATA!E121) -> 1 | H120: =A120*N(DATA!F121) -> 1 | I120: =A120*N(DATA!G121) -> 0 | J120: =A120*N(DATA!H121) -> 0 | K120: =G120+I120 -> 1 | L120: =H120+J120 -> 1 | M120: =MAX(0,K120-L120) -> 0 | N120: =A120*IF(F120="EVET",--prm_KKTC,1)*OR(prm_Duzey="Tümü",C120=prm_Duzey)*OR(prm_Fak="Tümü",D120=prm_Fak)*OR(prm_Prog="Tümü",E120=prm_Prog) -> 1 | O120: =N120*(K120>0)*(L120>=K120) -> 1 | P120: =N120*(K120>0)*(L120=0) -> 0 | Q120: =N120*(F120="EVET") -> 0 | R120: =IF(D120="","",SUBSTITUTE(SUBSTITUTE(SUBSTITUTE(SUBSTITUTE(SUBSTITUTE(SUBSTITUTE(D120,"İKTİSADİ VE İDARİ BİLİMLER FAKÜLTESİ","İİBF"),"ORGANİZE SANAYİ BÖLGESİ","OSB"),"MESLEK YÜKSEKOKULU","MYO"),"UYGULAMALI BİLİMLER","UB"),"FAKÜLTESİ","FAK."),"YÜKSEKOKULU","YO")) -> EĞİTİM FAK. | AU120: 81
A121: =IF(AND(DATA!A122<>"",TRIM(DATA!D122)<>""),1,0) -> 1 | B121: =IF(A121=1,DATA!A122,"") -> 102700332 | C121: =IF(A121=1,TRIM(DATA!B122),"") -> LİSANS | D121: =IF(A121=1,TRIM(DATA!C122),"") -> FEN FAKÜLTESİ | E121: =IF(A121=1,TRIM(DATA!D122),"") -> Biyoloji (KKTC Uyruklu) | F121: =IF(A121=1,IF(ISNUMBER(SEARCH("KKTC Uyruklu",E121)),"EVET","HAYIR"),"") -> EVET | G121: =A121*N(DATA!E122) -> 1 | H121: =A121*N(DATA!F122) -> 0 | I121: =A121*N(DATA!G122) -> 0 | J121: =A121*N(DATA!H122) -> 0 | K121: =G121+I121 -> 1 | L121: =H121+J121 -> 0 | M121: =MAX(0,K121-L121) -> 1 | N121: =A121*IF(F121="EVET",--prm_KKTC,1)*OR(prm_Duzey="Tümü",C121=prm_Duzey)*OR(prm_Fak="Tümü",D121=prm_Fak)*OR(prm_Prog="Tümü",E121=prm_Prog) -> 0 | O121: =N121*(K121>0)*(L121>=K121) -> 0 | P121: =N121*(K121>0)*(L121=0) -> 0 | Q121: =N121*(F121="EVET") -> 0 | R121: =IF(D121="","",SUBSTITUTE(SUBSTITUTE(SUBSTITUTE(SUBSTITUTE(SUBSTITUTE(SUBSTITUTE(D121,"İKTİSADİ VE İDARİ BİLİMLER FAKÜLTESİ","İİBF"),"ORGANİZE SANAYİ BÖLGESİ","OSB"),"MESLEK YÜKSEKOKULU","MYO"),"UYGULAMALI BİLİMLER","UB"),"FAKÜLTESİ","FAK."),"YÜKSEKOKULU","YO")) -> FEN FAK. | AU121: 83
A122: =IF(AND(DATA!A123<>"",TRIM(DATA!D123)<>""),1,0) -> 1 | B122: =IF(A122=1,DATA!A123,"") -> 102710166 | C122: =IF(A122=1,TRIM(DATA!B123),"") -> LİSANS | D122: =IF(A122=1,TRIM(DATA!C123),"") -> FEN FAKÜLTESİ | E122: =IF(A122=1,TRIM(DATA!D123),"") -> Fizik | F122: =IF(A122=1,IF(ISNUMBER(SEARCH("KKTC Uyruklu",E122)),"EVET","HAYIR"),"") -> HAYIR | G122: =A122*N(DATA!E123) -> 1 | H122: =A122*N(DATA!F123) -> 1 | I122: =A122*N(DATA!G123) -> 1 | J122: =A122*N(DATA!H123) -> 1 | K122: =G122+I122 -> 2 | L122: =H122+J122 -> 2 | M122: =MAX(0,K122-L122) -> 0 | N122: =A122*IF(F122="EVET",--prm_KKTC,1)*OR(prm_Duzey="Tümü",C122=prm_Duzey)*OR(prm_Fak="Tümü",D122=prm_Fak)*OR(prm_Prog="Tümü",E122=prm_Prog) -> 1 | O122: =N122*(K122>0)*(L122>=K122) -> 1 | P122: =N122*(K122>0)*(L122=0) -> 0 | Q122: =N122*(F122="EVET") -> 0 | R122: =IF(D122="","",SUBSTITUTE(SUBSTITUTE(SUBSTITUTE(SUBSTITUTE(SUBSTITUTE(SUBSTITUTE(D122,"İKTİSADİ VE İDARİ BİLİMLER FAKÜLTESİ","İİBF"),"ORGANİZE SANAYİ BÖLGESİ","OSB"),"MESLEK YÜKSEKOKULU","MYO"),"UYGULAMALI BİLİMLER","UB"),"FAKÜLTESİ","FAK."),"YÜKSEKOKULU","YO")) -> FEN FAK. | AU122: 84
A123: =IF(AND(DATA!A124<>"",TRIM(DATA!D124)<>""),1,0) -> 1 | B123: =IF(A123=1,DATA!A124,"") -> 102790246 | C123: =IF(A123=1,TRIM(DATA!B124),"") -> LİSANS | D123: =IF(A123=1,TRIM(DATA!C124),"") -> FEN FAKÜLTESİ | E123: =IF(A123=1,TRIM(DATA!D124),"") -> İstatistik | F123: =IF(A123=1,IF(ISNUMBER(SEARCH("KKTC Uyruklu",E123)),"EVET","HAYIR"),"") -> HAYIR | G123: =A123*N(DATA!E124) -> 1 | H123: =A123*N(DATA!F124) -> 1 | I123: =A123*N(DATA!G124) -> 1 | J123: =A123*N(DATA!H124) -> 1 | K123: =G123+I123 -> 2 | L123: =H123+J123 -> 2 | M123: =MAX(0,K123-L123) -> 0 | N123: =A123*IF(F123="EVET",--prm_KKTC,1)*OR(prm_Duzey="Tümü",C123=prm_Duzey)*OR(prm_Fak="Tümü",D123=prm_Fak)*OR(prm_Prog="Tümü",E123=prm_Prog) -> 1 | O123: =N123*(K123>0)*(L123>=K123) -> 1 | P123: =N123*(K123>0)*(L123=0) -> 0 | Q123: =N123*(F123="EVET") -> 0 | R123: =IF(D123="","",SUBSTITUTE(SUBSTITUTE(SUBSTITUTE(SUBSTITUTE(SUBSTITUTE(SUBSTITUTE(D123,"İKTİSADİ VE İDARİ BİLİMLER FAKÜLTESİ","İİBF"),"ORGANİZE SANAYİ BÖLGESİ","OSB"),"MESLEK YÜKSEKOKULU","MYO"),"UYGULAMALI BİLİMLER","UB"),"FAKÜLTESİ","FAK."),"YÜKSEKOKULU","YO")) -> FEN FAK. | AU123: 85
A124: =IF(AND(DATA!A125<>"",TRIM(DATA!D125)<>""),1,0) -> 1 | B124: =IF(A124=1,DATA!A125,"") -> 102710184 | C124: =IF(A124=1,TRIM(DATA!B125),"") -> LİSANS | D124: =IF(A124=1,TRIM(DATA!C125),"") -> FEN FAKÜLTESİ | E124: =IF(A124=1,TRIM(DATA!D125),"") -> Kimya | F124: =IF(A124=1,IF(ISNUMBER(SEARCH("KKTC Uyruklu",E124)),"EVET","HAYIR"),"") -> HAYIR | G124: =A124*N(DATA!E125) -> 0 | H124: =A124*N(DATA!F125) -> 0 | I124: =A124*N(DATA!G125) -> 1 | J124: =A124*N(DATA!H125) -> 1 | K124: =G124+I124 -> 1 | L124: =H124+J124 -> 1 | M124: =MAX(0,K124-L124) -> 0 | N124: =A124*IF(F124="EVET",--prm_KKTC,1)*OR(prm_Duzey="Tümü",C124=prm_Duzey)*OR(prm_Fak="Tümü",D124=prm_Fak)*OR(prm_Prog="Tümü",E124=prm_Prog) -> 1 | O124: =N124*(K124>0)*(L124>=K124) -> 1 | P124: =N124*(K124>0)*(L124=0) -> 0 | Q124: =N124*(F124="EVET") -> 0 | R124: =IF(D124="","",SUBSTITUTE(SUBSTITUTE(SUBSTITUTE(SUBSTITUTE(SUBSTITUTE(SUBSTITUTE(D124,"İKTİSADİ VE İDARİ BİLİMLER FAKÜLTESİ","İİBF"),"ORGANİZE SANAYİ BÖLGESİ","OSB"),"MESLEK YÜKSEKOKULU","MYO"),"UYGULAMALI BİLİMLER","UB"),"FAKÜLTESİ","FAK."),"YÜKSEKOKULU","YO")) -> FEN FAK. | AU124: 86
A125: =IF(AND(DATA!A126<>"",TRIM(DATA!D126)<>""),1,0) -> 1 | B125: =IF(A125=1,DATA!A126,"") -> 102710193 | C125: =IF(A125=1,TRIM(DATA!B126),"") -> LİSANS | D125: =IF(A125=1,TRIM(DATA!C126),"") -> FEN FAKÜLTESİ | E125: =IF(A125=1,TRIM(DATA!D126),"") -> Matematik | F125: =IF(A125=1,IF(ISNUMBER(SEARCH("KKTC Uyruklu",E125)),"EVET","HAYIR"),"") -> HAYIR | G125: =A125*N(DATA!E126) -> 0 | H125: =A125*N(DATA!F126) -> 0 | I125: =A125*N(DATA!G126) -> 1 | J125: =A125*N(DATA!H126) -> 1 | K125: =G125+I125 -> 1 | L125: =H125+J125 -> 1 | M125: =MAX(0,K125-L125) -> 0 | N125: =A125*IF(F125="EVET",--prm_KKTC,1)*OR(prm_Duzey="Tümü",C125=prm_Duzey)*OR(prm_Fak="Tümü",D125=prm_Fak)*OR(prm_Prog="Tümü",E125=prm_Prog) -> 1 | O125: =N125*(K125>0)*(L125>=K125) -> 1 | P125: =N125*(K125>0)*(L125=0) -> 0 | Q125: =N125*(F125="EVET") -> 0 | R125: =IF(D125="","",SUBSTITUTE(SUBSTITUTE(SUBSTITUTE(SUBSTITUTE(SUBSTITUTE(SUBSTITUTE(D125,"İKTİSADİ VE İDARİ BİLİMLER FAKÜLTESİ","İİBF"),"ORGANİZE SANAYİ BÖLGESİ","OSB"),"MESLEK YÜKSEKOKULU","MYO"),"UYGULAMALI BİLİMLER","UB"),"FAKÜLTESİ","FAK."),"YÜKSEKOKULU","YO")) -> FEN FAK. | AU125: 139
A126: =IF(AND(DATA!A127<>"",TRIM(DATA!D127)<>""),1,0) -> 1 | B126: =IF(A126=1,DATA!A127,"") -> 102700339 | C126: =IF(A126=1,TRIM(DATA!B127),"") -> LİSANS | D126: =IF(A126=1,TRIM(DATA!C127),"") -> FEN FAKÜLTESİ | E126: =IF(A126=1,TRIM(DATA!D127),"") -> Moleküler Biyoloji ve Genetik (İngilizce) (KKTC Uyruklu) | F126: =IF(A126=1,IF(ISNUMBER(SEARCH("KKTC Uyruklu",E126)),"EVET","HAYIR"),"") -> EVET | G126: =A126*N(DATA!E127) -> 1 | H126: =A126*N(DATA!F127) -> 0 | I126: =A126*N(DATA!G127) -> 0 | J126: =A126*N(DATA!H127) -> 0 | K126: =G126+I126 -> 1 | L126: =H126+J126 -> 0 | M126: =MAX(0,K126-L126) -> 1 | N126: =A126*IF(F126="EVET",--prm_KKTC,1)*OR(prm_Duzey="Tümü",C126=prm_Duzey)*OR(prm_Fak="Tümü",D126=prm_Fak)*OR(prm_Prog="Tümü",E126=prm_Prog) -> 0 | O126: =N126*(K126>0)*(L126>=K126) -> 0 | P126: =N126*(K126>0)*(L126=0) -> 0 | Q126: =N126*(F126="EVET") -> 0 | R126: =IF(D126="","",SUBSTITUTE(SUBSTITUTE(SUBSTITUTE(SUBSTITUTE(SUBSTITUTE(SUBSTITUTE(D126,"İKTİSADİ VE İDARİ BİLİMLER FAKÜLTESİ","İİBF"),"ORGANİZE SANAYİ BÖLGESİ","OSB"),"MESLEK YÜKSEKOKULU","MYO"),"UYGULAMALI BİLİMLER","UB"),"FAKÜLTESİ","FAK."),"YÜKSEKOKULU","YO")) -> FEN FAK. | AU126: 140
A127: =IF(AND(DATA!A128<>"",TRIM(DATA!D128)<>""),1,0) -> 1 | B127: =IF(A127=1,DATA!A128,"") -> 102790483 | C127: =IF(A127=1,TRIM(DATA!B128),"") -> LİSANS | D127: =IF(A127=1,TRIM(DATA!C128),"") -> FEN FAKÜLTESİ | E127: =IF(A127=1,TRIM(DATA!D128),"") -> Uzay Bilimleri ve Teknolojileri (KKTC Uyruklu) | F127: =IF(A127=1,IF(ISNUMBER(SEARCH("KKTC Uyruklu",E127)),"EVET","HAYIR"),"") -> EVET | G127: =A127*N(DATA!E128) -> 2 | H127: =A127*N(DATA!F128) -> 0 | I127: =A127*N(DATA!G128) -> 0 | J127: =A127*N(DATA!H128) -> 0 | K127: =G127+I127 -> 2 | L127: =H127+J127 -> 0 | M127: =MAX(0,K127-L127) -> 2 | N127: =A127*IF(F127="EVET",--prm_KKTC,1)*OR(prm_Duzey="Tümü",C127=prm_Duzey)*OR(prm_Fak="Tümü",D127=prm_Fak)*OR(prm_Prog="Tümü",E127=prm_Prog) -> 0 | O127: =N127*(K127>0)*(L127>=K127) -> 0 | P127: =N127*(K127>0)*(L127=0) -> 0 | Q127: =N127*(F127="EVET") -> 0 | R127: =IF(D127="","",SUBSTITUTE(SUBSTITUTE(SUBSTITUTE(SUBSTITUTE(SUBSTITUTE(SUBSTITUTE(D127,"İKTİSADİ VE İDARİ BİLİMLER FAKÜLTESİ","İİBF"),"ORGANİZE SANAYİ BÖLGESİ","OSB"),"MESLEK YÜKSEKOKULU","MYO"),"UYGULAMALI BİLİMLER","UB"),"FAKÜLTESİ","FAK."),"YÜKSEKOKULU","YO")) -> FEN FAK. | AU127: 141
A128: =IF(AND(DATA!A129<>"",TRIM(DATA!D129)<>""),1,0) -> 1 | B128: =IF(A128=1,DATA!A129,"") -> 102710624 | C128: =IF(A128=1,TRIM(DATA!B129),"") -> LİSANS | D128: =IF(A128=1,TRIM(DATA!C129),"") -> GÖKÇEADA UYGULAMALI BİLİMLER YÜKSEKOKULU | E128: =IF(A128=1,TRIM(DATA!D129),"") -> Gastronomi ve Mutfak Sanatları | F128: =IF(A128=1,IF(ISNUMBER(SEARCH("KKTC Uyruklu",E128)),"EVET","HAYIR"),"") -> HAYIR | G128: =A128*N(DATA!E129) -> 5 | H128: =A128*N(DATA!F129) -> 5 | I128: =A128*N(DATA!G129) -> 0 | J128: =A128*N(DATA!H129) -> 0 | K128: =G128+I128 -> 5 | L128: =H128+J128 -> 5 | M128: =MAX(0,K128-L128) -> 0 | N128: =A128*IF(F128="EVET",--prm_KKTC,1)*OR(prm_Duzey="Tümü",C128=prm_Duzey)*OR(prm_Fak="Tümü",D128=prm_Fak)*OR(prm_Prog="Tümü",E128=prm_Prog) -> 1 | O128: =N128*(K128>0)*(L128>=K128) -> 1 | P128: =N128*(K128>0)*(L128=0) -> 0 | Q128: =N128*(F128="EVET") -> 0 | R128: =IF(D128="","",SUBSTITUTE(SUBSTITUTE(SUBSTITUTE(SUBSTITUTE(SUBSTITUTE(SUBSTITUTE(D128,"İKTİSADİ VE İDARİ BİLİMLER FAKÜLTESİ","İİBF"),"ORGANİZE SANAYİ BÖLGESİ","OSB"),"MESLEK YÜKSEKOKULU","MYO"),"UYGULAMALI BİLİMLER","UB"),"FAKÜLTESİ","FAK."),"YÜKSEKOKULU","YO")) -> GÖKÇEADA UB YO | AU128: 142
A129: =IF(AND(DATA!A130<>"",TRIM(DATA!D130)<>""),1,0) -> 1 | B129: =IF(A129=1,DATA!A130,"") -> 102710669 | C129: =IF(A129=1,TRIM(DATA!B130),"") -> LİSANS | D129: =IF(A129=1,TRIM(DATA!C130),"") -> İLAHİYAT FAKÜLTESİ | E129: =IF(A129=1,TRIM(DATA!D130),"") -> İlahiyat | F129: =IF(A129=1,IF(ISNUMBER(SEARCH("KKTC Uyruklu",E129)),"EVET","HAYIR"),"") -> HAYIR | G129: =A129*N(DATA!E130) -> 6 | H129: =A129*N(DATA!F130) -> 6 | I129: =A129*N(DATA!G130) -> 1 | J129: =A129*N(DATA!H130) -> 1 | K129: =G129+I129 -> 7 | L129: =H129+J129 -> 7 | M129: =MAX(0,K129-L129) -> 0 | N129: =A129*IF(F129="EVET",--prm_KKTC,1)*OR(prm_Duzey="Tümü",C129=prm_Duzey)*OR(prm_Fak="Tümü",D129=prm_Fak)*OR(prm_Prog="Tümü",E129=prm_Prog) -> 1 | O129: =N129*(K129>0)*(L129>=K129) -> 1 | P129: =N129*(K129>0)*(L129=0) -> 0 | Q129: =N129*(F129="EVET") -> 0 | R129: =IF(D129="","",SUBSTITUTE(SUBSTITUTE(SUBSTITUTE(SUBSTITUTE(SUBSTITUTE(SUBSTITUTE(D129,"İKTİSADİ VE İDARİ BİLİMLER FAKÜLTESİ","İİBF"),"ORGANİZE SANAYİ BÖLGESİ","OSB"),"MESLEK YÜKSEKOKULU","MYO"),"UYGULAMALI BİLİMLER","UB"),"FAKÜLTESİ","FAK."),"YÜKSEKOKULU","YO")) -> İLAHİYAT FAK. | AU129: 143
A130: =IF(AND(DATA!A131<>"",TRIM(DATA!D131)<>""),1,0) -> 1 | B130: =IF(A130=1,DATA!A131,"") -> 102710906 | C130: =IF(A130=1,TRIM(DATA!B131),"") -> LİSANS | D130: =IF(A130=1,TRIM(DATA!C131),"") -> İLETİŞİM FAKÜLTESİ | E130: =IF(A130=1,TRIM(DATA!D131),"") -> Gazetecilik | F130: =IF(A130=1,IF(ISNUMBER(SEARCH("KKTC Uyruklu",E130)),"EVET","HAYIR"),"") -> HAYIR | G130: =A130*N(DATA!E131) -> 1 | H130: =A130*N(DATA!F131) -> 1 | I130: =A130*N(DATA!G131) -> 0 | J130: =A130*N(DATA!H131) -> 0 | K130: =G130+I130 -> 1 | L130: =H130+J130 -> 1 | M130: =MAX(0,K130-L130) -> 0 | N130: =A130*IF(F130="EVET",--prm_KKTC,1)*OR(prm_Duzey="Tümü",C130=prm_Duzey)*OR(prm_Fak="Tümü",D130=prm_Fak)*OR(prm_Prog="Tümü",E130=prm_Prog) -> 1 | O130: =N130*(K130>0)*(L130>=K130) -> 1 | P130: =N130*(K130>0)*(L130=0) -> 0 | Q130: =N130*(F130="EVET") -> 0 | R130: =IF(D130="","",SUBSTITUTE(SUBSTITUTE(SUBSTITUTE(SUBSTITUTE(SUBSTITUTE(SUBSTITUTE(D130,"İKTİSADİ VE İDARİ BİLİMLER FAKÜLTESİ","İİBF"),"ORGANİZE SANAYİ BÖLGESİ","OSB"),"MESLEK YÜKSEKOKULU","MYO"),"UYGULAMALI BİLİMLER","UB"),"FAKÜLTESİ","FAK."),"YÜKSEKOKULU","YO")) -> İLETİŞİM FAK. | AU130: 144
... A147: =IF(AND(DATA!A148<>"",TRIM(DATA!D148)<>""),1,0) -> 1 | B147: =IF(A147=1,DATA!A148,"") -> 102790343 | C147: =IF(A147=1,TRIM(DATA!B148),"") -> LİSANS | D147: =IF(A147=1,TRIM(DATA!C148),"") -> SİYASAL BİLGİLER FAKÜLTESİ | E147: =IF(A147=1,TRIM(DATA!D148),"") -> İşletme (İngilizce) | F147: =IF(A147=1,IF(ISNUMBER(SEARCH("KKTC Uyruklu",E147)),"EVET","HAYIR"),"") -> HAYIR | G147: =A147*N(DATA!E148) -> 1 | H147: =A147*N(DATA!F148) -> 0 | I147: =A147*N(DATA!G148) -> 1 | J147: =A147*N(DATA!H148) -> 0 | K147: =G147+I147 -> 2 | L147: =H147+J147 -> 0 | M147: =MAX(0,K147-L147) -> 2 | N147: =A147*IF(F147="EVET",--prm_KKTC,1)*OR(prm_Duzey="Tümü",C147=prm_Duzey)*OR(prm_Fak="Tümü",D147=prm_Fak)*OR(prm_Prog="Tümü",E147=prm_Prog) -> 1 | O147: =N147*(K147>0)*(L147>=K147) -> 0 | P147: =N147*(K147>0)*(L147=0) -> 1 | Q147: =N147*(F147="EVET") -> 0 | R147: =IF(D147="","",SUBSTITUTE(SUBSTITUTE(SUBSTITUTE(SUBSTITUTE(SUBSTITUTE(SUBSTITUTE(D147,"İKTİSADİ VE İDARİ BİLİMLER FAKÜLTESİ","İİBF"),"ORGANİZE SANAYİ BÖLGESİ","OSB"),"MESLEK YÜKSEKOKULU","MYO"),"UYGULAMALI BİLİMLER","UB"),"FAKÜLTESİ","FAK."),"YÜKSEKOKULU","YO")) -> SİYASAL BİLGİLER FAK. | AU147: 154
A148: =IF(AND(DATA!A149<>"",TRIM(DATA!D149)<>""),1,0) -> 1 | B148: =IF(A148=1,DATA!A149,"") -> 102710748 | C148: =IF(A148=1,TRIM(DATA!B149),"") -> LİSANS | D148: =IF(A148=1,TRIM(DATA!C149),"") -> SİYASAL BİLGİLER FAKÜLTESİ | E148: =IF(A148=1,TRIM(DATA!D149),"") -> Siyaset Bilimi ve Kamu Yönetimi | F148: =IF(A148=1,IF(ISNUMBER(SEARCH("KKTC Uyruklu",E148)),"EVET","HAYIR"),"") -> HAYIR | G148: =A148*N(DATA!E149) -> 4 | H148: =A148*N(DATA!F149) -> 1 | I148: =A148*N(DATA!G149) -> 0 | J148: =A148*N(DATA!H149) -> 0 | K148: =G148+I148 -> 4 | L148: =H148+J148 -> 1 | M148: =MAX(0,K148-L148) -> 3 | N148: =A148*IF(F148="EVET",--prm_KKTC,1)*OR(prm_Duzey="Tümü",C148=prm_Duzey)*OR(prm_Fak="Tümü",D148=prm_Fak)*OR(prm_Prog="Tümü",E148=prm_Prog) -> 1 | O148: =N148*(K148>0)*(L148>=K148) -> 0 | P148: =N148*(K148>0)*(L148=0) -> 0 | Q148: =N148*(F148="EVET") -> 0 | R148: =IF(D148="","",SUBSTITUTE(SUBSTITUTE(SUBSTITUTE(SUBSTITUTE(SUBSTITUTE(SUBSTITUTE(D148,"İKTİSADİ VE İDARİ BİLİMLER FAKÜLTESİ","İİBF"),"ORGANİZE SANAYİ BÖLGESİ","OSB"),"MESLEK YÜKSEKOKULU","MYO"),"UYGULAMALI BİLİMLER","UB"),"FAKÜLTESİ","FAK."),"YÜKSEKOKULU","YO")) -> SİYASAL BİLGİLER FAK.
A149: =IF(AND(DATA!A150<>"",TRIM(DATA!D150)<>""),1,0) -> 1 | B149: =IF(A149=1,DATA!A150,"") -> 102790175 | C149: =IF(A149=1,TRIM(DATA!B150),"") -> LİSANS | D149: =IF(A149=1,TRIM(DATA!C150),"") -> SİYASAL BİLGİLER FAKÜLTESİ | E149: =IF(A149=1,TRIM(DATA!D150),"") -> Uluslararası İlişkiler (İngilizce) | F149: =IF(A149=1,IF(ISNUMBER(SEARCH("KKTC Uyruklu",E149)),"EVET","HAYIR"),"") -> HAYIR | G149: =A149*N(DATA!E150) -> 1 | H149: =A149*N(DATA!F150) -> 1 | I149: =A149*N(DATA!G150) -> 0 | J149: =A149*N(DATA!H150) -> 0 | K149: =G149+I149 -> 1 | L149: =H149+J149 -> 1 | M149: =MAX(0,K149-L149) -> 0 | N149: =A149*IF(F149="EVET",--prm_KKTC,1)*OR(prm_Duzey="Tümü",C149=prm_Duzey)*OR(prm_Fak="Tümü",D149=prm_Fak)*OR(prm_Prog="Tümü",E149=prm_Prog) -> 1 | O149: =N149*(K149>0)*(L149>=K149) -> 1 | P149: =N149*(K149>0)*(L149=0) -> 0 | Q149: =N149*(F149="EVET") -> 0 | R149: =IF(D149="","",SUBSTITUTE(SUBSTITUTE(SUBSTITUTE(SUBSTITUTE(SUBSTITUTE(SUBSTITUTE(D149,"İKTİSADİ VE İDARİ BİLİMLER FAKÜLTESİ","İİBF"),"ORGANİZE SANAYİ BÖLGESİ","OSB"),"MESLEK YÜKSEKOKULU","MYO"),"UYGULAMALI BİLİMLER","UB"),"FAKÜLTESİ","FAK."),"YÜKSEKOKULU","YO")) -> SİYASAL BİLGİLER FAK.
A150: =IF(AND(DATA!A151<>"",TRIM(DATA!D151)<>""),1,0) -> 1 | B150: =IF(A150=1,DATA!A151,"") -> 102790178 | C150: =IF(A150=1,TRIM(DATA!B151),"") -> LİSANS | D150: =IF(A150=1,TRIM(DATA!C151),"") -> TURİZM FAKÜLTESİ | E150: =IF(A150=1,TRIM(DATA!D151),"") -> Gastronomi ve Mutfak Sanatları | F150: =IF(A150=1,IF(ISNUMBER(SEARCH("KKTC Uyruklu",E150)),"EVET","HAYIR"),"") -> HAYIR | G150: =A150*N(DATA!E151) -> 3 | H150: =A150*N(DATA!F151) -> 0 | I150: =A150*N(DATA!G151) -> 1 | J150: =A150*N(DATA!H151) -> 1 | K150: =G150+I150 -> 4 | L150: =H150+J150 -> 1 | M150: =MAX(0,K150-L150) -> 3 | N150: =A150*IF(F150="EVET",--prm_KKTC,1)*OR(prm_Duzey="Tümü",C150=prm_Duzey)*OR(prm_Fak="Tümü",D150=prm_Fak)*OR(prm_Prog="Tümü",E150=prm_Prog) -> 1 | O150: =N150*(K150>0)*(L150>=K150) -> 0 | P150: =N150*(K150>0)*(L150=0) -> 0 | Q150: =N150*(F150="EVET") -> 0 | R150: =IF(D150="","",SUBSTITUTE(SUBSTITUTE(SUBSTITUTE(SUBSTITUTE(SUBSTITUTE(SUBSTITUTE(D150,"İKTİSADİ VE İDARİ BİLİMLER FAKÜLTESİ","İİBF"),"ORGANİZE SANAYİ BÖLGESİ","OSB"),"MESLEK YÜKSEKOKULU","MYO"),"UYGULAMALI BİLİMLER","UB"),"FAKÜLTESİ","FAK."),"YÜKSEKOKULU","YO")) -> TURİZM FAK.
A151: =IF(AND(DATA!A152<>"",TRIM(DATA!D152)<>""),1,0) -> 1 | B151: =IF(A151=1,DATA!A152,"") -> 102710739 | C151: =IF(A151=1,TRIM(DATA!B152),"") -> LİSANS | D151: =IF(A151=1,TRIM(DATA!C152),"") -> TURİZM FAKÜLTESİ | E151: =IF(A151=1,TRIM(DATA!D152),"") -> Seyahat İşletmeciliği ve Turizm Rehberliği | F151: =IF(A151=1,IF(ISNUMBER(SEARCH("KKTC Uyruklu",E151)),"EVET","HAYIR"),"") -> HAYIR | G151: =A151*N(DATA!E152) -> 2 | H151: =A151*N(DATA!F152) -> 2 | I151: =A151*N(DATA!G152) -> 1 | J151: =A151*N(DATA!H152) -> 1 | K151: =G151+I151 -> 3 | L151: =H151+J151 -> 3 | M151: =MAX(0,K151-L151) -> 0 | N151: =A151*IF(F151="EVET",--prm_KKTC,1)*OR(prm_Duzey="Tümü",C151=prm_Duzey)*OR(prm_Fak="Tümü",D151=prm_Fak)*OR(prm_Prog="Tümü",E151=prm_Prog) -> 1 | O151: =N151*(K151>0)*(L151>=K151) -> 1 | P151: =N151*(K151>0)*(L151=0) -> 0 | Q151: =N151*(F151="EVET") -> 0 | R151: =IF(D151="","",SUBSTITUTE(SUBSTITUTE(SUBSTITUTE(SUBSTITUTE(SUBSTITUTE(SUBSTITUTE(D151,"İKTİSADİ VE İDARİ BİLİMLER FAKÜLTESİ","İİBF"),"ORGANİZE SANAYİ BÖLGESİ","OSB"),"MESLEK YÜKSEKOKULU","MYO"),"UYGULAMALI BİLİMLER","UB"),"FAKÜLTESİ","FAK."),"YÜKSEKOKULU","YO")) -> TURİZM FAK.
A152: =IF(AND(DATA!A153<>"",TRIM(DATA!D153)<>""),1,0) -> 1 | B152: =IF(A152=1,DATA!A153,"") -> 102710545 | C152: =IF(A152=1,TRIM(DATA!B153),"") -> LİSANS | D152: =IF(A152=1,TRIM(DATA!C153),"") -> ZİRAAT FAKÜLTESİ | E152: =IF(A152=1,TRIM(DATA!D153),"") -> Tarım Ekonomisi | F152: =IF(A152=1,IF(ISNUMBER(SEARCH("KKTC Uyruklu",E152)),"EVET","HAYIR"),"") -> HAYIR | G152: =A152*N(DATA!E153) -> 1 | H152: =A152*N(DATA!F153) -> 1 | I152: =A152*N(DATA!G153) -> 0 | J152: =A152*N(DATA!H153) -> 0 | K152: =G152+I152 -> 1 | L152: =H152+J152 -> 1 | M152: =MAX(0,K152-L152) -> 0 | N152: =A152*IF(F152="EVET",--prm_KKTC,1)*OR(prm_Duzey="Tümü",C152=prm_Duzey)*OR(prm_Fak="Tümü",D152=prm_Fak)*OR(prm_Prog="Tümü",E152=prm_Prog) -> 1 | O152: =N152*(K152>0)*(L152>=K152) -> 1 | P152: =N152*(K152>0)*(L152=0) -> 0 | Q152: =N152*(F152="EVET") -> 0 | R152: =IF(D152="","",SUBSTITUTE(SUBSTITUTE(SUBSTITUTE(SUBSTITUTE(SUBSTITUTE(SUBSTITUTE(D152,"İKTİSADİ VE İDARİ BİLİMLER FAKÜLTESİ","İİBF"),"ORGANİZE SANAYİ BÖLGESİ","OSB"),"MESLEK YÜKSEKOKULU","MYO"),"UYGULAMALI BİLİMLER","UB"),"FAKÜLTESİ","FAK."),"YÜKSEKOKULU","YO")) -> ZİRAAT FAK.
A153: =IF(AND(DATA!A154<>"",TRIM(DATA!D154)<>""),1,0) -> 1 | B153: =IF(A153=1,DATA!A154,"") -> 102790245 | C153: =IF(A153=1,TRIM(DATA!B154),"") -> LİSANS | D153: =IF(A153=1,TRIM(DATA!C154),"") -> ZİRAAT FAKÜLTESİ | E153: =IF(A153=1,TRIM(DATA!D154),"") -> Tarımsal Yapılar ve Sulama | F153: =IF(A153=1,IF(ISNUMBER(SEARCH("KKTC Uyruklu",E153)),"EVET","HAYIR"),"") -> HAYIR | G153: =A153*N(DATA!E154) -> 1 | H153: =A153*N(DATA!F154) -> 1 | I153: =A153*N(DATA!G154) -> 0 | J153: =A153*N(DATA!H154) -> 0 | K153: =G153+I153 -> 1 | L153: =H153+J153 -> 1 | M153: =MAX(0,K153-L153) -> 0 | N153: =A153*IF(F153="EVET",--prm_KKTC,1)*OR(prm_Duzey="Tümü",C153=prm_Duzey)*OR(prm_Fak="Tümü",D153=prm_Fak)*OR(prm_Prog="Tümü",E153=prm_Prog) -> 1 | O153: =N153*(K153>0)*(L153>=K153) -> 1 | P153: =N153*(K153>0)*(L153=0) -> 0 | Q153: =N153*(F153="EVET") -> 0 | R153: =IF(D153="","",SUBSTITUTE(SUBSTITUTE(SUBSTITUTE(SUBSTITUTE(SUBSTITUTE(SUBSTITUTE(D153,"İKTİSADİ VE İDARİ BİLİMLER FAKÜLTESİ","İİBF"),"ORGANİZE SANAYİ BÖLGESİ","OSB"),"MESLEK YÜKSEKOKULU","MYO"),"UYGULAMALI BİLİMLER","UB"),"FAKÜLTESİ","FAK."),"YÜKSEKOKULU","YO")) -> ZİRAAT FAK.
A154: =IF(AND(DATA!A155<>"",TRIM(DATA!D155)<>""),1,0) -> 1 | B154: =IF(A154=1,DATA!A155,"") -> 102710563 | C154: =IF(A154=1,TRIM(DATA!B155),"") -> LİSANS | D154: =IF(A154=1,TRIM(DATA!C155),"") -> ZİRAAT FAKÜLTESİ | E154: =IF(A154=1,TRIM(DATA!D155),"") -> Tarla Bitkileri | F154: =IF(A154=1,IF(ISNUMBER(SEARCH("KKTC Uyruklu",E154)),"EVET","HAYIR"),"") -> HAYIR | G154: =A154*N(DATA!E155) -> 1 | H154: =A154*N(DATA!F155) -> 1 | I154: =A154*N(DATA!G155) -> 0 | J154: =A154*N(DATA!H155) -> 0 | K154: =G154+I154 -> 1 | L154: =H154+J154 -> 1 | M154: =MAX(0,K154-L154) -> 0 | N154: =A154*IF(F154="EVET",--prm_KKTC,1)*OR(prm_Duzey="Tümü",C154=prm_Duzey)*OR(prm_Fak="Tümü",D154=prm_Fak)*OR(prm_Prog="Tümü",E154=prm_Prog) -> 1 | O154: =N154*(K154>0)*(L154>=K154) -> 1 | P154: =N154*(K154>0)*(L154=0) -> 0 | Q154: =N154*(F154="EVET") -> 0 | R154: =IF(D154="","",SUBSTITUTE(SUBSTITUTE(SUBSTITUTE(SUBSTITUTE(SUBSTITUTE(SUBSTITUTE(D154,"İKTİSADİ VE İDARİ BİLİMLER FAKÜLTESİ","İİBF"),"ORGANİZE SANAYİ BÖLGESİ","OSB"),"MESLEK YÜKSEKOKULU","MYO"),"UYGULAMALI BİLİMLER","UB"),"FAKÜLTESİ","FAK."),"YÜKSEKOKULU","YO")) -> ZİRAAT FAK.
A155: =IF(AND(DATA!A156<>"",TRIM(DATA!D156)<>""),1,0) -> 1 | B155: =IF(A155=1,DATA!A156,"") -> 102710581 | C155: =IF(A155=1,TRIM(DATA!B156),"") -> LİSANS | D155: =IF(A155=1,TRIM(DATA!C156),"") -> ZİRAAT FAKÜLTESİ | E155: =IF(A155=1,TRIM(DATA!D156),"") -> Zootekni | F155: =IF(A155=1,IF(ISNUMBER(SEARCH("KKTC Uyruklu",E155)),"EVET","HAYIR"),"") -> HAYIR | G155: =A155*N(DATA!E156) -> 1 | H155: =A155*N(DATA!F156) -> 1 | I155: =A155*N(DATA!G156) -> 0 | J155: =A155*N(DATA!H156) -> 0 | K155: =G155+I155 -> 1 | L155: =H155+J155 -> 1 | M155: =MAX(0,K155-L155) -> 0 | N155: =A155*IF(F155="EVET",--prm_KKTC,1)*OR(prm_Duzey="Tümü",C155=prm_Duzey)*OR(prm_Fak="Tümü",D155=prm_Fak)*OR(prm_Prog="Tümü",E155=prm_Prog) -> 1 | O155: =N155*(K155>0)*(L155>=K155) -> 1 | P155: =N155*(K155>0)*(L155=0) -> 0 | Q155: =N155*(F155="EVET") -> 0 | R155: =IF(D155="","",SUBSTITUTE(SUBSTITUTE(SUBSTITUTE(SUBSTITUTE(SUBSTITUTE(SUBSTITUTE(D155,"İKTİSADİ VE İDARİ BİLİMLER FAKÜLTESİ","İİBF"),"ORGANİZE SANAYİ BÖLGESİ","OSB"),"MESLEK YÜKSEKOKULU","MYO"),"UYGULAMALI BİLİMLER","UB"),"FAKÜLTESİ","FAK."),"YÜKSEKOKULU","YO")) -> ZİRAAT FAK.
A156: =IF(AND(DATA!A157<>"",TRIM(DATA!D157)<>""),1,0) -> 0 | B156: =IF(A156=1,DATA!A157,"") | C156: =IF(A156=1,TRIM(DATA!B157),"") | D156: =IF(A156=1,TRIM(DATA!C157),"") | E156: =IF(A156=1,TRIM(DATA!D157),"") | F156: =IF(A156=1,IF(ISNUMBER(SEARCH("KKTC Uyruklu",E156)),"EVET","HAYIR"),"") | G156: =A156*N(DATA!E157) -> 0 | H156: =A156*N(DATA!F157) -> 0 | I156: =A156*N(DATA!G157) -> 0 | J156: =A156*N(DATA!H157) -> 0 | K156: =G156+I156 -> 0 | L156: =H156+J156 -> 0 | M156: =MAX(0,K156-L156) -> 0 | N156: =A156*IF(F156="EVET",--prm_KKTC,1)*OR(prm_Duzey="Tümü",C156=prm_Duzey)*OR(prm_Fak="Tümü",D156=prm_Fak)*OR(prm_Prog="Tümü",E156=prm_Prog) -> 0 | O156: =N156*(K156>0)*(L156>=K156) -> 0 | P156: =N156*(K156>0)*(L156=0) -> 0 | Q156: =N156*(F156="EVET") -> 0 | R156: =IF(D156="","",SUBSTITUTE(SUBSTITUTE(SUBSTITUTE(SUBSTITUTE(SUBSTITUTE(SUBSTITUTE(D156,"İKTİSADİ VE İDARİ BİLİMLER FAKÜLTESİ","İİBF"),"ORGANİZE SANAYİ BÖLGESİ","OSB"),"MESLEK YÜKSEKOKULU","MYO"),"UYGULAMALI BİLİMLER","UB"),"FAKÜLTESİ","FAK."),"YÜKSEKOKULU","YO"))
A157: =IF(AND(DATA!A158<>"",TRIM(DATA!D158)<>""),1,0) -> 0 | B157: =IF(A157=1,DATA!A158,"") | C157: =IF(A157=1,TRIM(DATA!B158),"") | D157: =IF(A157=1,TRIM(DATA!C158),"") | E157: =IF(A157=1,TRIM(DATA!D158),"") | F157: =IF(A157=1,IF(ISNUMBER(SEARCH("KKTC Uyruklu",E157)),"EVET","HAYIR"),"") | G157: =A157*N(DATA!E158) -> 0 | H157: =A157*N(DATA!F158) -> 0 | I157: =A157*N(DATA!G158) -> 0 | J157: =A157*N(DATA!H158) -> 0 | K157: =G157+I157 -> 0 | L157: =H157+J157 -> 0 | M157: =MAX(0,K157-L157) -> 0 | N157: =A157*IF(F157="EVET",--prm_KKTC,1)*OR(prm_Duzey="Tümü",C157=prm_Duzey)*OR(prm_Fak="Tümü",D157=prm_Fak)*OR(prm_Prog="Tümü",E157=prm_Prog) -> 0 | O157: =N157*(K157>0)*(L157>=K157) -> 0 | P157: =N157*(K157>0)*(L157=0) -> 0 | Q157: =N157*(F157="EVET") -> 0 | R157: =IF(D157="","",SUBSTITUTE(SUBSTITUTE(SUBSTITUTE(SUBSTITUTE(SUBSTITUTE(SUBSTITUTE(D157,"İKTİSADİ VE İDARİ BİLİMLER FAKÜLTESİ","İİBF"),"ORGANİZE SANAYİ BÖLGESİ","OSB"),"MESLEK YÜKSEKOKULU","MYO"),"UYGULAMALI BİLİMLER","UB"),"FAKÜLTESİ","FAK."),"YÜKSEKOKULU","YO"))
A158: =IF(AND(DATA!A159<>"",TRIM(DATA!D159)<>""),1,0) -> 0 | B158: =IF(A158=1,DATA!A159,"") | C158: =IF(A158=1,TRIM(DATA!B159),"") | D158: =IF(A158=1,TRIM(DATA!C159),"") | E158: =IF(A158=1,TRIM(DATA!D159),"") | F158: =IF(A158=1,IF(ISNUMBER(SEARCH("KKTC Uyruklu",E158)),"EVET","HAYIR"),"") | G158: =A158*N(DATA!E159) -> 0 | H158: =A158*N(DATA!F159) -> 0 | I158: =A158*N(DATA!G159) -> 0 | J158: =A158*N(DATA!H159) -> 0 | K158: =G158+I158 -> 0 | L158: =H158+J158 -> 0 | M158: =MAX(0,K158-L158) -> 0 | N158: =A158*IF(F158="EVET",--prm_KKTC,1)*OR(prm_Duzey="Tümü",C158=prm_Duzey)*OR(prm_Fak="Tümü",D158=prm_Fak)*OR(prm_Prog="Tümü",E158=prm_Prog) -> 0 | O158: =N158*(K158>0)*(L158>=K158) -> 0 | P158: =N158*(K158>0)*(L158=0) -> 0 | Q158: =N158*(F158="EVET") -> 0 | R158: =IF(D158="","",SUBSTITUTE(SUBSTITUTE(SUBSTITUTE(SUBSTITUTE(SUBSTITUTE(SUBSTITUTE(D158,"İKTİSADİ VE İDARİ BİLİMLER FAKÜLTESİ","İİBF"),"ORGANİZE SANAYİ BÖLGESİ","OSB"),"MESLEK YÜKSEKOKULU","MYO"),"UYGULAMALI BİLİMLER","UB"),"FAKÜLTESİ","FAK."),"YÜKSEKOKULU","YO"))
A159: =IF(AND(DATA!A160<>"",TRIM(DATA!D160)<>""),1,0) -> 0 | B159: =IF(A159=1,DATA!A160,"") | C159: =IF(A159=1,TRIM(DATA!B160),"") | D159: =IF(A159=1,TRIM(DATA!C160),"") | E159: =IF(A159=1,TRIM(DATA!D160),"") | F159: =IF(A159=1,IF(ISNUMBER(SEARCH("KKTC Uyruklu",E159)),"EVET","HAYIR"),"") | G159: =A159*N(DATA!E160) -> 0 | H159: =A159*N(DATA!F160) -> 0 | I159: =A159*N(DATA!G160) -> 0 | J159: =A159*N(DATA!H160) -> 0 | K159: =G159+I159 -> 0 | L159: =H159+J159 -> 0 | M159: =MAX(0,K159-L159) -> 0 | N159: =A159*IF(F159="EVET",--prm_KKTC,1)*OR(prm_Duzey="Tümü",C159=prm_Duzey)*OR(prm_Fak="Tümü",D159=prm_Fak)*OR(prm_Prog="Tümü",E159=prm_Prog) -> 0 | O159: =N159*(K159>0)*(L159>=K159) -> 0 | P159: =N159*(K159>0)*(L159=0) -> 0 | Q159: =N159*(F159="EVET") -> 0 | R159: =IF(D159="","",SUBSTITUTE(SUBSTITUTE(SUBSTITUTE(SUBSTITUTE(SUBSTITUTE(SUBSTITUTE(D159,"İKTİSADİ VE İDARİ BİLİMLER FAKÜLTESİ","İİBF"),"ORGANİZE SANAYİ BÖLGESİ","OSB"),"MESLEK YÜKSEKOKULU","MYO"),"UYGULAMALI BİLİMLER","UB"),"FAKÜLTESİ","FAK."),"YÜKSEKOKULU","YO"))
... A1001: =IF(AND(DATA!A1002<>"",TRIM(DATA!D1002)<>""),1,0) -> 0 | B1001: =IF(A1001=1,DATA!A1002,"") | C1001: =IF(A1001=1,TRIM(DATA!B1002),"") | D1001: =IF(A1001=1,TRIM(DATA!C1002),"") | E1001: =IF(A1001=1,TRIM(DATA!D1002),"") | F1001: =IF(A1001=1,IF(ISNUMBER(SEARCH("KKTC Uyruklu",E1001)),"EVET","HAYIR"),"") | G1001: =A1001*N(DATA!E1002) -> 0 | H1001: =A1001*N(DATA!F1002) -> 0 | I1001: =A1001*N(DATA!G1002) -> 0 | J1001: =A1001*N(DATA!H1002) -> 0 | K1001: =G1001+I1001 -> 0 | L1001: =H1001+J1001 -> 0 | M1001: =MAX(0,K1001-L1001) -> 0 | N1001: =A1001*IF(F1001="EVET",--prm_KKTC,1)*OR(prm_Duzey="Tümü",C1001=prm_Duzey)*OR(prm_Fak="Tümü",D1001=prm_Fak)*OR(prm_Prog="Tümü",E1001=prm_Prog) -> 0 | O1001: =N1001*(K1001>0)*(L1001>=K1001) -> 0 | P1001: =N1001*(K1001>0)*(L1001=0) -> 0 | Q1001: =N1001*(F1001="EVET") -> 0 | R1001: =IF(D1001="","",SUBSTITUTE(SUBSTITUTE(SUBSTITUTE(SUBSTITUTE(SUBSTITUTE(SUBSTITUTE(D1001,"İKTİSADİ VE İDARİ BİLİMLER FAKÜLTESİ","İİBF"),"ORGANİZE SANAYİ BÖLGESİ","OSB"),"MESLEK YÜKSEKOKULU","MYO"),"UYGULAMALI BİLİMLER","UB"),"FAKÜLTESİ","FAK."),"YÜKSEKOKULU","YO"))
